BEGIN:VCALENDAR
VERSION:2.0
PRODID:-//Teeviit - ECPv6.15.4//NONSGML v1.0//EN
CALSCALE:GREGORIAN
METHOD:PUBLISH
X-WR-CALNAME:Teeviit
X-ORIGINAL-URL:https://www.teeviit.ee
X-WR-CALDESC:Events for Teeviit
REFRESH-INTERVAL;VALUE=DURATION:PT1H
X-Robots-Tag:noindex
X-PUBLISHED-TTL:PT1H
BEGIN:VTIMEZONE
TZID:Europe/Tallinn
BEGIN:DAYLIGHT
TZOFFSETFROM:+0200
TZOFFSETTO:+0300
TZNAME:EEST
DTSTART:20240331T010000
END:DAYLIGHT
BEGIN:STANDARD
TZOFFSETFROM:+0300
TZOFFSETTO:+0200
TZNAME:EET
DTSTART:20241027T010000
END:STANDARD
END:VTIMEZONE
BEGIN:VEVENT
DTSTART;TZID=Europe/Tallinn:20241114T160000
DTEND;TZID=Europe/Tallinn:20241114T180000
DTSTAMP:20260419T222422
CREATED:20241105T121852Z
LAST-MODIFIED:20241113T152355Z
UID:43427-1731600000-1731607200@www.teeviit.ee
SUMMARY:LIVE veebisündmus "Erinevus rikastab"
DESCRIPTION:Kutsume noori osalema LIVE veebisündmusele “Erinevus rikastab”\, mis toimub 14. novembril kell 16:00–18:00.  \nLIVE’l jagavad inspireerivad noored oma kogemusi kultuuridevahelisest õppimisest\, kaasatusest ja enesearengust. \nSaatejuht: Arija Helmvee\nKülalised: Kaspar Wang\, Greta Orehhova\,  Yasmyn ja Sten Talivee. \nVaata LIVE saadet siin
URL:https://www.teeviit.ee/sundmus/live-veebisundmus-erinevus-rikastab/
CATEGORIES:veebikohtumine
ATTACH;FMTTYPE=image/png:https://www.teeviit.ee/wp-content/uploads/2024/11/banner-land-1.png
END:VEVENT
END:VCALENDAR