BEGIN:VCALENDAR
VERSION:2.0
PRODID:-//Teeviit - ECPv6.15.4//NONSGML v1.0//EN
CALSCALE:GREGORIAN
METHOD:PUBLISH
X-ORIGINAL-URL:https://www.teeviit.ee
X-WR-CALDESC:Events for Teeviit
REFRESH-INTERVAL;VALUE=DURATION:PT1H
X-Robots-Tag:noindex
X-PUBLISHED-TTL:PT1H
BEGIN:VTIMEZONE
TZID:Europe/Tallinn
BEGIN:DAYLIGHT
TZOFFSETFROM:+0200
TZOFFSETTO:+0300
TZNAME:EEST
DTSTART:20250330T010000
END:DAYLIGHT
BEGIN:STANDARD
TZOFFSETFROM:+0300
TZOFFSETTO:+0200
TZNAME:EET
DTSTART:20251026T010000
END:STANDARD
END:VTIMEZONE
BEGIN:VEVENT
DTSTART;VALUE=DATE:20250216
DTEND;VALUE=DATE:20250217
DTSTAMP:20260420T192230
CREATED:20250127T111210Z
LAST-MODIFIED:20250127T111210Z
UID:45539-1739664000-1739750399@www.teeviit.ee
SUMMARY:Erasmus+ ja Euroopa Solidaarsuskorpuse Agentuur otsib uusi noori liitumaks EuroPeers* võrgustikuga!
DESCRIPTION:Kui sa oled: \n\nNoor vanuses 13-30;\nSul on kasvõi ühe Erasmus+ ja/või Euroopa Solidaarsuskorpuse projekti kogemus\,\nSeiklushimuline\, motiveeritud\, hea tiimimängija\, ajaplaneerija ning algatusvõimeline\,\nValmis osalema võrgustikukohtumistel ja vahekohtumistel veebis\,\nValmis läbi viima iseseisvalt infotegevusi koostöös Eurodesk võrgustikuga.\n\nVõrgustikku valitutele on ette valmistatud: \n\nInfokanalid\, et olla ühises inforuumis teiste Europeers võrgustiku liikmetega.\nVõimalused osaleda nii eestisisestel kui rahvusvahelistel koolitustel.\nTööriistad\, kuidas Erasmus+ ja Euroopa Solidaarsuskorpuse programmide maailmas toimetada.\nVõrgustikutöös osalemine ning tegevused selle raames on osalejatele kaetud.\nNoortelt oodatakse aktiivset panustamist võrgustikutöösse ning omaalgatuslikke ja agentuuri kutsel infotegevuste läbiviimist.\n\nVõrgustikku kandideerimiseks täida ära see vorm ning pane teele hiljemalt 16. veebruariks. Osalema valitakse ankeedi alusel 15 noort ning otsusest informeeritakse valituid hiljemalt 19. veebruaril. On ootus\, et kui kandideerid\, oled valmis osalema võrgustikukohtumisel Pärnumaal 7-9. märtsil (lisainfo saadetakse sulle meilile hiljemalt 19. veebruaril). \nVõrgustikukohtumisel käsitleme järgmiseid teemasid: \n\nEuropeers võrgustik ABC ehk kõik vajalikud teadmised\, et võrgustikus toimetada\nKuidas viia ellu iseseisvalt infosündmuseid oma kogemuse jagamiseks?\nEurodesk võrgustik ja koostöö erinevate asutustega\nOma kogemuse jagamine veebipõhiselt\n\nVõrgustikukohtumine algab 7. märtsi õhtul ning lõpeb 9. märtsi lõunast. \nKogemust tunnustatakse noortepassiga\, mis peegeldab tegevustes osalemise aktiivsust\, kompetentside arendamist ning on hea lisa CVle. \n* EuroPeers on nende noorte rahvusvaheline võrgustik\, kes on osa võtnud Euroopa Solidaarsuskorpuse kohalikest ja/või rahvusvahelistest projektidest ning Erasmus+ rahvusvahelistest projektidest ja kes soovivad jagada oma kogemusi ja tutvustada rahvusvaheliste võimaluste maailma ka teistele. Võrgustik sai alguse Saksamaalt 2005. aastal ning kasvas rahvusvaheliseks koostööprojektiks 2014. aastal. Loe rohkem rahvusvahelise võrgustiku kohta SIIT! \nLisainfo: Laura Kiviselg\, laura.kiviselg@harno.ee
URL:https://www.teeviit.ee/sundmus/erasmus-ja-euroopa-solidaarsuskorpuse-agentuur-otsib-uusi-noori-liitumaks-europeers-vorgustikuga/
LOCATION:Veebis
CATEGORIES:Üleskutse
ATTACH;FMTTYPE=image/png:https://www.teeviit.ee/wp-content/uploads/2025/01/europeers-vorgustiku-kandideerimine-fb-6.png
END:VEVENT
END:VCALENDAR