BEGIN:VCALENDAR
VERSION:2.0
PRODID:-//Teeviit - ECPv6.15.4//NONSGML v1.0//EN
CALSCALE:GREGORIAN
METHOD:PUBLISH
X-WR-CALNAME:Teeviit
X-ORIGINAL-URL:https://www.teeviit.ee
X-WR-CALDESC:Events for Teeviit
REFRESH-INTERVAL;VALUE=DURATION:PT1H
X-Robots-Tag:noindex
X-PUBLISHED-TTL:PT1H
BEGIN:VTIMEZONE
TZID:Europe/Helsinki
BEGIN:DAYLIGHT
TZOFFSETFROM:+0200
TZOFFSETTO:+0300
TZNAME:EEST
DTSTART:20230326T010000
END:DAYLIGHT
BEGIN:STANDARD
TZOFFSETFROM:+0300
TZOFFSETTO:+0200
TZNAME:EET
DTSTART:20231029T010000
END:STANDARD
END:VTIMEZONE
BEGIN:VEVENT
DTSTART;VALUE=DATE:20230801
DTEND;VALUE=DATE:20230813
DTSTAMP:20260422T013152
CREATED:20230713T122507Z
LAST-MODIFIED:20230713T122507Z
UID:27403-1690848000-1691884799@www.teeviit.ee
SUMMARY:Rahvusvaheline noortepäev #proovimidagiuut
DESCRIPTION:Noorteinfoportaal Teeviit kutsub noori\, noorte- ja haridusasutusi ning spetsialiste võtma aktiivselt osa rahvusvahelise noortepäeva tähistamisest! Sel aastal oleme sidunud päeva teema käesoleva Liikumisaastaga ning kutsume kõiki proovima midagi uut! \nÜleskutse eesmärk on julgustada noori liikuma ja avastama uusi tervist edendavaid tegevusi ning alasid\, et tunda rõõmu igapäevasest liikumisest. Nii mõnegi noore jaoks seostub liikumine ja sport eeskätt profitasemel treeningu või võistlusega\, kuid see ei pea nii olema! Igasugune liikumine\, tervisesport ning tegevused värskes õhus toetavad füüsilist ja vaimset tervist.   \nÜleskutse periood on 01.-12.08.2023. \nTäpsem info avaldatakse peagi noorteinfoportaalis Teeviit. \n  \n12. august tähistatakse kogu maailmas rahvusvahelist noortepäeva\, mille eesmärgiks on pöörata ühiskonnas tähelepanu noorte vajadustele ja võimalustele. \nNoortepäeva on tähistatud alates 1991. aastast ning selle eestvedaja on UNESCO (Ühinenud Rahvaste Hariduse\, Teaduse ja Kultuuri Organisatsioon)\, mis töötab ÜRO (Ühinenud Rahvaste Organisatsioon).  
URL:https://www.teeviit.ee/sundmus/rahvusvaheline-noortepaev-proovimidagiuut/
CATEGORIES:Üleskutse
ORGANIZER;CN="Noorteinfoportaal Teeviit":MAILTO:www.teeviit.ee
END:VEVENT
END:VCALENDAR