BEGIN:VCALENDAR
VERSION:2.0
PRODID:-//Teeviit - ECPv6.15.4//NONSGML v1.0//EN
CALSCALE:GREGORIAN
METHOD:PUBLISH
X-ORIGINAL-URL:https://www.teeviit.ee
X-WR-CALDESC:Events for Teeviit
REFRESH-INTERVAL;VALUE=DURATION:PT1H
X-Robots-Tag:noindex
X-PUBLISHED-TTL:PT1H
BEGIN:VTIMEZONE
TZID:Europe/Helsinki
BEGIN:DAYLIGHT
TZOFFSETFROM:+0200
TZOFFSETTO:+0300
TZNAME:EEST
DTSTART:20230326T010000
END:DAYLIGHT
BEGIN:STANDARD
TZOFFSETFROM:+0300
TZOFFSETTO:+0200
TZNAME:EET
DTSTART:20231029T010000
END:STANDARD
END:VTIMEZONE
BEGIN:VEVENT
DTSTART;VALUE=DATE:20230916
DTEND;VALUE=DATE:20230917
DTSTAMP:20260421T213728
CREATED:20230912T040458Z
LAST-MODIFIED:20230912T040458Z
UID:29655-1694822400-1694908799@www.teeviit.ee
SUMMARY:Maailmakoristuspäev
DESCRIPTION:TULE MAAILMAKORISTUSPÄEVAL 16. SEPTEMBRIL KORISTAMA \nKui sulle on hakanud juba tunduma\, et Eestimaa on puhtaks saanud\, siis päris nii see siiski pole – Eestis on vee palju prügistatud paiku ja loodust. Eriti rohkesti leidub meil väikeprügi ja suitsukonisid\, aga ka muid pakendeid ja plastesemeid. Maailmakoristuspäeva eesmärk tänavu suvel ja sügisel on juhtida veelgi enam tähelepanu Läänemere tervislikule seisundile ning tõsta inimeste teadlikkust sellest\, et tegemist on ühe saastunuma merega maailmas. Samuti kutsume inimesi üles märkama prügiprobleemi kalmistutel – ühekordne plastist kalmuküünal muutub kalli inimese haual loetud tundidega prügiks. Mida rohkem ühekordseid küünlatopse korraga hauale viia\, seda suurem hulk prügi kalmul pärast ka vedeleb. \nNii et läheme talgutele üheskoos – klassi\, töökaaslaste\, pere või sõpradega! Valime koristuspaigaks meile armsad rannad\, metsad\, pargid\, veekogud\, kalmistud ja linnatänavad ning korjame üles kõik\, mis loodusesse ei kuulu. \nLisainfo ja registreerumine: https://maailmakoristus.ee/
URL:https://www.teeviit.ee/sundmus/maailmakoristuspaev/
CATEGORIES:Üleskutse
ATTACH;FMTTYPE=image/jpeg:https://www.teeviit.ee/wp-content/uploads/2023/09/fb_web_cover_2_mk_2023.jpg
END:VEVENT
END:VCALENDAR