BEGIN:VCALENDAR
VERSION:2.0
PRODID:-//Teeviit - ECPv6.15.4//NONSGML v1.0//EN
CALSCALE:GREGORIAN
METHOD:PUBLISH
X-WR-CALNAME:Teeviit
X-ORIGINAL-URL:https://www.teeviit.ee
X-WR-CALDESC:Events for Teeviit
REFRESH-INTERVAL;VALUE=DURATION:PT1H
X-Robots-Tag:noindex
X-PUBLISHED-TTL:PT1H
BEGIN:VTIMEZONE
TZID:Europe/Tallinn
BEGIN:DAYLIGHT
TZOFFSETFROM:+0200
TZOFFSETTO:+0300
TZNAME:EEST
DTSTART:20260329T010000
END:DAYLIGHT
BEGIN:STANDARD
TZOFFSETFROM:+0300
TZOFFSETTO:+0200
TZNAME:EET
DTSTART:20261025T010000
END:STANDARD
END:VTIMEZONE
BEGIN:VEVENT
DTSTART;VALUE=DATE:20260320
DTEND;VALUE=DATE:20260322
DTSTAMP:20260424T161143
CREATED:20260309T162440Z
LAST-MODIFIED:20260309T162706Z
UID:59218-1773964800-1774137599@www.teeviit.ee
SUMMARY:Noore vaataja teatri päev
DESCRIPTION:Noored on kutsutud teatrisse vaatama ja oma mõtteid jagama: \n\nsooduspiletid etendustele\navatud proovid\ntöötoad\nteatriringkäigud\nvestlusringid\nja palju muud\n\nVaata infot ja täpset programmi Tallinnas\, Tartus\, Viljandis\, Rakveres ja Pärnus www.noorevaataja.info või Instagramist @noored_vaatajad või www.tiktok.com/@noored_vaatajad \nTegevused toimuvad teatrites üle Eesti Eesti Draamateater\, Eesti Tantsuagentuur\, Ekspeditsioon\, elektron.art\, Improteater IMPEERIUM\, Kanuti Gildi SAAL\, Kellerteater\, Noorsooteater\, Piip ja Tuut Teater\, Tallinna Linnateater\, Rahvusooper Estonia\, Sõltumatu Tantsu Lava\, Südalinna Teater\, Theatrum\, VAT Teater\, Von Krahli Teater\, Must Kast\, Tartu Uus Teater\, Rahvusteater Vanemuine\, TEMUFI\, Ugala Teater\, Rakvere Teater\, Endla Teater\, Kuressaare Teater\, Vaba Lava Narva\, Teater Nuutrum \nTule teatrisse\, mõtle kaasa ja anna oma hääl noori kõnetavale tuleviku teatrile!
URL:https://www.teeviit.ee/sundmus/noore-vaataja-teatri-paev/
CATEGORIES:teemapäev
ATTACH;FMTTYPE=image/jpeg:https://www.teeviit.ee/wp-content/uploads/2026/03/noore_teatri_vaataja_paev_1920x768_2.jpg
END:VEVENT
BEGIN:VEVENT
DTSTART;VALUE=DATE:20260509
DTEND;VALUE=DATE:20260510
DTSTAMP:20260424T161143
CREATED:20260420T140018Z
LAST-MODIFIED:20260420T140018Z
UID:59921-1778284800-1778371199@www.teeviit.ee
SUMMARY:Euroopa päev
DESCRIPTION:Igal aastal 9. mail tähistatakse Euroopa päeval rahu ja ühtsust Euroopas. Sellel kuupäeval on ajaloolise Schumani deklaratsiooni aastapäev. 1950. aastal Pariisis peetud kõnes esitas Prantsusmaa välisminister Robert Schuman oma idee uut liiki poliitilise koostöö kohta Euroopas\, mis muudaks sõja Euroopa rahvaste vahel mõeldamatuks. \nTa nägi ette Euroopa institutsiooni loomise\, mis ühendaks\nsöe- ja terasetootmise ning juhiks seda. Vähem kui aasta pärast allkirjastatigi sellise organisatsiooni loomise leping. Schumani ettepanekut peetakse praeguse Euroopa Liidu alguseks. \nEuroopa päeva tähistatakse üle terve Eesti! \n 
URL:https://www.teeviit.ee/sundmus/euroopa-paev/
LOCATION:Üle-eestiline
CATEGORIES:teemapäev,Sündmus
ATTACH;FMTTYPE=image/png:https://www.teeviit.ee/wp-content/uploads/2026/04/kuvatommis-2026-04-20-165920.png
END:VEVENT
END:VCALENDAR