BEGIN:VCALENDAR
VERSION:2.0
PRODID:-//Teeviit - ECPv6.15.4//NONSGML v1.0//EN
CALSCALE:GREGORIAN
METHOD:PUBLISH
X-ORIGINAL-URL:https://www.teeviit.ee
X-WR-CALDESC:Events for Teeviit
REFRESH-INTERVAL;VALUE=DURATION:PT1H
X-Robots-Tag:noindex
X-PUBLISHED-TTL:PT1H
BEGIN:VTIMEZONE
TZID:Europe/Tallinn
BEGIN:DAYLIGHT
TZOFFSETFROM:+0200
TZOFFSETTO:+0300
TZNAME:EEST
DTSTART:20240331T010000
END:DAYLIGHT
BEGIN:STANDARD
TZOFFSETFROM:+0300
TZOFFSETTO:+0200
TZNAME:EET
DTSTART:20241027T010000
END:STANDARD
END:VTIMEZONE
BEGIN:VTIMEZONE
TZID:Europe/Helsinki
BEGIN:DAYLIGHT
TZOFFSETFROM:+0200
TZOFFSETTO:+0300
TZNAME:EEST
DTSTART:20230326T010000
END:DAYLIGHT
BEGIN:STANDARD
TZOFFSETFROM:+0300
TZOFFSETTO:+0200
TZNAME:EET
DTSTART:20231029T010000
END:STANDARD
END:VTIMEZONE
BEGIN:VEVENT
DTSTART;VALUE=DATE:20241111
DTEND;VALUE=DATE:20241118
DTSTAMP:20260419T161943
CREATED:20241105T120608Z
LAST-MODIFIED:20241105T120608Z
UID:43424-1731283200-1731887999@www.teeviit.ee
SUMMARY:Üle-eestiline noorsootöö nädal
DESCRIPTION:Üle-eestiline noorsootöö nädal “Erinevus rikastab” toimub 11.-17.11.2024. Sel aastal on nädala fookuses teema\, mis puudutab meid kõiki – kultuuririkkuse ja mitmekesisuse väärtustamine. \nHaridus- ja Noorteamet kutsub teid üheskoos noorsootöö nädalat tähistama! Seda saad teha nii: \n\nKorralda nädala raames sündmus ja registreeri see noorsootöö nädala portaali sündmuste kalendris.\nTunnusta noortega töötavat spetsialisti noorsootöö nädala portaalis asuval digitaalsel tunnustustahvlil.\nVaheta oma osaluskogu või noorteühenduse Facebooki kaanepildi ja anna sellega hoogu noorsootöö nädala tegevustele. Kaanepilt on saadaval eesti keeles siin ja vene keeles siin.\nVaata ägedat noorte LIVE-saadet „Erinevus rikastab!“\, mis toimub 14.11.2024 kell 16.00–18.00.
URL:https://www.teeviit.ee/sundmus/ule-eestiline-noorsootoo-nadal-2/
CATEGORIES:teemanädal
ATTACH;FMTTYPE=image/png:https://www.teeviit.ee/wp-content/uploads/2024/11/nt_nadal_pohikujundus.png
END:VEVENT
BEGIN:VEVENT
DTSTART;VALUE=DATE:20231113
DTEND;VALUE=DATE:20231120
DTSTAMP:20260419T161943
CREATED:20230524T103856Z
LAST-MODIFIED:20230830T105150Z
UID:25220-1699833600-1700438399@www.teeviit.ee
SUMMARY:Üle-eestiline noorsootöö nädal
DESCRIPTION:Noorsootöö nädala fookusesse on sel aastal võetud noorte keskkonnateadlikkuse edendamine. \nKeskendutakse keskkonnasõbralikule eluviisile\, kliimamuutuste leevendamise võimalustele\, jätkusuutlike lahenduste tutvustamisele ning sellele kuidas noorte- ja haridusvaldkonnas toetada kestlikku arengut. Nädala tähistamine toimub sel aastal 13. korda ja leiab aset 13.- 19. novembril 2023. \nNoorteinfoportaal Teeviit ja Haridus- ja Noorteamet kutsuvad noori\, noorte- ja haridusvaldkonna töötajaid ning -asutusi\, partnereid\, otsustajaid ning teisi osapooli fookusteemadel arutlema ning temaatilisi tegevusi korraldama.
URL:https://www.teeviit.ee/sundmus/ule-eestiline-noorsootoo-nadal/
LOCATION:Üle-eestiline
CATEGORIES:teemanädal
ATTACH;FMTTYPE=image/png:https://www.teeviit.ee/wp-content/uploads/2023/05/teeviit-postkaart-mai-2023.png
END:VEVENT
BEGIN:VEVENT
DTSTART;TZID=Europe/Helsinki:20230912T080000
DTEND;TZID=Europe/Helsinki:20230912T170000
DTSTAMP:20260419T161943
CREATED:20230912T040904Z
LAST-MODIFIED:20230912T040904Z
UID:29661-1694505600-1694538000@www.teeviit.ee
SUMMARY:Vaimse tervise kuu 2023: OLEN SULLE OLEMAS
DESCRIPTION:Rahvusvahelist vaimse tervise kuud tähistatakse igal aastal oktoobris ning sel aastal rakendame teaduse õppetunnid praktikateks! Tuginedes “Eesti inimarengu aruanne 2023: Vaimne tervis ja heaolu” märkamistele ja soovitustele\, kutsume inimesi looma võimalusi oma kogukondade kasvatamiseks ja tugevdamiseks. \nÜks EIA 2023 kandvaid mõtteid on\, et meie vaimne tervis ja kogu ühiskonna valmisolek kriisideks sõltub meie sotsiaalsest ja emotsionaalsest turvatundest ning seotusest kogukonnaga. Kui kuuluvus- ja turvatunne väheneb või kaob\, siis väheneb ka vaimne heaolu ning suureneb risk vaimse tervise probleemide tekkeks. \nNiisiis on igaühel meist võimalus panustada oma kogukonna vaimsesse tervisesse – olles kaaslastele olemas – ning seesugused kogukonnad hoiavad ka meie enda vaimset tervist. \nLisainfo ja registreerumine: https://www.vaimsetervisekuu.ee/
URL:https://www.teeviit.ee/sundmus/vaimse-tervise-kuu-2023-olen-sulle-olemas/
CATEGORIES:teemanädal
ATTACH;FMTTYPE=image/jpeg:https://www.teeviit.ee/wp-content/uploads/2023/09/vtk.jpg
END:VEVENT
END:VCALENDAR