BEGIN:VCALENDAR
VERSION:2.0
PRODID:-//Teeviit - ECPv6.15.4//NONSGML v1.0//EN
CALSCALE:GREGORIAN
METHOD:PUBLISH
X-ORIGINAL-URL:https://www.teeviit.ee
X-WR-CALDESC:Events for Teeviit
REFRESH-INTERVAL;VALUE=DURATION:PT1H
X-Robots-Tag:noindex
X-PUBLISHED-TTL:PT1H
BEGIN:VTIMEZONE
TZID:Europe/Tallinn
BEGIN:DAYLIGHT
TZOFFSETFROM:+0200
TZOFFSETTO:+0300
TZNAME:EEST
DTSTART:20250330T010000
END:DAYLIGHT
BEGIN:STANDARD
TZOFFSETFROM:+0300
TZOFFSETTO:+0200
TZNAME:EET
DTSTART:20251026T010000
END:STANDARD
END:VTIMEZONE
BEGIN:VEVENT
DTSTART;VALUE=DATE:20250220
DTEND;VALUE=DATE:20250221
DTSTAMP:20260420T081142
CREATED:20241230T132340Z
LAST-MODIFIED:20241230T132340Z
UID:44294-1740009600-1740095999@www.teeviit.ee
SUMMARY:Euroopa Solidaarsuskorpuse taotlustähtaeg
DESCRIPTION:Euroopa Solidaarsuskorpuse 2025. aasta esimese taotlusvooru tähtaeg on 20.veebruar. Toetust saab taotleda solidaarsusprojektideks ning vabatahtlikuks teenistuseks. \n2025. aastal toetatakse keskkonnasõbralikkust\, digioskusi\, kaasatust ning kodanikuaktiivsust arendavaid projekte üle Euroopa 166 miljoni euroga. Samuti jätkub Vene agressioonisõja eest põgenevate inimeste abistamine programmi võimaluste piires. \nToetuse taotlemiseks on vajalik asutuse usaldusväärsust tõendav kvaliteedimärgis\, mida saab taotleda aastaringi. Selle olemasolul saab organisatsioon esitada tähtajaks taotluse\, mida menetletakse lihtsustatud korras. Euroopa Solidaarsuskorpuse programmist võivad rahastamist taotleda kõik avaliku või erasektori kohaliku\, piirkondliku\, riigi või rahvusvahelise tasandi üksused\, kes soovivad: \n\nvõtta vastu vabatahtlikke Eestist või muudest riikidest;\nsaata noori välismaale vabatahtlikku teenistusse;\npakkuda noortele võimalust osaleda töö- ja praktikaprojektides;\ntoetada noori kohalike solidaarsusprojektide elluviimisel.\n\nToetust solidaarsusprojektide läbi viimiseks saavad taotleda ka Euroopa noorteportaalis registreeritud noorterühmad. Selle kohta leiab rohkem infot siit. \nLisaks konkursikutsele avaldas Euroopa Komisjon Euroopa Solidaarsuskorpuse 2021-2023 aasta aruande\, milles tutvustatakse programmi mõju sel perioodil. Kolme aasta vältel on Euroopa Solidaarsuskorpuse tegevustes osalenud enam kui 66 000 noort kogu Euroopast. \nRohkem infot: https://euroopanoored.eu/uudised/euroopa-solidaarsuskorpuse-taotlustahtaeg-on-20-veebruar/
URL:https://www.teeviit.ee/sundmus/euroopa-solidaarsuskorpuse-taotlustahtaeg/
LOCATION:Veebis
CATEGORIES:Taotlusvoor
ATTACH;FMTTYPE=image/png:https://www.teeviit.ee/wp-content/uploads/2024/12/laura-infokirja-formaat-22.png
END:VEVENT
END:VCALENDAR