BEGIN:VCALENDAR
VERSION:2.0
PRODID:-//Teeviit - ECPv6.15.4//NONSGML v1.0//EN
CALSCALE:GREGORIAN
METHOD:PUBLISH
X-WR-CALNAME:Teeviit
X-ORIGINAL-URL:https://www.teeviit.ee
X-WR-CALDESC:Events for Teeviit
REFRESH-INTERVAL;VALUE=DURATION:PT1H
X-Robots-Tag:noindex
X-PUBLISHED-TTL:PT1H
BEGIN:VTIMEZONE
TZID:Europe/Tallinn
BEGIN:DAYLIGHT
TZOFFSETFROM:+0200
TZOFFSETTO:+0300
TZNAME:EEST
DTSTART:20250330T010000
END:DAYLIGHT
BEGIN:STANDARD
TZOFFSETFROM:+0300
TZOFFSETTO:+0200
TZNAME:EET
DTSTART:20251026T010000
END:STANDARD
END:VTIMEZONE
BEGIN:VEVENT
DTSTART;VALUE=DATE:20250219
DTEND;VALUE=DATE:20250220
DTSTAMP:20260420T063850
CREATED:20241230T133910Z
LAST-MODIFIED:20241230T133910Z
UID:44304-1739923200-1740009599@www.teeviit.ee
SUMMARY:Erasmus+ programmi taotlustähtaeg
DESCRIPTION:Ligi 5 miljardi euro suuruse aastaeelarvega programm toetab haridus-\, noorte- ja spordivaldkonna algatusi\, mis aitavad kaasa keskkonnasäästlikkusele\, kaasavama ühiskonna loomisele\, kodanikuaktiivsuse ja noorte osaluse tõstmisele ning ümberkorraldustele ELis ja rahvusvaheliselt. Samuti jätkub Ukraina õppijate\, noorsoo- ja haridustöötajate toetamine programmi võimaluste ulatuses. \nErasmus+ programmi toetusi saavad taotleda kõik haridus-\, koolitus-\, noorte- ja spordivaldkonnas tegutsevad asutused ning noorteprogrammide puhul ka mitteformaalsed noortegrupid Euroopa Liidus ja programmiga seotud kolmandates riikides. \nSel korral on haridus- ja noortevaldkonna õpirändeprojektidel erinevad tähtajad\, et vähendada koormust taotluskeskkonnale. \n19. veebruaril saab taotleda toetust: \n\nÕpirändeprojektidele kõrghariduses;\nÕpirändeprojektidele üld-\, kutse- ja täiskasvanuhariduses.\n\nNoorte- ja spordivaldkonna projektide tähtaeg on 12. veebruar. Haridusvaldkonna õpirändeprojektide taotlusvooru tähtaeg on 19. veebruar ning koostööprojektide tähtaeg 5. märts.
URL:https://www.teeviit.ee/sundmus/erasmus-programmi-taotlustahtaeg-2/
LOCATION:Veebis
CATEGORIES:Taotlusvoor
ATTACH;FMTTYPE=image/png:https://www.teeviit.ee/wp-content/uploads/2024/12/laura-infokirja-formaat-22-1.png
END:VEVENT
END:VCALENDAR