BEGIN:VCALENDAR
VERSION:2.0
PRODID:-//Teeviit - ECPv6.15.4//NONSGML v1.0//EN
CALSCALE:GREGORIAN
METHOD:PUBLISH
X-WR-CALNAME:Teeviit
X-ORIGINAL-URL:https://www.teeviit.ee
X-WR-CALDESC:Events for Teeviit
REFRESH-INTERVAL;VALUE=DURATION:PT1H
X-Robots-Tag:noindex
X-PUBLISHED-TTL:PT1H
BEGIN:VTIMEZONE
TZID:Europe/Tallinn
BEGIN:DAYLIGHT
TZOFFSETFROM:+0200
TZOFFSETTO:+0300
TZNAME:EEST
DTSTART:20250330T010000
END:DAYLIGHT
BEGIN:STANDARD
TZOFFSETFROM:+0300
TZOFFSETTO:+0200
TZNAME:EET
DTSTART:20251026T010000
END:STANDARD
END:VTIMEZONE
BEGIN:VEVENT
DTSTART;VALUE=DATE:20250212
DTEND;VALUE=DATE:20250213
DTSTAMP:20260420T063850
CREATED:20241230T133628Z
LAST-MODIFIED:20241230T135742Z
UID:44299-1739318400-1739404799@www.teeviit.ee
SUMMARY:Erasmus+ programmi taotlustähtaeg
DESCRIPTION:Ligi 5 miljardi euro suuruse aastaeelarvega programm toetab haridus-\, noorte- ja spordivaldkonna algatusi\, mis aitavad kaasa keskkonnasäästlikkusele\, kaasavama ühiskonna loomisele\, kodanikuaktiivsuse ja noorte osaluse tõstmisele ning ümberkorraldustele ELis ja rahvusvaheliselt. Samuti jätkub Ukraina õppijate\, noorsoo- ja haridustöötajate toetamine programmi võimaluste ulatuses. \nErasmus+ programmi toetusi saavad taotleda kõik haridus-\, koolitus-\, noorte- ja spordivaldkonnas tegutsevad asutused ning noorteprogrammide puhul ka mitteformaalsed noortegrupid Euroopa Liidus ja programmiga seotud kolmandates riikides. \nSel korral on haridus- ja noortevaldkonna õpirändeprojektidel erinevad tähtajad\, et vähendada koormust taotluskeskkonnale. \n12. veebruaril saab taotleda toetust: \n\nNoorsootöötajate õpirändele;\nNoortevahetustele;\nNoorte osalusprojektidele;\nDiscoverEU kaasamisprojektidele;\nSpordivaldkonna töötajate õpirändele;\nÕpirände projektide akrediteeritud asutustele noortevaldkonnas.\n\nRohkem infot taotlusvoorude kohta: https://euroopanoored.eu/uudised/selgusid-2025-aasta-erasmus-taotlustahtajad/ \nNoorte- ja spordivaldkonna projektide tähtaeg on 12. veebruar. Haridusvaldkonna õpirändeprojektide taotlusvooru tähtaeg on 19. veebruar ning koostööprojektide tähtaeg 5. märts.
URL:https://www.teeviit.ee/sundmus/erasmus-programmi-taotlustahtaeg/
LOCATION:Veebis
CATEGORIES:Taotlusvoor
ATTACH;FMTTYPE=image/png:https://www.teeviit.ee/wp-content/uploads/2024/12/laura-infokirja-formaat-22-1.png
END:VEVENT
END:VCALENDAR