BEGIN:VCALENDAR
VERSION:2.0
PRODID:-//Teeviit - ECPv6.15.4//NONSGML v1.0//EN
CALSCALE:GREGORIAN
METHOD:PUBLISH
X-ORIGINAL-URL:https://www.teeviit.ee
X-WR-CALDESC:Events for Teeviit
REFRESH-INTERVAL;VALUE=DURATION:PT1H
X-Robots-Tag:noindex
X-PUBLISHED-TTL:PT1H
BEGIN:VTIMEZONE
TZID:Europe/Tallinn
BEGIN:DAYLIGHT
TZOFFSETFROM:+0200
TZOFFSETTO:+0300
TZNAME:EEST
DTSTART:20250330T010000
END:DAYLIGHT
BEGIN:STANDARD
TZOFFSETFROM:+0300
TZOFFSETTO:+0200
TZNAME:EET
DTSTART:20251026T010000
END:STANDARD
END:VTIMEZONE
BEGIN:VEVENT
DTSTART;VALUE=DATE:20250812
DTEND;VALUE=DATE:20250813
DTSTAMP:20260420T015609
CREATED:20250604T071134Z
LAST-MODIFIED:20250604T071159Z
UID:54537-1754956800-1755043199@www.teeviit.ee
SUMMARY:Rahvusvaheline noortepäev
DESCRIPTION:2025. aasta rahvusvahelise noortepäeva fookuses on noorte olulisus ja panus jätkusuutlikuma elukeskkonna loomisel (inglise keeles “Youth Empowerment for a Sustainable Future”). \nÜhinenud Rahvaste Organisatsioon ehk ÜRO (inglise keeles United Nations) kuulutas 12. augusti Rahvusvaheliseks noortepäevaks välja 1999. aastal. Alates sellest ajast on igal suvel üle kogu maailma noortepäeva tähistatud\, et juhtida tähelepanu erinevatele noortega seotud kitsaskohtadele ning probleemidele aga ka tõsta noorte olulisus\, väärtus\, ideed\, mõtted\, algatused esile. Igal aastal on noortepäeval erinev teemafookus ja selle raames toimuvad noortele ning koos noortega arutelud\, ideekorjed\, kontserdid ja mitmed teised sündmused.
URL:https://www.teeviit.ee/sundmus/rahvsuvaheline-noortepaev/
CATEGORIES:Sündmus
END:VEVENT
END:VCALENDAR