BEGIN:VCALENDAR
VERSION:2.0
PRODID:-//Teeviit - ECPv6.15.4//NONSGML v1.0//EN
CALSCALE:GREGORIAN
METHOD:PUBLISH
X-WR-CALNAME:Teeviit
X-ORIGINAL-URL:https://www.teeviit.ee
X-WR-CALDESC:Events for Teeviit
REFRESH-INTERVAL;VALUE=DURATION:PT1H
X-Robots-Tag:noindex
X-PUBLISHED-TTL:PT1H
BEGIN:VTIMEZONE
TZID:Europe/Tallinn
BEGIN:DAYLIGHT
TZOFFSETFROM:+0200
TZOFFSETTO:+0300
TZNAME:EEST
DTSTART:20250330T010000
END:DAYLIGHT
BEGIN:STANDARD
TZOFFSETFROM:+0300
TZOFFSETTO:+0200
TZNAME:EET
DTSTART:20251026T010000
END:STANDARD
END:VTIMEZONE
BEGIN:VEVENT
DTSTART;TZID=Europe/Tallinn:20250701T000100
DTEND;TZID=Europe/Tallinn:20250701T235900
DTSTAMP:20260420T160415
CREATED:20250529T121643Z
LAST-MODIFIED:20250529T121658Z
UID:53887-1751328060-1751414340@www.teeviit.ee
SUMMARY:Noore õpetlase stipendium
DESCRIPTION:Haridus- ja Noorteamet ning Haridus- ja Teadusministeerium kutsuvad noori kandideerima Noore õpetlase stipendiumile (NÕS)\, mille eesmärgiks on toetada Eestist pärit andekate keskharidusega noorte bakalaureuse tasemel õpinguid tunnustatud välisriigi kõrgkoolides. \n\n\n\n\n\n\n\n\n\n\nStipendium koosneb õpingute alguses makstavast ühekordsest stardirahast. Selle väljaandjad soovivad rõhutada piireületavat õppimiskultuuri\, millel on läbi aegade olnud euroopalikus traditsioonis oluline koht. Stipendium antakse arusaamises\, et omandatud tarkusi rakendatakse pärast õpingute lõppu Eesti hüvanguks\, vastupidisel juhul käsitletakse stipendiumit laenuna. \n2025. aasta Noore õpetlase stipendiumi taotlusvoor on avatud alates 1. juuni kuni 1. juuli kell 23.59. \nTaotlusi võtame vastu läbi Toetuste Menetlemise infosüsteemi.  \nNoore Õpetlase stipendiumi intervjuuvoor toimub 18. juuli 2025. \nLisainfo: harno.ee/noore-opetlase-stipendium
URL:https://www.teeviit.ee/sundmus/noore-opetlase-stipendium-2/
LOCATION:Veebis
CATEGORIES:Stipendium
ATTACH;FMTTYPE=image/jpeg:https://www.teeviit.ee/wp-content/uploads/2025/05/53937889770_cd2054903c_k.jpg
END:VEVENT
END:VCALENDAR