BEGIN:VCALENDAR
VERSION:2.0
PRODID:-//Teeviit - ECPv6.15.4//NONSGML v1.0//EN
CALSCALE:GREGORIAN
METHOD:PUBLISH
X-WR-CALNAME:Teeviit
X-ORIGINAL-URL:https://www.teeviit.ee
X-WR-CALDESC:Events for Teeviit
REFRESH-INTERVAL;VALUE=DURATION:PT1H
X-Robots-Tag:noindex
X-PUBLISHED-TTL:PT1H
BEGIN:VTIMEZONE
TZID:Europe/Tallinn
BEGIN:DAYLIGHT
TZOFFSETFROM:+0200
TZOFFSETTO:+0300
TZNAME:EEST
DTSTART:20250330T010000
END:DAYLIGHT
BEGIN:STANDARD
TZOFFSETFROM:+0300
TZOFFSETTO:+0200
TZNAME:EET
DTSTART:20251026T010000
END:STANDARD
BEGIN:DAYLIGHT
TZOFFSETFROM:+0200
TZOFFSETTO:+0300
TZNAME:EEST
DTSTART:20260329T010000
END:DAYLIGHT
BEGIN:STANDARD
TZOFFSETFROM:+0300
TZOFFSETTO:+0200
TZNAME:EET
DTSTART:20261025T010000
END:STANDARD
END:VTIMEZONE
BEGIN:VEVENT
DTSTART;TZID=Europe/Tallinn:20251001T130000
DTEND;TZID=Europe/Tallinn:20251001T130000
DTSTAMP:20260420T075412
CREATED:20250604T063302Z
LAST-MODIFIED:20250604T063302Z
UID:54516-1759323600-1759323600@www.teeviit.ee
SUMMARY:Erasmus+ ja ESK taotlusvooru tähtaeg: noortevahetus\, osalusprojekt\, solidaarsusprojekt
DESCRIPTION:Kas teadsid\, et noored saavad taotleda oma projektidele rahastust? Selleks pakub võimalust Erasmus+ ja Euroopa Solidaarsuskorpuse Agentuur. Käesolevast artiklist leiad kasuliku infot projektitüüpide ja taotlusvõimaluste kohta. \n\n\n\n\nErasmus+ ja Euroopa Solidaarsuskorpuse taotlusvooru on võimalus esitada: \n\nErasmus+ noortevahetus (rahvusvaheline tegevus)\,\nErasmus+ osalusprojekt (kohalik või rahvusvaheline tegevus)\,\nEuroopa Solidaarsuskorpuse solidaarsusprojekt (kohalik tegevus).\n\n\n\n\n\n❗❗❗ Taotluste esitamise tähtaeg: 01.10.2025 kell 13.00 on taotlustähtaeg Erasmus+ osalusprojektidele (noored vanuses 13-30a)\, Erasmus+ noortevahetused (noored vanuses 13-30a) ja ESK solidaarsusprojektidele (noored vanuses 18-30a).\n \nLoe lisaks Teeviit portaalist “Kuidas kirjutada projekti ja kuhu see esitada?”
URL:https://www.teeviit.ee/sundmus/erasmus-ja-esk-taotlusvooru-tahtaeg-noortevahetus-osalusprojekt-solidaarsusprojekt/
LOCATION:Veebis
CATEGORIES:Taotlusvoor,Projekt
END:VEVENT
BEGIN:VEVENT
DTSTART;TZID=Europe/Tallinn:20260104T080000
DTEND;TZID=Europe/Tallinn:20260104T170000
DTSTAMP:20260420T075412
CREATED:20251126T065553Z
LAST-MODIFIED:20251126T065553Z
UID:57508-1767513600-1767546000@www.teeviit.ee
SUMMARY:Registreeru Erasmus+ ja ESK projektikirjutamise laagrisse
DESCRIPTION:Oled 13-25aastane ja sul on idee\, mida tahaksid ellu viia Erasmus+ või Euroopa Solidaarsuskorpuse toel? Kui jah\, siis osale jaanuaris 2026 projektikirjutamise laagris! \n\n\n\n\nProjektikirjutamise laager toimub 16.–18. jaanuaril 2026 Tallinnas (Paadi 5) ning osalema oodatakse noori\, kes soovivad oma projektitaotluse valmis veebruariks. \nLaagris saad professionaalset nõu ja tuge\, et arendada oma ideest kvaliteetne projekt. Oodatud on 2–5-liikmelised tiimid koos juhendajaga (kui kõik osalejad on alla 18\, siis on juhendaja osalemine tungivalt soovituslik). \nOsalemine on tasuta\, majutus ja transpordikulud kaetakse nendele osalejatele\, kes elavad Tallinnast väljas. Laagri töökeel on eesti keel\, aga vajadusel pakutakse abi ka vene ja inglise keeles. \nUuri ettevalmistuseks lisa: \n\nErasmus+ noortevahetus (rahvusvaheline)\nErasmus+ osalusprojekt (kohalik või rahvusvaheline)\nEuroopa Solidaarsuskorpuse solidaarsusprojekt (kohalik)\n\n\n\n\n\n👉 Registreeri laagrisse hiljemalt 4. jaanuaril 2026 siin.\n📩 Lisainfo: karin.oovel@harno.ee. \n\n\n\n\nAllikas ja pilt: Erasmus+ ja Euroopa Solidaarsuskorpuse agentuuri noorteprogrammide keskuse veebilehe uudis “Noor\, osale projektikirjutamise laagris ja viimistle oma idee kuulikindlaks“
URL:https://www.teeviit.ee/sundmus/registreeru-erasmus-ja-esk-projektikirjutamise-laagrisse/
LOCATION:Veebis
CATEGORIES:laager,Projekt
ATTACH;FMTTYPE=image/png:https://www.teeviit.ee/wp-content/uploads/2025/11/projektikirjutamise-laager-1536x768-1.png
END:VEVENT
END:VCALENDAR