BEGIN:VCALENDAR
VERSION:2.0
PRODID:-//Teeviit - ECPv6.15.4//NONSGML v1.0//EN
CALSCALE:GREGORIAN
METHOD:PUBLISH
X-ORIGINAL-URL:https://www.teeviit.ee
X-WR-CALDESC:Events for Teeviit
REFRESH-INTERVAL;VALUE=DURATION:PT1H
X-Robots-Tag:noindex
X-PUBLISHED-TTL:PT1H
BEGIN:VTIMEZONE
TZID:Europe/Tallinn
BEGIN:DAYLIGHT
TZOFFSETFROM:+0200
TZOFFSETTO:+0300
TZNAME:EEST
DTSTART:20240331T010000
END:DAYLIGHT
BEGIN:STANDARD
TZOFFSETFROM:+0300
TZOFFSETTO:+0200
TZNAME:EET
DTSTART:20241027T010000
END:STANDARD
END:VTIMEZONE
BEGIN:VEVENT
DTSTART;VALUE=DATE:20240912
DTEND;VALUE=DATE:20241002
DTSTAMP:20260420T192935
CREATED:20240919T084936Z
LAST-MODIFIED:20240919T084936Z
UID:41746-1726099200-1727827199@www.teeviit.ee
SUMMARY:Esita kandidaat: andekate noorte tunnustussündmus "Tähelend"
DESCRIPTION:Eesmärgiga märgata ja tunnustada rahvusvahelistel võistlustel Eestit esindades silmapaistvaid tulemusi saavutanud õpilasi ning nende juhendajaid\, kutsume taas üles esitama kandidaate Haridus- ja Teadusministeeriumi andekate noorte tunnustussündmusele. \nNoored peavad olema osalenud rahvusvahelisel võistlusel (sh ainevõistlusel\, olümpiaadil\, konkursil\, spordivõistlusel) individuaalvõistlejana või võistkonna liikmena perioodil 1. september 2023 – 31. august 2024 ning pälvinud seal medali või koha esikolmikus. \n\n\n\nTunnustussündmusele saab esitada: \n\nüldhariduskoolide õpilasi ja üldhariduskooli rahvusvahelise võistlusega samal aastal lõpetanud noori koos juhendajaga;\nkutseõppeasutuse õpilasi ja kutseõppeasutuse lõpetanud kuni 25-aastaseid noori koos juhendajaga.\n\nKandidaate saab esitada 1. oktoobrini 2024 (k.a) Haridus- ja Teadusministeeriumi konkursiveebis avaneb uues vahekaardis (ankeedi nimi: Andekate noorte tunnustussündmus 2024). \nEsita kandidaat! \n\n\n\n\n\n\nTäpsemad tunnustamise tingimused on kirjas statuudis. Täiendav info: tunnustamine@hm.ee 
URL:https://www.teeviit.ee/sundmus/esita-kandidaat-andekate-noorte-tunnustussundmus-tahelend/
LOCATION:Haridus- ja Teadusministeeriumi konkursiveeb
CATEGORIES:Konkurss
ATTACH;FMTTYPE=image/jpeg:https://www.teeviit.ee/wp-content/uploads/2024/09/459292580_120210373564440358_3586897219569919375_n.jpg
ORGANIZER;CN="Haridus- ja Teadusministeerium":MAILTO:tunnustamine@hm.ee
END:VEVENT
END:VCALENDAR