BEGIN:VCALENDAR
VERSION:2.0
PRODID:-//Teeviit - ECPv6.15.4//NONSGML v1.0//EN
CALSCALE:GREGORIAN
METHOD:PUBLISH
X-WR-CALNAME:Teeviit
X-ORIGINAL-URL:https://www.teeviit.ee
X-WR-CALDESC:Events for Teeviit
REFRESH-INTERVAL;VALUE=DURATION:PT1H
X-Robots-Tag:noindex
X-PUBLISHED-TTL:PT1H
BEGIN:VTIMEZONE
TZID:Europe/Tallinn
BEGIN:DAYLIGHT
TZOFFSETFROM:+0200
TZOFFSETTO:+0300
TZNAME:EEST
DTSTART:20240331T010000
END:DAYLIGHT
BEGIN:STANDARD
TZOFFSETFROM:+0300
TZOFFSETTO:+0200
TZNAME:EET
DTSTART:20241027T010000
END:STANDARD
END:VTIMEZONE
BEGIN:VEVENT
DTSTART;VALUE=DATE:20240519
DTEND;VALUE=DATE:20240520
DTSTAMP:20260421T013845
CREATED:20240507T091001Z
LAST-MODIFIED:20240507T091001Z
UID:37719-1716076800-1716163199@www.teeviit.ee
SUMMARY:Vali oma lemmik koolilaste kujundatud plaadikaante seast
DESCRIPTION:Koolilaste plaadiümbrise kujundamise kunstikonkursile laekus ligi 500 tööd. Areeni veebis valitakse publiku lemmik. \nEesti Kunstikoolide Liidu\, klubi ProCultura ja Lihula Muusika- ja Kunstikooli korraldatud helikandjate ümbriste kujundamise konkursile laekus kokku 492 tööd. \n\n\n\n\nLoe pikemalt ja anna oma lemmikule hääl SIIN. \nAllikas: kunstikoolid.ee/vali-oma-lemmik-koolilaste-kujundatud-plaadikaante-seast/
URL:https://www.teeviit.ee/sundmus/vali-oma-lemmik-koolilaste-kujundatud-plaadikaante-seast/
CATEGORIES:Konkurss
END:VEVENT
END:VCALENDAR