BEGIN:VCALENDAR
VERSION:2.0
PRODID:-//Teeviit - ECPv6.15.4//NONSGML v1.0//EN
CALSCALE:GREGORIAN
METHOD:PUBLISH
X-ORIGINAL-URL:https://www.teeviit.ee
X-WR-CALDESC:Events for Teeviit
REFRESH-INTERVAL;VALUE=DURATION:PT1H
X-Robots-Tag:noindex
X-PUBLISHED-TTL:PT1H
BEGIN:VTIMEZONE
TZID:Europe/Tallinn
BEGIN:DAYLIGHT
TZOFFSETFROM:+0200
TZOFFSETTO:+0300
TZNAME:EEST
DTSTART:20240331T010000
END:DAYLIGHT
BEGIN:STANDARD
TZOFFSETFROM:+0300
TZOFFSETTO:+0200
TZNAME:EET
DTSTART:20241027T010000
END:STANDARD
END:VTIMEZONE
BEGIN:VEVENT
DTSTART;VALUE=DATE:20240430
DTEND;VALUE=DATE:20240501
DTSTAMP:20260421T013940
CREATED:20240314T130914Z
LAST-MODIFIED:20240421T092233Z
UID:36114-1714435200-1714521599@www.teeviit.ee
SUMMARY:Laua- ja kaardimängu konkurss RAHAPADA
DESCRIPTION:Finantsinspektsioon koostöös noorteinfoportaaliga Teeviit kutsuvad lapsi ja noori osalema lõbusal rahatarkuse edendamise konkursil RAHAPADA. Konkursile oodatakse kuni 5-liikmeliste tiimide rahatarkuse teemalisi laua- ja kaardimängu projekte. \n\n\n\n\nKonkursi eesmärk on edendada laste ja noorte finantskirjaoskust ning rahatarkust. Konkursi raames saavad 1.-12.klasside õpilased kuni 5-liikmelistes tiimides luua projekti\, mis on vormistatud nõuetekohaselt (vt konkursi tingimused). Projektiks on rahatarkust edendav laua – või kaardimäng. \n\n\n\n\nTööde saatmise tähtaeg on 30. aprill 2024. \nVaata täpsemalt RAHAPADA konkursilehelt!
URL:https://www.teeviit.ee/sundmus/laua-ja-kaardimangu-konkurss-rahapada/
LOCATION:Veebis
CATEGORIES:Konkurss
ATTACH;FMTTYPE=image/png:https://www.teeviit.ee/wp-content/uploads/2024/02/portaal-lauamangu-konkurss-rahapada.png
END:VEVENT
END:VCALENDAR