BEGIN:VCALENDAR
VERSION:2.0
PRODID:-//Teeviit - ECPv6.15.4//NONSGML v1.0//EN
CALSCALE:GREGORIAN
METHOD:PUBLISH
X-ORIGINAL-URL:https://www.teeviit.ee
X-WR-CALDESC:Events for Teeviit
REFRESH-INTERVAL;VALUE=DURATION:PT1H
X-Robots-Tag:noindex
X-PUBLISHED-TTL:PT1H
BEGIN:VTIMEZONE
TZID:Europe/Tallinn
BEGIN:DAYLIGHT
TZOFFSETFROM:+0200
TZOFFSETTO:+0300
TZNAME:EEST
DTSTART:20240331T010000
END:DAYLIGHT
BEGIN:STANDARD
TZOFFSETFROM:+0300
TZOFFSETTO:+0200
TZNAME:EET
DTSTART:20241027T010000
END:STANDARD
END:VTIMEZONE
BEGIN:VEVENT
DTSTART;VALUE=DATE:20240423
DTEND;VALUE=DATE:20240424
DTSTAMP:20260421T031215
CREATED:20240318T145000Z
LAST-MODIFIED:20240421T092407Z
UID:36208-1713830400-1713916799@www.teeviit.ee
SUMMARY:Esseekonkurss - kirjuta ennast Brüsselisse!
DESCRIPTION:Riigivanem August Rei Sihtasutus koostöös Eesti NATO Ühinguga ja Eesti Ajaloo- ja Ühiskonnaõpetajate Seltsiga kutsub osalema Eesti riigi looja ja hoidja August Rei sünniaastapäeva tähistamiseks esseekonkursil 9.-12. klassi õpilastele vanuses 15-19 eluaastat. Oodatud on ka MULTIMEEDIA lahendused. \nEssee esitamise tähtaeg 23. aprill 2024! \nVaata rohkem Riigivanem lehelt.
URL:https://www.teeviit.ee/sundmus/esseekonkurss-kirjuta-ennast-brusselisse/
LOCATION:Veebis
CATEGORIES:Konkurss
ATTACH;FMTTYPE=image/png:https://www.teeviit.ee/wp-content/uploads/2024/03/kuvatommis_2024-03-07_222547.1709843310.png
END:VEVENT
END:VCALENDAR