BEGIN:VCALENDAR
VERSION:2.0
PRODID:-//Teeviit - ECPv6.15.4//NONSGML v1.0//EN
CALSCALE:GREGORIAN
METHOD:PUBLISH
X-WR-CALNAME:Teeviit
X-ORIGINAL-URL:https://www.teeviit.ee
X-WR-CALDESC:Events for Teeviit
REFRESH-INTERVAL;VALUE=DURATION:PT1H
X-Robots-Tag:noindex
X-PUBLISHED-TTL:PT1H
BEGIN:VTIMEZONE
TZID:Europe/Helsinki
BEGIN:DAYLIGHT
TZOFFSETFROM:+0200
TZOFFSETTO:+0300
TZNAME:EEST
DTSTART:20230326T010000
END:DAYLIGHT
BEGIN:STANDARD
TZOFFSETFROM:+0300
TZOFFSETTO:+0200
TZNAME:EET
DTSTART:20231029T010000
END:STANDARD
END:VTIMEZONE
BEGIN:VEVENT
DTSTART;VALUE=DATE:20231130
DTEND;VALUE=DATE:20231201
DTSTAMP:20260421T093352
CREATED:20230923T100507Z
LAST-MODIFIED:20230923T100507Z
UID:29967-1701302400-1701388799@www.teeviit.ee
SUMMARY:Arvustusvõistlus Kapsas
DESCRIPTION:Maailmas on väga palju raamatuid. Kuidas valida\, mida lugema hakata? Üks võimalus on lugeda raamatuarvustust ja teha selle põhjal otsus. Et jaguks häid arvustusi ja arvustajaid\, kuulutavad Eesti Lastekirjanduse Keskus\, ajakiri Hea Laps ja Õpetajate Leht välja raamatuarvustuste kirjutamise võistluse Kapsas. \n  \nLoe pikemalt Eesti Lastekirjanduse Keskuse veebist.
URL:https://www.teeviit.ee/sundmus/arvustusvoistlus-kapsas/
LOCATION:Veebis
CATEGORIES:Konkurss
ATTACH;FMTTYPE=image/jpeg:https://www.teeviit.ee/wp-content/uploads/2023/09/arvustusvoistlus.jpg
END:VEVENT
END:VCALENDAR