BEGIN:VCALENDAR
VERSION:2.0
PRODID:-//Teeviit - ECPv6.15.4//NONSGML v1.0//EN
CALSCALE:GREGORIAN
METHOD:PUBLISH
X-WR-CALNAME:Teeviit
X-ORIGINAL-URL:https://www.teeviit.ee
X-WR-CALDESC:Events for Teeviit
REFRESH-INTERVAL;VALUE=DURATION:PT1H
X-Robots-Tag:noindex
X-PUBLISHED-TTL:PT1H
BEGIN:VTIMEZONE
TZID:Europe/Tallinn
BEGIN:DAYLIGHT
TZOFFSETFROM:+0200
TZOFFSETTO:+0300
TZNAME:EEST
DTSTART:20250330T010000
END:DAYLIGHT
BEGIN:STANDARD
TZOFFSETFROM:+0300
TZOFFSETTO:+0200
TZNAME:EET
DTSTART:20251026T010000
END:STANDARD
END:VTIMEZONE
BEGIN:VEVENT
DTSTART;VALUE=DATE:20250402
DTEND;VALUE=DATE:20250531
DTSTAMP:20260420T000744
CREATED:20250521T075426Z
LAST-MODIFIED:20250521T075426Z
UID:51264-1743552000-1748649599@www.teeviit.ee
SUMMARY:Joonistuskonkurss "Sport kliimamuutuste tuules"
DESCRIPTION:Eesti Spordi- ja Olümpiamuuseum\, Lasteekraan ja Eesti Olümpiakomitee kutsuvad lapsi joonistama spordimuuseumi uuele keskkonnateemalisele näitusele tuleviku spordialasid. Spordimuuseumi näitus “Sport kliimamuutuste tuules” avastab lisaks spordi ja keskkonna omavahelistele seostele ka tulevikuspordialasid ja kutsub kõiki lapsi ja noori kaasa rääkima (ja joonistama)\, milline on sportimine 50 aasta pärast. \nJoonista pilt spordialast või spordisündmusest aastal 2075\, kirjuta pildi juurde kirjeldus pildil toimuvast ja kuidas kliimamuutused sporti mõjutavad ja just Sinu töö võib jõuda muuseumisse! Tööde puhul on oluline silmas pidada\, millist mõju kliimamuutused meie keskkonnale avaldavad ja kuidas see tulevikus sportimist mõjutada võib. Žürii peab tööde hindamisel silmas kliimamuutuste ja sportimise vahelise seose välja toomist. Näiteks ei pruugi 50 aasta pärast olla paljudes kohtades talvel lund\, suved võivad olla väga kuumad\, sagenevad suured vihmasajud ja tormid\, mis võib muuta paljude spordialade harrastamise keeruliseks. \nŽürii valib välja igas kategoorias 5 parimat tööd\, mis lähevad rahvahääletusele Lasteekraani lehel. Rahvahääletus toimub 16.06.2025-06.07.2025. Žürii ja rahvahääletuse tulemusena valime välja 10 parimat tööd\, mis jõuavad ka 2025. aasta sügisel spordimuuseumis avatavale näitusele. \nNäitusele valitud tööde autoritele panevad preemiad välja spordimuuseum\, Eesti Olümpiakomitee\, VSpa ja Crepp. Lisaks loositakse enim töid saatnud klasside vahel välja eriauhind – spordimuuseumi keskkonnateemaline haridusprogramm! Lisaks saavad kõik osalenud klassid võimaluse lüüa kaasa spordimuuseumi haridusprogrammides –20% soodustusega kuni 2025. aasta lõpuni. \nTöid on võimalik esitada 2. aprillist 30. maini. Joonistusvõistlus on avatud kõigile 5–19-aastastele lastele ja noortele. Töö võid saata ka meiliaadressile lasteekraan@err.ee.\nPärast töö esitamist palume hoida töö alles\, et võitjate tööde puhul saaksime originaale näitusel kasutada. \nTöid hinnatakse neljas vanuserühmas: \n5-8 aastased\n9-12 aastased\n13-15 aastased\n16-19 aastased \n  \nRohkem infot ja tööde esitamine: https://lasteekraan.err.ee/1609647263
URL:https://www.teeviit.ee/sundmus/joonistuskonkurss-sport-kliimamuutuste-tuules/
LOCATION:Veebis
CATEGORIES:Konkurss
ATTACH;FMTTYPE=image/png:https://www.teeviit.ee/wp-content/uploads/2025/05/joonistuskonkurss.png
END:VEVENT
BEGIN:VEVENT
DTSTART;VALUE=DATE:20250505
DTEND;VALUE=DATE:20250506
DTSTAMP:20260420T000744
CREATED:20250428T044927Z
LAST-MODIFIED:20250428T044927Z
UID:49629-1746403200-1746489599@www.teeviit.ee
SUMMARY:Koolimeedia konkurss 2025
DESCRIPTION:🎤 Oled noor meediastaar? Osale Koolimeedia konkursil! \nÕhtuleht otsib säravaid koolinoori\, kes armastavad kirjutada\, taskuhäälingut teha või videolugusid luua! Koolimeedia konkursil saab osaleda neljas kategoorias: parim koolileht\, artikkel\, podcast ja video. Parimatele on auhinnaks muuhulgas 1000 €\, David Guetta kontserdipiletid ja kingitused Photopointilt! Tööde esitamise tähtaeg on 5. mai 2025. \n👉 Loe täpsemalt: koolimeedia.ohtuleht.ee
URL:https://www.teeviit.ee/sundmus/koolimeedia-konkurss-2025/
CATEGORIES:Konkurss
ATTACH;FMTTYPE=image/jpeg:https://www.teeviit.ee/wp-content/uploads/2025/04/ofgm44y0.fbz_.jpg
END:VEVENT
BEGIN:VEVENT
DTSTART;VALUE=DATE:20250519
DTEND;VALUE=DATE:20250520
DTSTAMP:20260420T000744
CREATED:20250508T114615Z
LAST-MODIFIED:20250508T114615Z
UID:50135-1747612800-1747699199@www.teeviit.ee
SUMMARY:Kandideeri Targa Valija noorteprogrammi
DESCRIPTION:Eesti Väitlusselts kutsub noori vanuses 16-22 kandideerima Targa valija noorte-programmi. Kandideerimine on avatud kuni 19. maini 2025 SIIN.\n\nTarga Valija kampaania eesmärk on kutsuda esmavalijaid sügisestel KOV valimistel 2025 läbimõeldult oma hääl andma. KOV valimised jäävad noortele tihti kaugeks\, samas puudutavad selle tulemused neid kõige lähemalt nende endi kodukohas. Kampaania ei eelista ühtki erakonda. \n\nTarga valija noorteprogrammis osalemine on enesearenguvõimalus noorele\, kel on huvi sotsiaalmeedia sisuloome vastu või huvi kodanikuaktivismi\, osaluse ja ühiskondlike küsimuste vastu.  \n\nProgrammi raames pakume noorele:\n\n\nVõimalust meeskonnaga läbi viia mõjus sotsiaalmeediakampaania\n\n\nSisukatel õppekäikudel osalemist meedia-\, turundus- ja reklaamivaldkonna tegijate juures\n\n\nTuge mentorilt ja tagasisidet oma ala ekspertidelt\n\n\nTööturul ja praktikakoha leidmisel kasuks tulevaid oskusi ja kontakte\n\n\nSotsiaalmeedia sisuloome oskuste täiendamist ja head ülevaadet ühiskondlikult põletavatest teemadest
URL:https://www.teeviit.ee/sundmus/kandideeri-targa-valija-noorteprogrammi/
LOCATION:Veebis
CATEGORIES:Konkurss
ATTACH;FMTTYPE=image/png:https://www.teeviit.ee/wp-content/uploads/2025/05/targa-valija-programm.png
END:VEVENT
BEGIN:VEVENT
DTSTART;VALUE=DATE:20250531
DTEND;VALUE=DATE:20250601
DTSTAMP:20260420T000744
CREATED:20250528T060852Z
LAST-MODIFIED:20250528T060852Z
UID:52875-1748649600-1748735999@www.teeviit.ee
SUMMARY:EHL 35 Loomekonkurss "Õpetajad ja õpilased tuleviku õpikeskkonnas"
DESCRIPTION:Eesti Haridustöötajate Liit kutsub osalema loomekonkursil „Õpetajad ja õpilased tuleviku õpikeskkonnas“. Konkursile on oodatud alg-\, põhi- ja gümnaasiumiastme õpilaste ning kõigi haridustöötajate loometööd\, mis kujutavad\, milline võiks välja näha tuleviku õppeasutus\, õppimine ja õpetamine. \nVõistlustöid premeeritakse neljas kategoorias: \n\nalgkool\npõhikool\ngümnaasium\nharidustöötajad\n\n Võistlus toimub 3. aprillist kuni 31. maini 2025. \n Võitjate premeerimine toimub 13. juunil 2025. \nLisainfo: ehl.org.ee/ehl-35-loomekonkurss/
URL:https://www.teeviit.ee/sundmus/ehl-35-loomekonkurss-opetajad-ja-opilased-tuleviku-opikeskkonnas/
LOCATION:Veebis
CATEGORIES:Konkurss
END:VEVENT
END:VCALENDAR