BEGIN:VCALENDAR
VERSION:2.0
PRODID:-//Teeviit - ECPv6.15.4//NONSGML v1.0//EN
CALSCALE:GREGORIAN
METHOD:PUBLISH
X-WR-CALNAME:Teeviit
X-ORIGINAL-URL:https://www.teeviit.ee
X-WR-CALDESC:Events for Teeviit
REFRESH-INTERVAL;VALUE=DURATION:PT1H
X-Robots-Tag:noindex
X-PUBLISHED-TTL:PT1H
BEGIN:VTIMEZONE
TZID:Europe/Helsinki
BEGIN:DAYLIGHT
TZOFFSETFROM:+0200
TZOFFSETTO:+0300
TZNAME:EEST
DTSTART:20230326T010000
END:DAYLIGHT
BEGIN:STANDARD
TZOFFSETFROM:+0300
TZOFFSETTO:+0200
TZNAME:EET
DTSTART:20231029T010000
END:STANDARD
END:VTIMEZONE
BEGIN:VEVENT
DTSTART;VALUE=DATE:20230915
DTEND;VALUE=DATE:20230916
DTSTAMP:20260421T124046
CREATED:20230912T041137Z
LAST-MODIFIED:20230912T041137Z
UID:29667-1694736000-1694822399@www.teeviit.ee
SUMMARY:Õpilasleiutajate riiklik konkurss
DESCRIPTION:Õpilasleiutajate riikliku konkursi eesmärk on väärtustada teadus- ja arendustegevust ning innovatsiooni õpilaskonnas\, stimuleerida õpilaste aktiivsust teadus- ja arendustegevuse ning innovatsiooni alal ning avaldada tunnustust väljapaistvaid tulemusi saavutanud õpilastele ja õpilaskollektiividele\, nende juhendajatele ja õpetajatele ning koolidele. \nVaata konkursil osalemise tingimusi siit.\nKonkurssi tutvustava plakati saad välja printida siit (A3 formaat)\, plakat A4 suuruses\, plakat vene keeles A3 ja A4-RU.\nMeedia reklaam 1920×1080 koolide ekraanidele \n\n Konkursi korraldamise õiguslik alus\n\n2023. aasta õpilasleiutajate riikliku konkursi väljakuulutamise käskkiri 1.1-2/23/194\nÕpilasleiutajate riikliku konkursi läbiviimise tingimused ja kord. Haridus- ja teadusministri määrus\, vastu võetud 18.06.2010\, nr 30.\n\nKonkursi preemiafond on 32 350 eurot.
URL:https://www.teeviit.ee/sundmus/opilasleiutajate-riiklik-konkurss/
CATEGORIES:Konkurss
ATTACH;FMTTYPE=image/jpeg:https://www.teeviit.ee/wp-content/uploads/2023/09/opilasleiutajad-2023_banner_820x320.jpg
END:VEVENT
BEGIN:VEVENT
DTSTART;VALUE=DATE:20230917
DTEND;VALUE=DATE:20230918
DTSTAMP:20260421T124047
CREATED:20230913T095938Z
LAST-MODIFIED:20230913T095938Z
UID:29705-1694908800-1694995199@www.teeviit.ee
SUMMARY:Projektikonkurss “Ideepuhur”
DESCRIPTION:Projektikonkursi „Ideepuhur“ eesmärk on toetada noorte omaalgatust ning ettevõtlikkust pakkudes neile võimalusi ühiskondlike ja sotsiaalsete kitsaskohtade lahendamiseks. Noorte poolt algatatavate tegevuste fookuses on kohaliku kogukonna edendamisega seotud ideed\, mis toetavad erinevate pädevuste arendamist mitteformaalses õpikeskkonnas. \nKonkursi fookusteemad on: \n\nnoorte vaimne tervis\,\nkultuuridevaheline suhtlemine ja kogukondade vaheline lõimumine (sh eestikeelsele haridusele ülemineku toetamine)\,\nloodus- ja tehnoloogia valdkondade teadmiste ja oskuste arendamine\,\nrohepöörde ja keskkonnahoiu võimalused kohalikul tasandil.\n\nEsita oma idee SIIN! \nLisainfo ja allikas: https://ank.ee/ideepuhur/
URL:https://www.teeviit.ee/sundmus/projektikonkurss-ideepuhur/
CATEGORIES:Konkurss
ATTACH;FMTTYPE=image/jpeg:https://www.teeviit.ee/wp-content/uploads/2023/09/noorte-omaalgatusprojektide-konkurss-2090-×-1187-px-72-×-22-tolli-1024x313-1.jpg
END:VEVENT
BEGIN:VEVENT
DTSTART;VALUE=DATE:20230925
DTEND;VALUE=DATE:20231021
DTSTAMP:20260421T124047
CREATED:20231009T042717Z
LAST-MODIFIED:20231009T042717Z
UID:30715-1695600000-1697846399@www.teeviit.ee
SUMMARY:Minu eeskuju 2023
DESCRIPTION:Eeskujuliikumine kutsub üles märkama ja tunnustama eeskujusid\, et 11.novembril tunnustada eeskujuliikumine Valge Õhupall tänusündmusel „Märkan eeskuju“ esitatud era- ja juriidilisi isikuid. \nEsita eeskuju hiljemalt 20. oktoobriks 2023\, täites ankeet eeskujuliikumise kodulehel www.valgeohupall.ee või saates vastav ankeet (leitav kodulehelt) e-postiaadressile eeskuju@valgeohupall.ee. \nEeskujuliikumise juhtrühm valib kõikide üleskutse “Minu eeskuju” raames esitatud kandidaatide seast välja 11 era- ja/või juriidilist isikut ning ühe noore kuni 20a eeskuju. \nAasta eeskujuks saab esitada\, organisatsioone\, perekondi ja eraisikuid vanuses alates 21a: \n\nkes on oma tegevusega eeskujuks tervema ja turvalisema elukeskkonna loomisel;\nkelle eestvedamisel on tekkinud uus algatus\, mis suurendab kogukonna- ja turvatunnet;\nkes on oma eeskujuga kaasanud tegutsema teisi inimesi ja organisatsioone\, toetades sellega väärtuspõhiste otsuste tegemist;\nkes on oma eeskujuliku tegevuse ja algatustega positiivselt mõjutanud avalikku arvamust;\nkes on silma paistnud tervema ja turvalisema tuleviku kujundamisega seotud teemade nähtaval hoidmisel ühiskonnas.\n\nAasta nooreks eeskujukus saab esitada eraisikuid vanuses kuni 20a: \n\nkelle teo või töö tulemusel on tekkinud uus algatus\, mis suurendab teiste inimeste heaolu;\nkes on oma eeskujuga kaasanud tegutsema teisi lapsi ja/või täiskasvanuid\, muutes sellega positiivselt teiste inimeste elu.\n\nAllikas ja esitamine: https://valgeohupall.ee/2023/09/25/minu-eeskuju-2023/ \n 
URL:https://www.teeviit.ee/sundmus/minu-eeskuju-2023/
CATEGORIES:Konkurss
ATTACH;FMTTYPE=image/jpeg:https://www.teeviit.ee/wp-content/uploads/2023/10/minu-eeskuju-2023-03.jpg
END:VEVENT
END:VCALENDAR