BEGIN:VCALENDAR
VERSION:2.0
PRODID:-//Teeviit - ECPv6.15.4//NONSGML v1.0//EN
CALSCALE:GREGORIAN
METHOD:PUBLISH
X-ORIGINAL-URL:https://www.teeviit.ee
X-WR-CALDESC:Events for Teeviit
REFRESH-INTERVAL;VALUE=DURATION:PT1H
X-Robots-Tag:noindex
X-PUBLISHED-TTL:PT1H
BEGIN:VTIMEZONE
TZID:Europe/Helsinki
BEGIN:DAYLIGHT
TZOFFSETFROM:+0200
TZOFFSETTO:+0300
TZNAME:EEST
DTSTART:20230326T010000
END:DAYLIGHT
BEGIN:STANDARD
TZOFFSETFROM:+0300
TZOFFSETTO:+0200
TZNAME:EET
DTSTART:20231029T010000
END:STANDARD
END:VTIMEZONE
BEGIN:VEVENT
DTSTART;TZID=Europe/Helsinki:20230411T110000
DTEND;TZID=Europe/Helsinki:20230412T150000
DTSTAMP:20260421T185851
CREATED:20230323T100937Z
LAST-MODIFIED:20230323T100937Z
UID:17791-1681210800-1681311600@www.teeviit.ee
SUMMARY:Õpilaste teadusfestival 2023
DESCRIPTION:Õpilaste teadusfestival on kevaditi toimuv suursündmus\, millega tähistame teadust ja noori teaduses. Festival toimub Eesti Rahva Muuseumis 11.-12. aprillil 2023. Festivali raames leiab aset ka Õpilaste teadustööde riikliku konkursi II voor ning parimate tööde posterettekannetega on võimalik tutvuda kõikidel festivali külastajatel. \nLisaks on võimalus kahe päeva jooksul osa võtta põnevatest töötubadest ning kuulata inspireerivaid ettekandeid. Festival on ka hea viis õpilastele tulevase uurimis- või loovtöö teema leidmiseks ja inspiratsiooni ammutamiseks. Õpilased\, kellel on uurimistöö tegemine alles ees\, saavad näha\, mida ja kuidas teised õpilased uurinud on. Lisaks saab ülevaate erinevatest kasutatavatest meetoditest ja võimalustest töö tegemisest ülikoolide või teadusasutuste juures. Sarnaselt õpilastele jagub inspiratsiooni ka õpetajatele\, keda julgustame kasutama enda klassiruumis põnevaid lahendusi ning miks mitte tegema koostöö kooliväliste organisatsioonidega. \nLisainfo: \nAnnely Allik\nTel: 730 0333\nannely.allik@etag.ee\nhttps://miks.ee/teadusfestival
URL:https://www.teeviit.ee/sundmus/opilaste-teadusfestival-2023/
LOCATION:Eesti Rahva Muuseum\, Muuseumi tee 2\, Tartu\, Tartu\, 60532\, Eesti
CATEGORIES:Inspiratsioonipäev,Loeng
ATTACH;FMTTYPE=image/jpeg:https://www.teeviit.ee/wp-content/uploads/2023/03/miks-banner-teadusfest-2023_820x320.jpg
END:VEVENT
END:VCALENDAR