BEGIN:VCALENDAR
VERSION:2.0
PRODID:-//Teeviit - ECPv6.15.4//NONSGML v1.0//EN
CALSCALE:GREGORIAN
METHOD:PUBLISH
X-WR-CALNAME:Teeviit
X-ORIGINAL-URL:https://www.teeviit.ee
X-WR-CALDESC:Events for Teeviit
REFRESH-INTERVAL;VALUE=DURATION:PT1H
X-Robots-Tag:noindex
X-PUBLISHED-TTL:PT1H
BEGIN:VTIMEZONE
TZID:Europe/Tallinn
BEGIN:DAYLIGHT
TZOFFSETFROM:+0200
TZOFFSETTO:+0300
TZNAME:EEST
DTSTART:20240331T010000
END:DAYLIGHT
BEGIN:STANDARD
TZOFFSETFROM:+0300
TZOFFSETTO:+0200
TZNAME:EET
DTSTART:20241027T010000
END:STANDARD
END:VTIMEZONE
BEGIN:VEVENT
DTSTART;TZID=Europe/Tallinn:20240507T080000
DTEND;TZID=Europe/Tallinn:20240507T170000
DTSTAMP:20260420T155257
CREATED:20240507T091253Z
LAST-MODIFIED:20240507T091253Z
UID:37722-1715068800-1715101200@www.teeviit.ee
SUMMARY:Töö- ja õpirände võimalustest Euroopa Liidus
DESCRIPTION:Eesti Noorteühenduste Liit koostöös Euroopa Parlamendi Bürooga Eestis kutsuvad sel kevadel kõiki noori osalema inspireerivatel ja põnevatel aruteludel ning töötubades Tallinnas\, Euroopa Elamuskeskuses (Rävala pst 4)! \nIII sündmus toimub 11. mail 2024 algusega kell 10.30 ning keskendub töö- ja õpirände võimalustele Euroopa Liidus! Külla tulevad erinevad organisatsioonid ja noored\, kes on käinud end ühel või teisel moel Eestist väljaspool täiendamas ning tulnud tagasi\, et saadud teadmisi ja kogemusi teistele edasi jagada. \nPeale noorte inspireerivate kogemuslugude kuulamist toimub elav raamatukogu\, kus on võimalik otse allikast uurida erinevaid võimalusi Euroopa Liidus õppimise ja töötamise kohta ning saada vastused tekkinud küsimustele. \n\n❗👉 REGISTREERI END SÜNDMUSELE KUNI 08.05 SIIN! \nLisainfo ja allikas: docs.google.com/forms/d/e/1FAIpQLSfNwOH7uiWgPXGbjllG6mEjN31ffxsdH60GBH_yctlrF2j3Kw/viewform
URL:https://www.teeviit.ee/sundmus/too-ja-opirande-voimalustest-euroopa-liidus/
LOCATION:Tallinn
CATEGORIES:Inspiratsioonipäev
END:VEVENT
END:VCALENDAR