BEGIN:VCALENDAR
VERSION:2.0
PRODID:-//Teeviit - ECPv6.15.4//NONSGML v1.0//EN
CALSCALE:GREGORIAN
METHOD:PUBLISH
X-ORIGINAL-URL:https://www.teeviit.ee
X-WR-CALDESC:Events for Teeviit
REFRESH-INTERVAL;VALUE=DURATION:PT1H
X-Robots-Tag:noindex
X-PUBLISHED-TTL:PT1H
BEGIN:VTIMEZONE
TZID:Europe/Tallinn
BEGIN:DAYLIGHT
TZOFFSETFROM:+0200
TZOFFSETTO:+0300
TZNAME:EEST
DTSTART:20250330T010000
END:DAYLIGHT
BEGIN:STANDARD
TZOFFSETFROM:+0300
TZOFFSETTO:+0200
TZNAME:EET
DTSTART:20251026T010000
END:STANDARD
END:VTIMEZONE
BEGIN:VEVENT
DTSTART;TZID=Europe/Tallinn:20250429T150000
DTEND;TZID=Europe/Tallinn:20250429T174500
DTSTAMP:20260419T190535
CREATED:20250326T083114Z
LAST-MODIFIED:20250326T083114Z
UID:48467-1745938800-1745948700@www.teeviit.ee
SUMMARY:Veebiloeng noortele "Kandideerimisdokumendid"
DESCRIPTION:Veebiloengus tutvustatakse kooli või tööle kandideerimiseks vajalike dokumentide koostamist ja kasutamist. \n\nSelgitame\, kuidas koostada korrektset CV-d.\nRäägime motivatsioonikirja ja kaaskirja ülesehitusest.\nSoovijad saavad oma CV\, motivatsiooni- või kaaskirja\, video-CV koostamisel abi ka töötukassa esinduses.\n\nOtseülekanne toimub minukarjaar.ee lehel. \nLisainfo: https://minukarjaar.ee/et/sundmused/kandideerimisdokumendid
URL:https://www.teeviit.ee/sundmus/veebiloeng-noortele-kandideerimisdokumendid/
LOCATION:Veebis
CATEGORIES:Infotund
ATTACH;FMTTYPE=image/jpeg:https://www.teeviit.ee/wp-content/uploads/2025/03/kandideerimisdokumendid.jpg
END:VEVENT
END:VCALENDAR