BEGIN:VCALENDAR
VERSION:2.0
PRODID:-//Teeviit - ECPv6.15.4//NONSGML v1.0//EN
CALSCALE:GREGORIAN
METHOD:PUBLISH
X-ORIGINAL-URL:https://www.teeviit.ee
X-WR-CALDESC:Events for Teeviit
REFRESH-INTERVAL;VALUE=DURATION:PT1H
X-Robots-Tag:noindex
X-PUBLISHED-TTL:PT1H
BEGIN:VTIMEZONE
TZID:Europe/Tallinn
BEGIN:DAYLIGHT
TZOFFSETFROM:+0200
TZOFFSETTO:+0300
TZNAME:EEST
DTSTART:20250330T010000
END:DAYLIGHT
BEGIN:STANDARD
TZOFFSETFROM:+0300
TZOFFSETTO:+0200
TZNAME:EET
DTSTART:20251026T010000
END:STANDARD
END:VTIMEZONE
BEGIN:VEVENT
DTSTART;TZID=Europe/Tallinn:20250328T170000
DTEND;TZID=Europe/Tallinn:20250328T190000
DTSTAMP:20260419T222317
CREATED:20250306T101348Z
LAST-MODIFIED:20250306T101847Z
UID:47893-1743181200-1743188400@www.teeviit.ee
SUMMARY:YFU Eesti infotund vahetusõpilaseks saamisest (Tallinn)
DESCRIPTION:Kui sa oled noor vanuses 14-18 (või õige pea saamas 14) ja oleksid huvitatud veetma ühe aasta välismaal õppides\, siis YFU infotund on just sulle! Tule uuri lähemalt\, kuidas vahetusaasta välja näeb ja kuula endiste vahetusõpilaste kogemusi.\n\n\n\n28.03.2025 infotundi viivad läbi noored\, kellest üks käis Tais ja teine Argentinas\, seega põhifookuseks seekord just need riigid. Kuid tasub meeles hoida\, et vahetusõpilaseks saamise protsess on olenemata riigist sama. \nOsalemiseks tuleb end registreerida siin. \n\n\n\n\n\n\n\nInfotunnis tuleb juttu vahetusõpilaseks saamise teekonnast läbi asja vahetusaastalt tagasi tulnud noorte kogemuslugude. Näitame pilte\, räägime lähemalt erinevatest kultuuridest\, vastame vahetusaastaga seotud küsimustele ning otseloomulikult pakume kommi\, snäkke ja morssi! See on hea viis saada rohkem aimu\, mis asi see vahetusaasta täpsemalt on\, miks üldse sinna minna ja kuidas vahetusõpilaseks saada.
URL:https://www.teeviit.ee/sundmus/yfu-eesti-infotund-vahetusopilaseks-saamisest-tallinn/
LOCATION:Tallinn
CATEGORIES:Infotund
ATTACH;FMTTYPE=image/png:https://www.teeviit.ee/wp-content/uploads/2025/03/yfu.png
END:VEVENT
END:VCALENDAR