BEGIN:VCALENDAR
VERSION:2.0
PRODID:-//Teeviit - ECPv6.15.4//NONSGML v1.0//EN
CALSCALE:GREGORIAN
METHOD:PUBLISH
X-ORIGINAL-URL:https://www.teeviit.ee
X-WR-CALDESC:Events for Teeviit
REFRESH-INTERVAL;VALUE=DURATION:PT1H
X-Robots-Tag:noindex
X-PUBLISHED-TTL:PT1H
BEGIN:VTIMEZONE
TZID:Europe/Tallinn
BEGIN:DAYLIGHT
TZOFFSETFROM:+0200
TZOFFSETTO:+0300
TZNAME:EEST
DTSTART:20250330T010000
END:DAYLIGHT
BEGIN:STANDARD
TZOFFSETFROM:+0300
TZOFFSETTO:+0200
TZNAME:EET
DTSTART:20251026T010000
END:STANDARD
END:VTIMEZONE
BEGIN:VEVENT
DTSTART;TZID=Europe/Tallinn:20250411T170000
DTEND;TZID=Europe/Tallinn:20250411T190000
DTSTAMP:20260419T190347
CREATED:20250306T101504Z
LAST-MODIFIED:20250306T101838Z
UID:47895-1744390800-1744398000@www.teeviit.ee
SUMMARY:YFU Eesti infotund vahetusõpilaseks saamisest (Tallinn)
DESCRIPTION:Kui sa oled noor vanuses 14-18 (või õige pea saamas 14) ja oleksid huvitatud veetma ühe aasta välismaal õppides\, siis YFU infotund on just sulle! Tule uuri lähemalt\, kuidas vahetusaasta välja näeb ja kuula endiste vahetusõpilaste kogemusi.\n\n\n\n11.04.2025 infotundi viivad läbi noored\, kes käisid Uruguays ja Itaalias\, seega põhifookuseks seekord just need riigid. Kuid tasub meeles hoida\, et vahetusõpilaseks saamise protsess on olenemata riigist sama. \nOsalemiseks tuleb end registreerida siin. \n\n\n\n\n\n\n\nInfotunnis tuleb juttu vahetusõpilaseks saamise teekonnast läbi asja vahetusaastalt tagasi tulnud noorte kogemuslugude. Näitame pilte\, räägime lähemalt erinevatest kultuuridest\, vastame vahetusaastaga seotud küsimustele ning otseloomulikult pakume kommi\, snäkke ja morssi! See on hea viis saada rohkem aimu\, mis asi see vahetusaasta täpsemalt on\, miks üldse sinna minna ja kuidas vahetusõpilaseks saada.
URL:https://www.teeviit.ee/sundmus/yfu-eesti-infotund-vahetusopilaseks-saamisest-tallinn-2/
LOCATION:Tallinn
CATEGORIES:Infotund
ATTACH;FMTTYPE=image/png:https://www.teeviit.ee/wp-content/uploads/2025/03/yfu.png
END:VEVENT
BEGIN:VEVENT
DTSTART;TZID=Europe/Tallinn:20250425T170000
DTEND;TZID=Europe/Tallinn:20250425T190000
DTSTAMP:20260419T190347
CREATED:20250306T101625Z
LAST-MODIFIED:20250306T101829Z
UID:47897-1745600400-1745607600@www.teeviit.ee
SUMMARY:YFU Eesti infotund vahetusõpilaseks saamisest (Tartu)
DESCRIPTION:Kui sa oled noor vanuses 14-18 (või õige pea saamas 14) ja oleksid huvitatud veetma ühe aasta välismaal õppides\, siis YFU infotund on just sulle! Tule uuri lähemalt\, kuidas vahetusaasta välja näeb ja kuula endiste vahetusõpilaste kogemusi.\n\n\n\n25.04.2025 infotund on selle hooaja viimane infotund! Järgmised alles septembris. \nOsalemiseks tuleb end registreerida siin. \n\n\n\n\n\n\n\nInfotunnis tuleb juttu vahetusõpilaseks saamise teekonnast läbi asja vahetusaastalt tagasi tulnud noorte kogemuslugude. Näitame pilte\, räägime lähemalt erinevatest kultuuridest\, vastame vahetusaastaga seotud küsimustele ning otseloomulikult pakume kommi\, snäkke ja morssi! See on hea viis saada rohkem aimu\, mis asi see vahetusaasta täpsemalt on\, miks üldse sinna minna ja kuidas vahetusõpilaseks saada.
URL:https://www.teeviit.ee/sundmus/yfu-eesti-infotund-vahetusopilaseks-saamisest-tartu-2/
LOCATION:Tartu
CATEGORIES:Infotund
ATTACH;FMTTYPE=image/png:https://www.teeviit.ee/wp-content/uploads/2025/03/yfu.png
END:VEVENT
BEGIN:VEVENT
DTSTART;TZID=Europe/Tallinn:20250428T150000
DTEND;TZID=Europe/Tallinn:20250428T160000
DTSTAMP:20260419T190347
CREATED:20250326T082730Z
LAST-MODIFIED:20250326T082730Z
UID:48462-1745852400-1745856000@www.teeviit.ee
SUMMARY:Veebiloeng noortele "Suveks tööle"
DESCRIPTION:Veebiloengus käsitletakse noorte töötamisega seonduvaid võimalusi\, sh kuidas valida endale sobilikku töökohta. \n\nRäägime\, miks ja kuidas otsida suveks tööd.\nSelgitame\, millised tööd sobivad noorele suveks.\nTutvustame alaealisena töötamise eripärasid.\n\nOtseülekanne toimub minukarjaar.ee lehel. \nLisainfo: https://minukarjaar.ee/et/sundmused/suveks-toole 
URL:https://www.teeviit.ee/sundmus/veebiloeng-noortele-suveks-toole/
LOCATION:Veebis
CATEGORIES:Infotund
ATTACH;FMTTYPE=image/png:https://www.teeviit.ee/wp-content/uploads/2025/03/suveks-toole.png
END:VEVENT
BEGIN:VEVENT
DTSTART;TZID=Europe/Tallinn:20250429T150000
DTEND;TZID=Europe/Tallinn:20250429T174500
DTSTAMP:20260419T190347
CREATED:20250326T083114Z
LAST-MODIFIED:20250326T083114Z
UID:48467-1745938800-1745948700@www.teeviit.ee
SUMMARY:Veebiloeng noortele "Kandideerimisdokumendid"
DESCRIPTION:Veebiloengus tutvustatakse kooli või tööle kandideerimiseks vajalike dokumentide koostamist ja kasutamist. \n\nSelgitame\, kuidas koostada korrektset CV-d.\nRäägime motivatsioonikirja ja kaaskirja ülesehitusest.\nSoovijad saavad oma CV\, motivatsiooni- või kaaskirja\, video-CV koostamisel abi ka töötukassa esinduses.\n\nOtseülekanne toimub minukarjaar.ee lehel. \nLisainfo: https://minukarjaar.ee/et/sundmused/kandideerimisdokumendid
URL:https://www.teeviit.ee/sundmus/veebiloeng-noortele-kandideerimisdokumendid/
LOCATION:Veebis
CATEGORIES:Infotund
ATTACH;FMTTYPE=image/jpeg:https://www.teeviit.ee/wp-content/uploads/2025/03/kandideerimisdokumendid.jpg
END:VEVENT
END:VCALENDAR