BEGIN:VCALENDAR
VERSION:2.0
PRODID:-//Teeviit - ECPv6.15.4//NONSGML v1.0//EN
CALSCALE:GREGORIAN
METHOD:PUBLISH
X-WR-CALNAME:Teeviit
X-ORIGINAL-URL:https://www.teeviit.ee
X-WR-CALDESC:Events for Teeviit
REFRESH-INTERVAL;VALUE=DURATION:PT1H
X-Robots-Tag:noindex
X-PUBLISHED-TTL:PT1H
BEGIN:VTIMEZONE
TZID:Europe/Tallinn
BEGIN:DAYLIGHT
TZOFFSETFROM:+0200
TZOFFSETTO:+0300
TZNAME:EEST
DTSTART:20250330T010000
END:DAYLIGHT
BEGIN:STANDARD
TZOFFSETFROM:+0300
TZOFFSETTO:+0200
TZNAME:EET
DTSTART:20251026T010000
END:STANDARD
END:VTIMEZONE
BEGIN:VEVENT
DTSTART;TZID=Europe/Tallinn:20250226T110000
DTEND;TZID=Europe/Tallinn:20250226T150000
DTSTAMP:20260419T221945
CREATED:20250213T100532Z
LAST-MODIFIED:20250213T100532Z
UID:46371-1740567600-1740582000@www.teeviit.ee
SUMMARY:Tallinna ja Harjumaa Riigigümnaasiumite treff
DESCRIPTION:Oled lõpetamas põhikooli ja soovid jätkata õpinguid gümnaasiumis? Väga hea! Aga kas jätkad oma senises koolis või kandideerid mujale? Sinu praegune kool on kindlasti hea ja turvaline valik aga kui juba mujale\, siis miks mitte riigigümnaasiumisse! \nTule\, teeme sulle valiku lihtsamaks! Tallinna Karjäärikeskus toob sinu ette Harjumaa riigigümnaasiumid läbi põneva vestlussaate formaadi! Tutvustame koolide eripärasid ja võimalusi\, räägime koolielust läbi õpilaste silmade ning selgitame\, kuidas sisseastumisel endast parim välja panna. Vestlust juhivad karjäärispetsialistid\, kes ka omalt poolt soovitusi jagavad. \nNäiteks saad vastused küsimustele: \n\nKuidas valida\, kui häid valikuid on mitu ehk mismoodi prioriteete seada?\nKuidas sisseastumisvestlusel silma jääda ja mida vastuvõtukomisjon hindab?\nMida saad juba praegu ära teha\, et koolikatsed oleksid positiivne kogemus?\nMil moel erineb õpe riigigümnaasiumist põhikoolist ja kuidas võimalustest maksimaalne võtta?\nMis on kõige olulisem mõte\, mida pingelistel hetkedel meeles pidada?\n\nOtseülekanne sündmusest toimub minukarjäär.ee lehel. \nPäevakava \n11:00 – 11:25 Avaettekanne: Sa saad hakkama!\n11:30 – 11:50 Rae Riigigümnaasium\n12:00 – 12:25 Saue Riigigümnaasium\n12:30 – 12:55 Tabasalu Gümnaasium\n13:30 – 13:55 Tallinna Mustamäe Riigigümnaasium\n14:00 – 14:25 Tallinna Pelgulinna Riigigümnaasium\n14:30 – 14:55 Tallinna Tõnismäe Riigigümnaasium\n15:00 – 15:25 Viimsi Gümnaasium \nKui soovid osaleda Tallinna karjäärikeskuses kohapeal\, siis registreeru aegsasti\, sest kohtade arv on piiratud. \nVaata karjääripäeva täpsemat infot Minukarjäär sündmuste rubriigist.
URL:https://www.teeviit.ee/sundmus/tallinna-ja-harjumaa-riigigumnaasiumite-treff/
LOCATION:Veebis
CATEGORIES:Infotund,Arutelu
ATTACH;FMTTYPE=image/png:https://www.teeviit.ee/wp-content/uploads/2025/02/treff.png
END:VEVENT
BEGIN:VEVENT
DTSTART;TZID=Europe/Tallinn:20250227T100000
DTEND;TZID=Europe/Tallinn:20250227T150000
DTSTAMP:20260419T221945
CREATED:20250213T102026Z
LAST-MODIFIED:20250213T102027Z
UID:46384-1740650400-1740668400@www.teeviit.ee
SUMMARY:Tallinna Karjäärikeskuse karjääripäev üheksandikele
DESCRIPTION:Hea põhikooli lõpetaja! \nSel kevadel on sul ees olulised otsused ja tähtsad valikud – oled sa valmis? Tead\, milline kool on just sinu jaoks see õige? Tunned end vestlustel enesekindlalt? Usud\, et oled oma valikutest teadlik ja sihid on paigas? Kui jah\, siis suurepärane! \nKui aga tunned siiski väikest ebakindlust\, ei tea veel päris täpselt\, mida edasi teha või tahaksid kõrvalpilku oma plaanidele\, siin on Tallinna Karjäärikeskuse karjääripäev just sulle! \nVeebruarikuisel koolivaheajal ootavad sind praktilised töötoad\, kasulikud vestlussimulatsioonid ning inspireerivad karjäärinõustamised. Tule üksi või sõbraga – just nii nagu sulle paremini sobib! Vaata võimaluste valikut\, pane end kirja ja oled sisseastumiseks parimal moel valmistunud. \nPäevakava\n10:00 – 11:30\nTöötuba “Eneseanalüüs” \nTöötoas aitame sul õppida ennast analüüsima ja kasutama tulemusi teadlike valikute tegemiseks. Juhendame\, kuidas saaksid teada oma olulised isikuomadused ja tõelised tugevused\, et kujundada enda minapilt.  Räägime ka sellest\, kuidas oma huvide põhjal teha häid valikuid haridus- ja tööelus. \nNB! Kohad on piiratud. Osalemiseks on vajalik registreerumine. \n11:00 – 13:00\nTöötuba “Kooli kandideerimine” \nTöötoas tutvustame sulle kooli kandideerimisvestluse protsessi. Saad teada\, mismoodi vestlus toimub ja kuidas end kandideerimiseks ette valmistada. Räägime\, mil moel vestlusel oma parimad küljed esile tuua\, kuidas jätta mõjus esmamulje ning vaatame koos üle ka enamlevinud vestluse küsimused. \nNB! Kohad on piiratud. Osalemiseks on vajalik registreerumine. \n12:30 – 14:00\nTöötuba “Kooli kandideerimine” \nTöötoas tutvustame sulle kooli kandideerimisvestluse protsessi. Saad teada\, mismoodi vestlus toimub ja kuidas end kandideerimiseks ette valmistada. Räägime\, mil moel vestlusel oma parimad küljed esile tuua\, kuidas jätta mõjus esmamulje ning vaatame koos üle ka enamlevinud vestluse küsimused. \nNB! Kohad on piiratud. Osalemiseks on vajalik registreerumine. \n13:30 – 15:30\nTöötuba “Haridussüsteem ja õppimisvõimalused – valikud peale põhikooli” \nTöötoas anname sulle ülevaate õppimisvõimalustest peale põhikooli\, et saaksid just enda oskuste ja omadustega arvestavalt sobiva valiku teha.  Räägime kust ja kuidas vajalikku infot leida ning toome välja\, millistes ametites on praegu töökäte puudus. Koos analüüsime omadusi\, mis on erinevate valikute eelduseks ning mõtleme läbi igaühe õpitee valikud ja ka varuplaani juhuks\, kui eelistatuim plaan ei peaks õnnestuma. \nNB! Kohad on piiratud. Osalemiseks on vajalik registreerumine. \nSamuti on sul võimalus arutada oma plaane ja võimalusi karjäärinõustajaga või läbi teha koolivestluse simulatsioon. Broneeri aeg karjäärispetsialistiga kohtumiseks aegsasti\, sest aegu on piiratud koguses. \nVaata karjääripäeva täpsemat infot Minukarjäär sündmuste rubriigist.
URL:https://www.teeviit.ee/sundmus/tallinna-karjaarikeskuse-karjaaripaev-uheksandikele/
LOCATION:Tallinna Karjäärikeskus\, Tartu mnt 80\, Tallinn\, Estonia
CATEGORIES:Infotund
ATTACH;FMTTYPE=image/jpeg:https://www.teeviit.ee/wp-content/uploads/2025/02/karjaaripaev-uheksandikele-tallinna-karjaarikeskus.jpg
END:VEVENT
END:VCALENDAR