BEGIN:VCALENDAR
VERSION:2.0
PRODID:-//Teeviit - ECPv6.15.4//NONSGML v1.0//EN
CALSCALE:GREGORIAN
METHOD:PUBLISH
X-ORIGINAL-URL:https://www.teeviit.ee
X-WR-CALDESC:Events for Teeviit
REFRESH-INTERVAL;VALUE=DURATION:PT1H
X-Robots-Tag:noindex
X-PUBLISHED-TTL:PT1H
BEGIN:VTIMEZONE
TZID:Europe/Tallinn
BEGIN:DAYLIGHT
TZOFFSETFROM:+0200
TZOFFSETTO:+0300
TZNAME:EEST
DTSTART:20250330T010000
END:DAYLIGHT
BEGIN:STANDARD
TZOFFSETFROM:+0300
TZOFFSETTO:+0200
TZNAME:EET
DTSTART:20251026T010000
END:STANDARD
END:VTIMEZONE
BEGIN:VEVENT
DTSTART;VALUE=DATE:20251017
DTEND;VALUE=DATE:20251019
DTSTAMP:20260420T015939
CREATED:20250917T101619Z
LAST-MODIFIED:20250917T101619Z
UID:56416-1760659200-1760831999@www.teeviit.ee
SUMMARY:Elektroonikavaldkonna noortefestival Positron
DESCRIPTION:17.-18. oktoober 2025 on noored oodatud elektrivaldkonna noortefestival Positron\, mis toimub Tallinnas Unibet Arenal. \nFestival annab ülevaate elektri- ja energeetikavaldkonnas tegutsevatest ettevõtetest\, innovaatilistest projektidest ja karjäärivalikutest – kõike läbi mitmekülgse meelelahutuse\, mis pakub põnevust igale huvilisele\, erinevas raskusastmes. \nLisainfo: Positron – Elektrivaldkonna Noortefestival
URL:https://www.teeviit.ee/sundmus/elektroonikavaldkonna-noortefestival-positron/
LOCATION:Unibet Arena (Tallinn)
CATEGORIES:Festival
END:VEVENT
END:VCALENDAR