BEGIN:VCALENDAR
VERSION:2.0
PRODID:-//Teeviit - ECPv6.15.4//NONSGML v1.0//EN
CALSCALE:GREGORIAN
METHOD:PUBLISH
X-ORIGINAL-URL:https://www.teeviit.ee
X-WR-CALDESC:Events for Teeviit
REFRESH-INTERVAL;VALUE=DURATION:PT1H
X-Robots-Tag:noindex
X-PUBLISHED-TTL:PT1H
BEGIN:VTIMEZONE
TZID:Europe/Tallinn
BEGIN:DAYLIGHT
TZOFFSETFROM:+0200
TZOFFSETTO:+0300
TZNAME:EEST
DTSTART:20250330T010000
END:DAYLIGHT
BEGIN:STANDARD
TZOFFSETFROM:+0300
TZOFFSETTO:+0200
TZNAME:EET
DTSTART:20251026T010000
END:STANDARD
END:VTIMEZONE
BEGIN:VEVENT
DTSTART;TZID=Europe/Tallinn:20250206T170000
DTEND;TZID=Europe/Tallinn:20250206T200000
DTSTAMP:20260420T031502
CREATED:20250129T101430Z
LAST-MODIFIED:20250129T101430Z
UID:45738-1738861200-1738872000@www.teeviit.ee
SUMMARY:Gustav Adolfi Gümnaasiumi avatud uste päev 2025
DESCRIPTION:Oled 9. klassi õpilane ja soovid rohkem teada Gustav Adolfi Gümnaasiumi kohta? \nMeil on rõõm teatada\, et 6. veebruaril 2025 toimub GAG avatud uste päev\, kus Sul on võimalus tutvuda Eesti vanima järjepidevalt tegutseva kooli õppimisvõimaluste ja ainulaadse õhustikuga! \nAeg ja koht: \n Kuupäev: 6. veebruar 2025 \n Kellaaeg: 17:00–20:00 \n Asukoht: Gustav Adolfi Gümnaasiumi peamaja\, Suur-Kloostri 16 \n  \nAjakava \nAvatud uste päev sisaldab erinevaid tegevusi\, mis aitavad Sul põhjalikult tutvuda meie koolielu ja võimalustega. \n\nKoolituurid (16:30-16:50)\n\nEnne töötube ja infotunde soovitame tungivalt liituda koolituuriga\, eriti kui Sa pole varem meie majas käinud. Koolituuri käigus näed GAG-i ajaloolist hoonet\, klassiruume ja saad aimu meie õpikeskkonnast. \n\nInfotunnid ja töötoad (17:00–20:00)\n\n17:00-17:30 infotund  või  17:00-18:00 töötuba I \n17:40-18:40 töötuba I  või  18:10-18:40 infotund \n18:50-19:50 töötuba II \n  \nRohkem infot ja registreerimine: https://gag.ee/sisseastumine/gumnaasiumi-i-astmesse/avp/ \n  \n 
URL:https://www.teeviit.ee/sundmus/gustav-adolfi-gumnaasiumi-avatud-uste-paev-2025/
LOCATION:Gustav Adolfi Gümnaasiumi peamaja\, Suur-Kloostri 16\, Tallinn\, Estonia
CATEGORIES:Avatud uste päev
ATTACH;FMTTYPE=image/png:https://www.teeviit.ee/wp-content/uploads/2025/01/gag-aup.png
END:VEVENT
BEGIN:VEVENT
DTSTART;TZID=Europe/Tallinn:20250225T100000
DTEND;TZID=Europe/Tallinn:20250225T160000
DTSTAMP:20260420T031502
CREATED:20250128T121539Z
LAST-MODIFIED:20250128T121539Z
UID:45651-1740477600-1740499200@www.teeviit.ee
SUMMARY:Tallinna Ülikooli Avatud uste päev 2025
DESCRIPTION:Sind ootavad traditsioonilised infotunnid\, töötoad\, messiala\, karjäärinõustajad\, instituutide ja üliõpilaskonna esindajad ning loomekollektiivid\, et saaksid tutvuda õppekavade\, inimeste ja ülikooli linnakuga. Infotunnis saad ülevaate erinevatest õppekavadest ja sisseastumistingimustest ning kuulata inspireerivaid lugusid õppejõududelt ja tudengitelt. \nAvatud uste päev on suurepärane võimalus kogeda ülikooli atmosfääri ja teha teadlikke otsuseid oma tuleviku kujundamiseks. Tule kohale ja avasta\, kuidas Tallinna Ülikool saab olla osa sinu eduloost! \n  \nRohkem infot: https://www.tlu.ee/avatud-uste-paev-2025
URL:https://www.teeviit.ee/sundmus/tallinna-ulikooli-avatud-uste-paev-2025/
LOCATION:Tallinna Ülikool
CATEGORIES:Avatud uste päev
ATTACH;FMTTYPE=image/jpeg:https://www.teeviit.ee/wp-content/uploads/2025/01/2025-avatud-uksed-2880x920-1-scaled.jpg
END:VEVENT
BEGIN:VEVENT
DTSTART;VALUE=DATE:20250226
DTEND;VALUE=DATE:20250227
DTSTAMP:20260420T031502
CREATED:20250129T081539Z
LAST-MODIFIED:20250129T081539Z
UID:45715-1740528000-1740614399@www.teeviit.ee
SUMMARY:Pallase avatud uste päev 2025
DESCRIPTION: Pallas avab kolmapäeval\, 26. veebruaril kõikidele huvilistele oma uksed! Tule tutvu meie kaheksa praktilise loomeerialaga\, uudista ringi stuudiotes ja töökodades ning uuri praegustelt tudengitelt\, mille põnevaga nad Pallases igapäevaselt tegelevad \nTäpsema päevakava avaldame veebruaris. Registreerunutele saadame info ka otse meilile.\nRegistreeri oma osalemine siin: https://forms.office.com/e/XBkertwC3m\n\nLisainfo Pallase kodulehel: https://pallasart.ee/sisseastumine/
URL:https://www.teeviit.ee/sundmus/pallase-avatud-uste-paev-2025/
LOCATION:Tartu Kõrgem Kunstikool Pallas\, Tähe 38b\, Tartu\, Eesti
CATEGORIES:Avatud uste päev
ATTACH;FMTTYPE=image/jpeg:https://www.teeviit.ee/wp-content/uploads/2025/01/474520195_1182454840554594_6699417466875056677_n.jpg
END:VEVENT
BEGIN:VEVENT
DTSTART;TZID=Europe/Tallinn:20250226T093000
DTEND;TZID=Europe/Tallinn:20250226T170000
DTSTAMP:20260420T031502
CREATED:20250129T080800Z
LAST-MODIFIED:20250129T080800Z
UID:45710-1740562200-1740589200@www.teeviit.ee
SUMMARY:Tartu Tervishoiu Kõrgkooli avatud uste päev 2025
DESCRIPTION:Tartu Tervishoiu Kõrgkool avab taas oma uksed! Kool ootab sind endale külla 26. veebruaril 2025! \nAvatud uste päeval ootab sind kõrgkoolis põnev programm\, mille käigus saad rohkem infot kõrgkoolielu ja õppekavade kohta\, tutvuda meie põneva majaga ning samuti saad vastused enda küsimustele! \nAvame oma uksed kell 9.30\, kus pakume koos rektoriga esimestele saabujatele kerget kehakinnitust. Kui kõht täis\, siis saame alustada päevaprogrammiga: \n10.00-14.00 toimuvad vestlusringid\, kus kuuled meie praeguste õppurite kogemusi kui ka seda\, kuidas on läinud meie vilistlastel. \n10.00-14.00 toimuvad meie õppekavade töötoad\, kus saad juba süvitsi minna endale huvipakkuva õppekavaga. Sind ootavad meie õppejõud ja õppurid\, kes räägivad ja näitavad juba täpsemalt\, mis sind õppides ees ootamas on. \n10:30-13:00 toimub messiala\, kus sind ootavad ees erinevate õppekavade inimesed\, aga saad lisaks küsida infot nii vastuvõtu\, ÜE kui ka spordiesinduse kohta! Hea võimalus vahetult suhelda ja saada oma küsimustele vastused! \nKui sa koha peale tulla ei saa või tahad kuulata lisaks\, siis kell 16.00 ootab veebis sinuga kohumist meie rektor\, kelle käest on võimalik küsida küsimusi kõrgkoolielu kohta. Registreeri ennast veebikohtumisele ja esita küsimus siin. \nTäpsem info ja registreerimine: https://www.tartuh.ee/oppimine/avatud-uksed/
URL:https://www.teeviit.ee/sundmus/tartu-tervishoiu-korgkooli-avatud-uste-paev-2025/
LOCATION:Tartu Tervishoiu Kõrgkool\, Nooruse 5\, Tartu\, Eesti
CATEGORIES:Avatud uste päev
ATTACH;FMTTYPE=image/jpeg:https://www.teeviit.ee/wp-content/uploads/2025/01/tartu-tervis-aup.jpg
END:VEVENT
BEGIN:VEVENT
DTSTART;TZID=Europe/Tallinn:20250226T100000
DTEND;TZID=Europe/Tallinn:20250226T170000
DTSTAMP:20260420T031502
CREATED:20250128T122203Z
LAST-MODIFIED:20250128T122256Z
UID:45662-1740564000-1740589200@www.teeviit.ee
SUMMARY:Eesti Lennuakadeemia Lahtiste uste päev 2025
DESCRIPTION:Eesti Lennuakadeemia avab oma uksed kõikidele lennundushuvilistele 26. veebruaril 2025 algusega kell 10. Töötoad algavad kell 11. \nPäeva jooksul saab osaleda erinevates loengutes ja töötubades\, tunda ennast piloodina lennusimulaatoris ja tulevase lennundusinsenerina meie õppeangaaris. \nTäpse ajakava ja töötubadesse registreerumise avame veebruaris. Registreeri oma huvi juba täna ja oled esimeste seas\, kes info saab. Kõigi esmaste huvi registreerinute vahel loosime välja lennu lennusimulaaris kahele inimesele (60 min). \n  \nLisainfo ja registreerimine: https://lennuakadeemia.ee/sisseastumine/lahtiste-uste-paev
URL:https://www.teeviit.ee/sundmus/eesti-lennuakadeemia-lahtiste-uste-paev-2025/
LOCATION:Eesti Lennuakadeemia\, Lennu 40\, Reola küla\, Kambja vald\, 61707\, Eesti
CATEGORIES:Avatud uste päev
ATTACH;FMTTYPE=image/jpeg:https://www.teeviit.ee/wp-content/uploads/2024/02/lennu.jpg
END:VEVENT
BEGIN:VEVENT
DTSTART;TZID=Europe/Tallinn:20250226T100000
DTEND;TZID=Europe/Tallinn:20250226T173000
DTSTAMP:20260420T031502
CREATED:20250128T121920Z
LAST-MODIFIED:20250128T121920Z
UID:45657-1740564000-1740591000@www.teeviit.ee
SUMMARY:Tallinna Tehnikaülikooli Avatud uste päev 2025
DESCRIPTION:Sulle avatakse võimalus avastada TalTechi – tule ja saa osa avatud uste päevast! \nPäeva vältel saad: \n\nKoguda Tudengimajas toimuval erialade messil infot meie kõikide teaduskondade\, erialade ja sisseastumistingimuste kohta.\nOsaleda peahoone aulas Eestis täiesti ainulaadsel Labürindijooksul\, mille 15 parimat abiturienti saavad tuleval suvel automaatselt õppekoha Tallinna Tehnikaülikooli vabalt valitud õppekaval (v.a arhitektuur).\nKülastada meie õppejõudude ja teadlaste põnevaid loenguid.\nHarjutada kätt praktilistes töötubades.\nTutvuda Eesti kõige ägedama tudengieluga.\nOsaleda ringkäikudel ja tutvuda Põhjamaade ainsa nii suure linnakuga (õppehooned\, laborid\, ühiselamud\, spordihoone).\nKülastada ülikoolilinnaku mugavaimat õpikeskkonda – tule raamatukokku!\n\nLabürindijooksul\, töötubades\, loengutes ja ringkäikudel osalemiseks on vajalik eelregistreerimine\, mis algab 14. veebruaril. \nRohkem infot ja registreerimine: https://taltech.ee/avatud-uste-paev
URL:https://www.teeviit.ee/sundmus/tallinna-tehnikaulikooli-avatud-uste-paev-2025/
LOCATION:Tallinna Tehnikaülikool\, Ehitajate tee 5\, Tallinn\, 12618\, Estonia
CATEGORIES:Avatud uste päev
ATTACH;FMTTYPE=image/jpeg:https://www.teeviit.ee/wp-content/uploads/2025/01/taltech-aup25.jpg
END:VEVENT
BEGIN:VEVENT
DTSTART;TZID=Europe/Tallinn:20250226T110000
DTEND;TZID=Europe/Tallinn:20250226T153000
DTSTAMP:20260420T031502
CREATED:20250129T081929Z
LAST-MODIFIED:20250129T082006Z
UID:45720-1740567600-1740583800@www.teeviit.ee
SUMMARY:Eesti Maaülikooli avatud uste päev 2025
DESCRIPTION:Ootame sind Eesti Maaülikooli avatud uste päevale! \n\nToimumisaeg: kolmapäev\, 26. veebruar 2025\nAsukoht: Eesti Maaülikooli metsamaja fuajee (F. R. Kreutzwaldi 5\, Tartu)\n\nTule uuri\, mida maaülikoolil on sulle pakkuda ja saa vastused oma küsimustele! Kohapeal kuuled lähemalt meie õppekavadest\, kohtud õppejõududega ning saad vajalikku infot sisseastumise kohta. Meie toredad tudengid jagavad oma kogemusi erialavaliku tegemisel ning tudengiseltsid tutvustavad lähemalt maaülikooli aktiivset tudengielu. Kavas on põnevad loengud ja töötoad ning maaülikooli õppehoonete ekskursioonid. \nMida saad kogeda? \n\n11.00 – 12.00 saa inspiratsiooni maaülikooli tutvustavalt lühikonverentsilt\n10.30 – 15.00 osale infomessil\, kus tutvud meie õppekavade ja tudengiorganisatsioonidega\n10.30 – 15.00 planeeri oma õpinguid karjäärinõustaja juures\n12.30 – 14.30 osale lühiloengutel või rakenda teadmisi praktilistes töötubades\n14.40 – 15.30 mine ringkäigule maaülikooli õppehoonetesse\n\nLisainfo ja registreerimine: https://www.emu.ee/sisseastujale/avatud-uste-paev/ \n 
URL:https://www.teeviit.ee/sundmus/eesti-maaulikooli-avatud-uste-paev-2025/
LOCATION:Eesti Maaülikooli Metsamaja\, Kreutzwaldi 5\, Tartu\, Eesti
CATEGORIES:Avatud uste päev
ATTACH;FMTTYPE=image/png:https://www.teeviit.ee/wp-content/uploads/2025/01/epaavatud_uste_paev_2025.png
END:VEVENT
BEGIN:VEVENT
DTSTART;VALUE=DATE:20250227
DTEND;VALUE=DATE:20250228
DTSTAMP:20260420T031502
CREATED:20250128T122604Z
LAST-MODIFIED:20250128T122638Z
UID:45666-1740614400-1740700799@www.teeviit.ee
SUMMARY:EKA avatud uste päev 2025
DESCRIPTION:Kui mõte EKAs õppimisest paneb südame kiiremini põksuma\, siis broneeri oma kalendris 27. veebruar\, sest sel kuupäeval avame kõigile huvilistele terveks päevaks uksed ja kutsume sisse! \nAvatud uste päeval on võimalik tutvuda EKA erialadega\, kohtuda tudengite ja õppejõududega\, vaadata ringi auhinnatud hoones ning saada kasulikku infot ettevalmistuskursuste\, sisseastumise\, õppimise ja tudengielu kohta. \nToimuvad teaduskondade ja erialade tutvustused\, töötoad\, avatud loengud\, majatuurid\, konsultatsioonid\, filmiseanss jpm. Terve päeva vältel on fuajees avatud infopunkt ning väljapanekud majas sees ja majast väljas. \nDetailse programmi avalikustame veebruari alguses ja siis avaneb ka registreerimine! \n  \nTule kohtu oma tulevikuga – olgu selleks arhitektuur\, disain\, kunst või teadus! \n  \nRohkem infot: https://www.artun.ee/et/sisseastumine/tere-tulemast/avatud-uste-paev/
URL:https://www.teeviit.ee/sundmus/eka-avatud-uste-paev-2025/
LOCATION:Eesti Kunstiakadeemia\, Põhja puiestee 7\, Tallinn\, 10412\, Eesti
CATEGORIES:Avatud uste päev
ATTACH;FMTTYPE=image/jpeg:https://www.teeviit.ee/wp-content/uploads/2025/01/eka-aup-25.jpg
END:VEVENT
BEGIN:VEVENT
DTSTART;TZID=Europe/Tallinn:20250227T103000
DTEND;TZID=Europe/Tallinn:20250227T160000
DTSTAMP:20260420T031502
CREATED:20250128T122939Z
LAST-MODIFIED:20250128T122939Z
UID:45672-1740652200-1740672000@www.teeviit.ee
SUMMARY:Sisekaitseakadeemia avatud uste päev 2025
DESCRIPTION:Tutvu Sisekaitseakadeemia õppimisvõimalustega 27. veebruaril 2025\nTallinna õppekeskuses aadressil Kase 61. \nPäev algab info jagamisega sisseastumistingimuste\, erinevate kolledžite ja erialade kohta.\nPäeva jooksul saad ülevaate nii õppimisvõimalustest kui ka vaba aja veetmise\, sportimisvõimaluste\, elamis- ja olmetingimuste kohta. Õppurite tegemistest annab ülevaate üliõpilasesindus. \nHiljem on sul võimalus piiluda sisse põnevatesse õpperuumidesse\, saada osa õppeprotsessidest ja jalutada ringi majas\, mis avalikuks külastamiseks on tavapäraselt piiratud. Planeeri omale terve päev\, et tutvuda kogu akadeemia pakutavaga. \nKohale on tulemas ka meie partnerasutused\, et saaksid tutvuda ja küsida küsimusi oma tulevase töö kohta. \nLisainfo ja registreerimine: https://www.sisekaitse.ee/et/sisekaitseakadeemia-avatud-uste-paev-27022025
URL:https://www.teeviit.ee/sundmus/sisekaitseakadeemia-avatud-uste-paev-2025/
LOCATION:Sisekaitseakadeemia Tallinna õppekeskus\, Kase 61\, Tallinn\, Eesti
CATEGORIES:Avatud uste päev
ATTACH;FMTTYPE=image/jpeg:https://www.teeviit.ee/wp-content/uploads/2025/01/473133565_1086517550153160_3799177985731943226_n.jpg
ORGANIZER;CN="Sisekaitseakadeemia":MAILTO:kristi.kirikal@sisekaitse.ee
END:VEVENT
BEGIN:VEVENT
DTSTART;TZID=Europe/Tallinn:20250227T103000
DTEND;TZID=Europe/Tallinn:20250227T160000
DTSTAMP:20260420T031502
CREATED:20250129T082416Z
LAST-MODIFIED:20250129T082416Z
UID:45726-1740652200-1740672000@www.teeviit.ee
SUMMARY:Tartu Ülikooli lahtiste uste päev 2025
DESCRIPTION:27. veebruaril 2025 toimub Tartu Ülikooli raamatukogus ja üle terve linna lahtiste uste päev\, kuhu on oodatud kõik\, kes tunnevad huvi Tartu Ülikoolis õppimise vastu. \nLahtiste uste päeval ootab sind  \n\ninspireeriv konverents\, kus vastatakse küsimustele\, kuidas saada üliõpilaseks ning mis ootab õppijat ees ülikooli ajal ja pärast seda;\nkasulik messiala\, kus saab tutvuda erialadega ja ülikooli rohkete võimalustega;\nterve päeva vältel pakutav ülikooli nõustamiskeskuse karjäärinõustajate tugi\, et aidata Sul sobivat eriala valida;\nüle linna toimuvad põnevad töötoad\, kus on võimalik katsetada erialade sobivust ja avastada uusi erialasid.\n\nLisainfo ja registreerimine: https://ut.ee/et/lahtised-uksed
URL:https://www.teeviit.ee/sundmus/tartu-ulikooli-lahtiste-uste-paev-2025/
LOCATION:Tartu Ülikooli Raamatukogu\, W. Struve 1\, Tartu\, 50091\, Eesti
CATEGORIES:Avatud uste päev
ATTACH;FMTTYPE=image/jpeg:https://www.teeviit.ee/wp-content/uploads/2025/01/ut-aup.jpg
END:VEVENT
BEGIN:VEVENT
DTSTART;VALUE=DATE:20250228
DTEND;VALUE=DATE:20250301
DTSTAMP:20260420T031502
CREATED:20250129T100652Z
LAST-MODIFIED:20250129T100652Z
UID:45733-1740700800-1740787199@www.teeviit.ee
SUMMARY:TÜ Viljandi kultuuriakadeemia virtuaalne lahtiste uste päev
DESCRIPTION:TÜ Viljandi kultuuriakadeemia virtuaalne lahtiste uste päev toimub 28. veebruaril 2025. Infotundides saad ülevaate kultuuriakadeemia õppekavadest ja erialadest ning võimaluse küsida programmijuhtidelt sisseastumise ja õppega seotud küsimusi. \n16. aprillil 2025 toimub tänavune teine lahtiste uste päev\, mil ootame Sind kohapeale. Kultuuriakadeemias on nii palju põnevaid töökodasid\, stuudioid ja muid õpperuume\, mida peab oma silmaga nägema! Loe lähemalt siit. \nRohkem infot: https://viljandi.ut.ee/et/lahtised-uksed-2025
URL:https://www.teeviit.ee/sundmus/tu-viljandi-kultuuriakadeemia-virtuaalne-lahtiste-uste-paev/
LOCATION:Veebis
CATEGORIES:Avatud uste päev
ATTACH;FMTTYPE=image/jpeg:https://www.teeviit.ee/wp-content/uploads/2025/01/tu-vk.jpg
END:VEVENT
BEGIN:VEVENT
DTSTART;TZID=Europe/Tallinn:20250303T100000
DTEND;TZID=Europe/Tallinn:20250303T150000
DTSTAMP:20260420T031502
CREATED:20250128T140913Z
LAST-MODIFIED:20250128T140913Z
UID:45682-1740996000-1741014000@www.teeviit.ee
SUMMARY:Tallinna Tehnikakõrgkooli Avatud uksed ja võimalused - Inseneeria karjääripäev 2025
DESCRIPTION:See on üritus\, mis toob kokku ühe katuse alla gümnaasiumi ja kutsekooli õpilased\, kes on huvitatud tulevikus inseneeriaõppest\, tudengid\, kes otsivad praktikakohti ning ettevõtete esindajad\, kes tutvustavad oma valdkonda\, ettevõtte võimalusi ning pakuvad üliõpilastele praktikakohti.Kellele on üritus suunatud?Mess on suunatud üliõpilastele\, gümnasistidele\, ning kutsekooli õpilastele. Oodatud on ka õpetajad\, õppejõud ja muud huvilised. Eelseminarid on suunatud vaid tudengitele.Millal ja kus see toimub?Karjäärimess toimub 3. märtsil 2025 kell 10.00-15.00 Tallinna Tehnikakõrgkoolis aadressil Pärnu maantee 62. Eelseminarid toimuvad 17. veebruarist kuni 28. veebruarini Tallinna Tehnikakõrgkoolis.Kust on võimalik saada lisainfot?https://www.inseneeriakarjaaripaev.ee\nkarjaaripaev@tktk.ee \n\n\n\n\n\nINSENEERIA KARJÄÄRIPÄEV 2025
URL:https://www.teeviit.ee/sundmus/tallinna-tehnikakorgkooli-avatud-uksed-ja-voimalused-inseneeria-karjaaripaev-2025/
LOCATION:Tallinna Tehnikakõrgkool\, Pärnu maantee 62\, Talllinn\, Eesti
CATEGORIES:Avatud uste päev
ATTACH;FMTTYPE=image/jpeg:https://www.teeviit.ee/wp-content/uploads/2025/01/tktk-25.jpg
END:VEVENT
END:VCALENDAR