BEGIN:VCALENDAR
VERSION:2.0
PRODID:-//Teeviit - ECPv6.15.4//NONSGML v1.0//EN
CALSCALE:GREGORIAN
METHOD:PUBLISH
X-ORIGINAL-URL:https://www.teeviit.ee
X-WR-CALDESC:Events for Teeviit
REFRESH-INTERVAL;VALUE=DURATION:PT1H
X-Robots-Tag:noindex
X-PUBLISHED-TTL:PT1H
BEGIN:VTIMEZONE
TZID:Europe/Tallinn
BEGIN:DAYLIGHT
TZOFFSETFROM:+0200
TZOFFSETTO:+0300
TZNAME:EEST
DTSTART:20250330T010000
END:DAYLIGHT
BEGIN:STANDARD
TZOFFSETFROM:+0300
TZOFFSETTO:+0200
TZNAME:EET
DTSTART:20251026T010000
END:STANDARD
END:VTIMEZONE
BEGIN:VEVENT
DTSTART;TZID=Europe/Tallinn:20250225T100000
DTEND;TZID=Europe/Tallinn:20250225T160000
DTSTAMP:20260420T002044
CREATED:20250128T121539Z
LAST-MODIFIED:20250128T121539Z
UID:45651-1740477600-1740499200@www.teeviit.ee
SUMMARY:Tallinna Ülikooli Avatud uste päev 2025
DESCRIPTION:Sind ootavad traditsioonilised infotunnid\, töötoad\, messiala\, karjäärinõustajad\, instituutide ja üliõpilaskonna esindajad ning loomekollektiivid\, et saaksid tutvuda õppekavade\, inimeste ja ülikooli linnakuga. Infotunnis saad ülevaate erinevatest õppekavadest ja sisseastumistingimustest ning kuulata inspireerivaid lugusid õppejõududelt ja tudengitelt. \nAvatud uste päev on suurepärane võimalus kogeda ülikooli atmosfääri ja teha teadlikke otsuseid oma tuleviku kujundamiseks. Tule kohale ja avasta\, kuidas Tallinna Ülikool saab olla osa sinu eduloost! \n  \nRohkem infot: https://www.tlu.ee/avatud-uste-paev-2025
URL:https://www.teeviit.ee/sundmus/tallinna-ulikooli-avatud-uste-paev-2025/
LOCATION:Tallinna Ülikool
CATEGORIES:Avatud uste päev
ATTACH;FMTTYPE=image/jpeg:https://www.teeviit.ee/wp-content/uploads/2025/01/2025-avatud-uksed-2880x920-1-scaled.jpg
END:VEVENT
END:VCALENDAR