BEGIN:VCALENDAR
VERSION:2.0
PRODID:-//Teeviit - ECPv6.15.4//NONSGML v1.0//EN
CALSCALE:GREGORIAN
METHOD:PUBLISH
X-ORIGINAL-URL:https://www.teeviit.ee
X-WR-CALDESC:Events for Teeviit
REFRESH-INTERVAL;VALUE=DURATION:PT1H
X-Robots-Tag:noindex
X-PUBLISHED-TTL:PT1H
BEGIN:VTIMEZONE
TZID:Europe/Tallinn
BEGIN:DAYLIGHT
TZOFFSETFROM:+0200
TZOFFSETTO:+0300
TZNAME:EEST
DTSTART:20250330T010000
END:DAYLIGHT
BEGIN:STANDARD
TZOFFSETFROM:+0300
TZOFFSETTO:+0200
TZNAME:EET
DTSTART:20251026T010000
END:STANDARD
END:VTIMEZONE
BEGIN:VEVENT
DTSTART;TZID=Europe/Tallinn:20250206T170000
DTEND;TZID=Europe/Tallinn:20250206T200000
DTSTAMP:20260420T013731
CREATED:20250129T101430Z
LAST-MODIFIED:20250129T101430Z
UID:45738-1738861200-1738872000@www.teeviit.ee
SUMMARY:Gustav Adolfi Gümnaasiumi avatud uste päev 2025
DESCRIPTION:Oled 9. klassi õpilane ja soovid rohkem teada Gustav Adolfi Gümnaasiumi kohta? \nMeil on rõõm teatada\, et 6. veebruaril 2025 toimub GAG avatud uste päev\, kus Sul on võimalus tutvuda Eesti vanima järjepidevalt tegutseva kooli õppimisvõimaluste ja ainulaadse õhustikuga! \nAeg ja koht: \n Kuupäev: 6. veebruar 2025 \n Kellaaeg: 17:00–20:00 \n Asukoht: Gustav Adolfi Gümnaasiumi peamaja\, Suur-Kloostri 16 \n  \nAjakava \nAvatud uste päev sisaldab erinevaid tegevusi\, mis aitavad Sul põhjalikult tutvuda meie koolielu ja võimalustega. \n\nKoolituurid (16:30-16:50)\n\nEnne töötube ja infotunde soovitame tungivalt liituda koolituuriga\, eriti kui Sa pole varem meie majas käinud. Koolituuri käigus näed GAG-i ajaloolist hoonet\, klassiruume ja saad aimu meie õpikeskkonnast. \n\nInfotunnid ja töötoad (17:00–20:00)\n\n17:00-17:30 infotund  või  17:00-18:00 töötuba I \n17:40-18:40 töötuba I  või  18:10-18:40 infotund \n18:50-19:50 töötuba II \n  \nRohkem infot ja registreerimine: https://gag.ee/sisseastumine/gumnaasiumi-i-astmesse/avp/ \n  \n 
URL:https://www.teeviit.ee/sundmus/gustav-adolfi-gumnaasiumi-avatud-uste-paev-2025/
LOCATION:Gustav Adolfi Gümnaasiumi peamaja\, Suur-Kloostri 16\, Tallinn\, Estonia
CATEGORIES:Avatud uste päev
ATTACH;FMTTYPE=image/png:https://www.teeviit.ee/wp-content/uploads/2025/01/gag-aup.png
END:VEVENT
END:VCALENDAR