BEGIN:VCALENDAR
VERSION:2.0
PRODID:-//Teeviit - ECPv6.15.4//NONSGML v1.0//EN
CALSCALE:GREGORIAN
METHOD:PUBLISH
X-ORIGINAL-URL:https://www.teeviit.ee
X-WR-CALDESC:Events for Teeviit
REFRESH-INTERVAL;VALUE=DURATION:PT1H
X-Robots-Tag:noindex
X-PUBLISHED-TTL:PT1H
BEGIN:VTIMEZONE
TZID:Europe/Tallinn
BEGIN:DAYLIGHT
TZOFFSETFROM:+0200
TZOFFSETTO:+0300
TZNAME:EEST
DTSTART:20240331T010000
END:DAYLIGHT
BEGIN:STANDARD
TZOFFSETFROM:+0300
TZOFFSETTO:+0200
TZNAME:EET
DTSTART:20241027T010000
END:STANDARD
END:VTIMEZONE
BEGIN:VEVENT
DTSTART;VALUE=DATE:20240510
DTEND;VALUE=DATE:20240511
DTSTAMP:20260420T165820
CREATED:20240406T190345Z
LAST-MODIFIED:20240406T190345Z
UID:36649-1715299200-1715385599@www.teeviit.ee
SUMMARY:Tartu Kunstikooli ja Tartu Rakendusliku Kolledži kestlike tehnoloogiate tutvustuspäev
DESCRIPTION:10. mai Tartu Kunstikooli ja Tartu Rakendusliku Kolledži kestlike tehnoloogiate tutvustuspäev \nOotame osalema huvitatud õpilasi ja nende vanemaid ning õpetajaid. Võimalus tutvuda lähemalt õppekava suundade (multimeedia\, materjaliringlus\, digitehnoloogia\, nutikad seadmed) sisuga ja osaleda teemakohastes töötubades. \nRohkem infot jooksvalt Tartu Kunstikooli kodulehel.
URL:https://www.teeviit.ee/sundmus/tartu-kunstikooli-ja-tartu-rakendusliku-kolledzi-kestlike-tehnoloogiate-tutvustuspaev/
LOCATION:Tartu Kunstikool\, Eha 41\, Tartu\, Eesti
CATEGORIES:Avatud uste päev
ATTACH;FMTTYPE=image/jpeg:https://www.teeviit.ee/wp-content/uploads/2024/04/kunstikool.jpg
END:VEVENT
END:VCALENDAR