BEGIN:VCALENDAR
VERSION:2.0
PRODID:-//Teeviit - ECPv6.15.4//NONSGML v1.0//EN
CALSCALE:GREGORIAN
METHOD:PUBLISH
X-WR-CALNAME:Teeviit
X-ORIGINAL-URL:https://www.teeviit.ee
X-WR-CALDESC:Events for Teeviit
REFRESH-INTERVAL;VALUE=DURATION:PT1H
X-Robots-Tag:noindex
X-PUBLISHED-TTL:PT1H
BEGIN:VTIMEZONE
TZID:Europe/Tallinn
BEGIN:DAYLIGHT
TZOFFSETFROM:+0200
TZOFFSETTO:+0300
TZNAME:EEST
DTSTART:20240331T010000
END:DAYLIGHT
BEGIN:STANDARD
TZOFFSETFROM:+0300
TZOFFSETTO:+0200
TZNAME:EET
DTSTART:20241027T010000
END:STANDARD
END:VTIMEZONE
BEGIN:VEVENT
DTSTART;TZID=Europe/Tallinn:20240304T100000
DTEND;TZID=Europe/Tallinn:20240304T150000
DTSTAMP:20260420T192224
CREATED:20240220T063954Z
LAST-MODIFIED:20240220T063954Z
UID:35010-1709546400-1709564400@www.teeviit.ee
SUMMARY:Tallinna Tehnikakõrgkooli Inseneeria karjääripäev + avatud uksed 2024
DESCRIPTION:Tallinna Tehnikakõrgkooli avatud uste päev + Inseneeria karjääripäev toob ühe katuse alla kokku nii inseneeriaõppest huvitatud gümnaasiumi ja kutsekooli õpilased kui ka uudishimulikud tudengid. Üliõpilane võib messilt leida endale sobiva praktikakoha\, gümnaasiumi- ja kutsekooliõpilased saavad heita esimese pilgu oma tulevastele tööandjatele ning Tallinna Tehnikakõrgkooli erialadele. \nMessil on kohal üle 60 ettevõtte – arhitektuuribüroodest logistikafirmadeni.\nTTK õppimisvõimalustega tutvumiseks on gümnasistidele ja kutsekooli õpilastele töötoad ning majatuurid. Nendele registreerumine avaneb karjääripäeva kodulehel veebruaris. \n  \nLisainfo ja registreerimine Tallinna Tehnikakõrgkooli kodulehel.
URL:https://www.teeviit.ee/sundmus/tallinna-tehnikakorgkooli-inseneeria-karjaaripaev-avatud-uksed-2024/
LOCATION:Tallinna Tehnikakõrgkool\, Pärnu maantee 62\, Talllinn\, Eesti
CATEGORIES:Avatud uste päev
ATTACH;FMTTYPE=image/webp:https://www.teeviit.ee/wp-content/uploads/2024/02/tktk.webp
END:VEVENT
END:VCALENDAR