BEGIN:VCALENDAR
VERSION:2.0
PRODID:-//Teeviit - ECPv6.15.4//NONSGML v1.0//EN
CALSCALE:GREGORIAN
METHOD:PUBLISH
X-ORIGINAL-URL:https://www.teeviit.ee
X-WR-CALDESC:Events for Teeviit
REFRESH-INTERVAL;VALUE=DURATION:PT1H
X-Robots-Tag:noindex
X-PUBLISHED-TTL:PT1H
BEGIN:VTIMEZONE
TZID:Europe/Tallinn
BEGIN:DAYLIGHT
TZOFFSETFROM:+0200
TZOFFSETTO:+0300
TZNAME:EEST
DTSTART:20240331T010000
END:DAYLIGHT
BEGIN:STANDARD
TZOFFSETFROM:+0300
TZOFFSETTO:+0200
TZNAME:EET
DTSTART:20241027T010000
END:STANDARD
END:VTIMEZONE
BEGIN:VEVENT
DTSTART;TZID=Europe/Tallinn:20240301T110000
DTEND;TZID=Europe/Tallinn:20240301T154500
DTSTAMP:20260420T192324
CREATED:20240220T120844Z
LAST-MODIFIED:20240220T120844Z
UID:35056-1709290800-1709307900@www.teeviit.ee
SUMMARY:Tartu Ülikooli Viljandi Kultuuriakadeemia virtuaalne lahtiste uste päev
DESCRIPTION:TÜ Viljandi kultuuriakadeemia virtuaalne lahtiste uste päev toimub 1. märtsil 2024. Infotundides saad ülevaate kultuuriakadeemia õppekavadest ja erialadest ning võimaluse küsida programmijuhtidelt sisseastumise ja õppega seotud küsimusi. \nVaata lisainfot TÜ Viljandi Kultuuriakadeemia kodulehelt.
URL:https://www.teeviit.ee/sundmus/tartu-ulikooli-viljandi-kultuuriakadeemia-virtuaalne-lahtiste-uste-paev/
LOCATION:Veebis
CATEGORIES:Avatud uste päev
ATTACH;FMTTYPE=image/png:https://www.teeviit.ee/wp-content/uploads/2024/02/tuvk.png
END:VEVENT
END:VCALENDAR