BEGIN:VCALENDAR
VERSION:2.0
PRODID:-//Teeviit - ECPv6.15.4//NONSGML v1.0//EN
CALSCALE:GREGORIAN
METHOD:PUBLISH
X-WR-CALNAME:Teeviit
X-ORIGINAL-URL:https://www.teeviit.ee
X-WR-CALDESC:Events for Teeviit
REFRESH-INTERVAL;VALUE=DURATION:PT1H
X-Robots-Tag:noindex
X-PUBLISHED-TTL:PT1H
BEGIN:VTIMEZONE
TZID:Europe/Tallinn
BEGIN:DAYLIGHT
TZOFFSETFROM:+0200
TZOFFSETTO:+0300
TZNAME:EEST
DTSTART:20240331T010000
END:DAYLIGHT
BEGIN:STANDARD
TZOFFSETFROM:+0300
TZOFFSETTO:+0200
TZNAME:EET
DTSTART:20241027T010000
END:STANDARD
END:VTIMEZONE
BEGIN:VEVENT
DTSTART;TZID=Europe/Tallinn:20240519T120000
DTEND;TZID=Europe/Tallinn:20240519T140000
DTSTAMP:20260420T230338
CREATED:20240507T091703Z
LAST-MODIFIED:20240507T091703Z
UID:37725-1716120000-1716127200@www.teeviit.ee
SUMMARY:Euroopa Parlamendi arutelu: Miks just minu hääl on oluline?
DESCRIPTION:Tule ja saa osa Euroopa Parlamendi valimiste eelsest arutelust!\nKoostöös ENL noordelegaatidega räägime lähemalt mis on: \n\nEuroopa Liit?\nEuroopa Parlament?\nMiks minna valima?\nMillal saab valima minna?\nKeda üldse valida?\n\n Lisaks ENL noordelegaatidele arutleme koos teiste aktiivsete noortega meie unistuste Euroopa üle ning mõtiskleme üheskoos mida tahaksime\, et meil Euroopas oleks.\nPane kalendrisse kirja 19. mai kell 12:00-14:00\, asukohaks Tartu 2024 kontor\, Raekoja plats 6\, Tartu! Tule üksi või sõbraga kuulama ja kaasa rääkima ja kohtume juba seal!\n\n Pane ennast üritusele kirja siin: https://forms.gle/gNMD3pJDsQhKZmjK6\n\n Lisaks põnevatele aruteludele saab süüa-juua ja ka meeneid jagatakse.\n\nÜritus on tasuta ja toimub projekti “EU inFORM – Young voters” raames\, mida korraldab Euroopa noorteinfo ja nõustamise agentuur ERYICA.Projekti raames teavitatakse noori valimiste olulisusest\, hääleõigusest\, hääletamisprotseduurist ning jagatakse infot valimisprogrammide kohta.\n\nProjekti koostööpartneriteks on ERYICA liikmeskond: FIJWB (Belgia)\, ZICM (Horvaatia)\, Harno (Eesti)\, Koordinaatti (Soome)\, Eurodesk Italy (Itaalia)\, Aġenzija Żgħażagħ (Malta)\, IPDJ (Portugal) ning MISSS (Sloveenia) ja IVAJ (Hispaania). Eesti esindaja on Haridus- ja Noorteameti noorteosakonna noorteinfo valdkond.\n\nKorraldaja: Grete KullKontakt: gretekull1@gmail.com
URL:https://www.teeviit.ee/sundmus/euroopa-parlamendi-arutelu-miks-just-minu-haal-on-oluline/
LOCATION:Tartu
CATEGORIES:Arutelu
END:VEVENT
END:VCALENDAR