BEGIN:VCALENDAR
VERSION:2.0
PRODID:-//Teeviit - ECPv6.15.4//NONSGML v1.0//EN
CALSCALE:GREGORIAN
METHOD:PUBLISH
X-ORIGINAL-URL:https://www.teeviit.ee
X-WR-CALDESC:Events for Teeviit
REFRESH-INTERVAL;VALUE=DURATION:PT1H
X-Robots-Tag:noindex
X-PUBLISHED-TTL:PT1H
BEGIN:VTIMEZONE
TZID:Europe/Tallinn
BEGIN:DAYLIGHT
TZOFFSETFROM:+0200
TZOFFSETTO:+0300
TZNAME:EEST
DTSTART:20240331T010000
END:DAYLIGHT
BEGIN:STANDARD
TZOFFSETFROM:+0300
TZOFFSETTO:+0200
TZNAME:EET
DTSTART:20241027T010000
END:STANDARD
END:VTIMEZONE
BEGIN:VEVENT
DTSTART;TZID=Europe/Tallinn:20240419T173000
DTEND;TZID=Europe/Tallinn:20240419T190000
DTSTAMP:20260421T015549
CREATED:20240403T092858Z
LAST-MODIFIED:20240415T100202Z
UID:36564-1713547800-1713553200@www.teeviit.ee
SUMMARY:NOORTE HÄÄL EUROOPAS: Euroopa Parlamendi aruteluõhtu
DESCRIPTION:🎉Tule ja võta osa Euroopa Parlamendi valimiste eelsest aruteluõhtust! \nKuulata ja küsimusi küsida saab meie põnevatelt külalistelt: \n\nHanah Lahe – Eesti Reformierakond\nVirve Linder – Isamaa Erakond\nJana Toom – Eesti Keskerakond\nMarina Kaljurand – Sotsiaaldemokraatlik Erakond\nIlmar Raag – Erakond Parempoolsed\nEvelyn Sepp – Erakond Eestimaa Rohelised\n\n🗓️Pane kalendrisse kirja 19. aprill kell 17:30 Narva raekoja suur saal! Tule üksi või sõbraga kuulama ja kaasa rääkima ning näeme juba seal! \n📨Üritus on tasuta ja toimub projekti “EU inFORM – Young voters” raames\, mida korraldab Euroopa noorteinfo ja nõustamise agentuur ERYICA. \nProjekti raames teavitatakse noori valimiste olulisusest\, hääleõigusest\, hääletamisprotseduurist ning jagatakse infot valimisprogrammide kohta. \nProjekti koostööpartneriteks on ERYICA liikmeskond: FIJWB (Belgia)\, ZICM (Horvaatia)\, Harno (Eesti)\, Koordinaatti (Soome)\, Eurodesk Italy (Itaalia)\, Aġenzija Żgħażagħ (Malta)\, IPDJ (Portugal) ning MISSS (Sloveenia) ja IVAJ (Hispaania). Eesti esindaja on Haridus- ja Noorteameti noorteosakonna noorteinfo valdkond. \nKorraldaja: Kätri Kiilberg\nKontakt: katri@progressiivne.org
URL:https://www.teeviit.ee/sundmus/noorte-haal-euroopas-euroopa-parlamendi-aruteluohtu/
LOCATION:Narva Raekoda\, Raekoja plats 1\, Narva
CATEGORIES:Arutelu
ATTACH;FMTTYPE=image/jpeg:https://www.teeviit.ee/wp-content/uploads/2024/04/434728082_717765480570963_4765296375981205795_n.jpg
END:VEVENT
END:VCALENDAR