BEGIN:VCALENDAR
VERSION:2.0
PRODID:-//Teeviit - ECPv6.15.4//NONSGML v1.0//EN
CALSCALE:GREGORIAN
METHOD:PUBLISH
X-WR-CALNAME:Teeviit
X-ORIGINAL-URL:https://www.teeviit.ee
X-WR-CALDESC:Events for Teeviit
REFRESH-INTERVAL;VALUE=DURATION:PT1H
X-Robots-Tag:noindex
X-PUBLISHED-TTL:PT1H
BEGIN:VTIMEZONE
TZID:Europe/Tallinn
BEGIN:DAYLIGHT
TZOFFSETFROM:+0200
TZOFFSETTO:+0300
TZNAME:EEST
DTSTART:20250330T010000
END:DAYLIGHT
BEGIN:STANDARD
TZOFFSETFROM:+0300
TZOFFSETTO:+0200
TZNAME:EET
DTSTART:20251026T010000
END:STANDARD
END:VTIMEZONE
BEGIN:VEVENT
DTSTART;TZID=Europe/Tallinn:20250513T180000
DTEND;TZID=Europe/Tallinn:20250513T200000
DTSTAMP:20260420T122058
CREATED:20250428T132938Z
LAST-MODIFIED:20250428T132938Z
UID:49671-1747159200-1747166400@www.teeviit.ee
SUMMARY:Õpi ja tööta Austraalias - tasuta seminar
DESCRIPTION:Osale tasuta seminaril ja saa teada\, kuidas alustada õppimist ja töötamist Austraalias! \nSeminaril saad vastused küsimustele nagu:\n✅ Work&Holiday Visa vs. Student Visa\, mis on erinevus?\n✅ Austraaliasse õppima – kellele ja kuidas?\n✅ Kuidas leida tööd ning mida CV juures meeles pidada?\n✅ Millised on variandid Austraaliasse tagasipöördumiseks?\n✅ Mis ajaraamiga peab Austraaliasse õppima asudes arvestama? \nEsinejad: \n\nArtūras Zakarauskas\, LinAs agentuuri asutaja\nSusanna Päiv\, Education Consultant Sydneys (video vahendusel)\nHans ja Brenda\, Podcasti “Miks Mitte” loojad (video vahendusel)\n\nLisainfo ja registreerimine: Õpi ja tööta Austraalias – tasuta seminar – Piletid | Fienta
URL:https://www.teeviit.ee/sundmus/opi-ja-toota-austraalias-tasuta-seminar/
LOCATION:Tallinn
ATTACH;FMTTYPE=image/png:https://www.teeviit.ee/wp-content/uploads/2025/04/seminar.png
END:VEVENT
END:VCALENDAR