BEGIN:VCALENDAR
VERSION:2.0
PRODID:-//Teeviit - ECPv6.15.4//NONSGML v1.0//EN
CALSCALE:GREGORIAN
METHOD:PUBLISH
X-WR-CALNAME:Teeviit
X-ORIGINAL-URL:https://www.teeviit.ee
X-WR-CALDESC:Events for Teeviit
REFRESH-INTERVAL;VALUE=DURATION:PT1H
X-Robots-Tag:noindex
X-PUBLISHED-TTL:PT1H
BEGIN:VTIMEZONE
TZID:Europe/Tallinn
BEGIN:DAYLIGHT
TZOFFSETFROM:+0200
TZOFFSETTO:+0300
TZNAME:EEST
DTSTART:20260329T010000
END:DAYLIGHT
BEGIN:STANDARD
TZOFFSETFROM:+0300
TZOFFSETTO:+0200
TZNAME:EET
DTSTART:20261025T010000
END:STANDARD
END:VTIMEZONE
BEGIN:VEVENT
DTSTART;VALUE=DATE:20260416
DTEND;VALUE=DATE:20260417
DTSTAMP:20260420T063931
CREATED:20260327T091605Z
LAST-MODIFIED:20260327T091605Z
UID:59703-1776297600-1776383999@www.teeviit.ee
SUMMARY:Noorte nõustamispäev- tule diginõustamisele!
DESCRIPTION:Kui soovid oma CV korda teha\, kirjutada superhea motivatsioonikirja\, harjutada töövestlust või lihtsalt karjäärinõustajaga arutada\, millised võimalused sulle päriselt sobivad\, siis see päev on ideaalne koht alustamiseks. \nKutsume sind 16. aprillil veebis toimuvale karjäärinõustamisele\, kus sul on võimalik: \n\nvaadata koos karjäärinõustajaga üle oma CV ja muuta see silmapaistvaks;\nlihvida motivatsioonikirja või alustada selle loomist nullist;\nharjutada töövestlust ja saada tagasisidet\, kuidas enesekindlamalt vastata;\narutada oma tugevusi\, huvisid\, töösoove ja võimalikke suundi tulevikuks;\nküsida kõike\, mis töömaailma\, kandideerimise või praktika kohta segaseks jääb.\n\nSee kohtumine on just sulle\, kui tahad olla suveks valmis\, olgu sinu eesmärk malev\, esimene töökoht või suvepraktika.\nKarjäärinõustaja aitab sul leida selguse\, teha õiged valikud ja kindlalt alustada.  \n Broneeri 45-minutiline aeg ja tule diginõustamisele! https://minukarjaar.ee/et/sundmused/toostart2026-noorte-noustamispaev \nVaata kogu TööSTART programmi https://minukarjaar.ee/et/sundmused/toostart2026
URL:https://www.teeviit.ee/sundmus/noorte-noustamispaev-tule-diginoustamisele/
LOCATION:Veebis
CATEGORIES:veebikohtumine
ATTACH;FMTTYPE=image/png:https://www.teeviit.ee/wp-content/uploads/2026/03/toostart-2027_noustamispaev_minukarjaar.png
END:VEVENT
BEGIN:VEVENT
DTSTART;TZID=Europe/Tallinn:20260424T170000
DTEND;TZID=Europe/Tallinn:20260424T190000
DTSTAMP:20260420T063931
CREATED:20251216T084925Z
LAST-MODIFIED:20251216T084925Z
UID:57918-1777050000-1777057200@www.teeviit.ee
SUMMARY:YFU Eesti infotund vahetusõpilaseks saamisest! (Tallinnas)
DESCRIPTION:Kas oled mõelnud\, et sooviksid õppida selgeks uue keele\, kogeda täiesti teistsugust koolielu ja kultuuri? \nJust seda pakub vahetusaasta YFUga! 🌍 \nKui oled 14–18 (või kohe 14 saamas)\, ootame sind infotundi\, kus saad teada\, kuidas vahetusaasta päriselt käib – alates kandideerimisest kuni uute sõprade ja kogemusteni teisel pool maailma. \nInfotundi viivad läbi noored\, kes on ise vahetusaastal käinud. Nad jagavad oma lugusid\, nippe ja vastuseid küsimustele\, mis võivad tekkida. See on parim võimalus kuulda vahetult\, mis tunne on hüpata tundmatusse ja avastada täiesti uut kultuuri. \n📍 Infotund toimub Tallinnas kohapeal. Tule ja saa inspiratsiooni oma elu seikluslikemaks aastaks! \nRegistreerimine: https://fienta.com/et/yfu-eesti-infotund-vahetusopilaseks-hakkamiseks-160720#title
URL:https://www.teeviit.ee/sundmus/yfu-eesti-infotund-vahetusopilaseks-saamisest-tallinnas-5/
LOCATION:YFU Eesti MTÜ (Tallinn)\, Kevade tänav 4a\, Tallinn\, Estonia
CATEGORIES:Infotund
ATTACH;FMTTYPE=image/webp:https://www.teeviit.ee/wp-content/uploads/2025/12/allalaadimine.webp
END:VEVENT
BEGIN:VEVENT
DTSTART;TZID=Europe/Tallinn:20260520T130000
DTEND;TZID=Europe/Tallinn:20260520T142000
DTSTAMP:20260420T063931
CREATED:20260113T110324Z
LAST-MODIFIED:20260113T110324Z
UID:58576-1779282000-1779286800@www.teeviit.ee
SUMMARY:Veebiloeng "Karjäärikujundamise ABC"
DESCRIPTION:Karjäär ei kujune soovitud suunas iseenesest — seda saab teadlikult kavandada nii väikeste kui ka suuremate sammudega. Tasuta infoloengus räägime sellest\, mida karjääriplaneerimine tegelikult tähendab ja miks on kasulik mõelda nii lühiajaliste kui ka pikemate eesmärkide peale. Infoloengut  saad jälgida otseülekandena minukarjäär.ee veebilehel. \n\nTutvustame\, millistel viisidel on võimalik oma karjääri kujundada ning kuidas leida lähenemine\, mis sobib just sinu olukorra\, tugevuste ja ootustega.\nRäägime karjääriplaanist – mis see on\, kuidas sellega alustada ja kuidas see aitab teha teadlikumaid valikuid nii tööelus kui ka õpingutes.\n\nLoengu viib läbi Eesti Töötukassa karjäärinõustaja\, kes aitab teemat lahti mõtestada praktilisel ja toetaval moel\, et sul oleks lihtsam näha\, millised on sinu võimalused oma karjääri kujundada. \nPärast loenguosa on kuni 20 minutit aega temaatilisteks küsimusteks ja aruteluks\, et saaksid täpsustada neid teemasid\, mis sind hetkel kõige rohkem puudutavad. \nVeebiloeng toimub otseülekandena sellel samal sündmuse lehel. \nVaata lisainfot ja telli endale meeldetuletus Minukarjäär lehel https://minukarjaar.ee/et/sundmused/karjaarikujundamise-abc-20-05-26
URL:https://www.teeviit.ee/sundmus/veebiloeng-karjaarikujundamise-abc-2/
LOCATION:Veebis
CATEGORIES:Veebiloeng
ATTACH;FMTTYPE=image/png:https://www.teeviit.ee/wp-content/uploads/2026/01/frame_1289_convert_io_fe8baacd07-1.png
END:VEVENT
END:VCALENDAR