BEGIN:VCALENDAR
VERSION:2.0
PRODID:-//Teeviit - ECPv6.15.4//NONSGML v1.0//EN
CALSCALE:GREGORIAN
METHOD:PUBLISH
X-ORIGINAL-URL:https://www.teeviit.ee
X-WR-CALDESC:Events for Teeviit
REFRESH-INTERVAL;VALUE=DURATION:PT1H
X-Robots-Tag:noindex
X-PUBLISHED-TTL:PT1H
BEGIN:VTIMEZONE
TZID:Europe/Tallinn
BEGIN:DAYLIGHT
TZOFFSETFROM:+0200
TZOFFSETTO:+0300
TZNAME:EEST
DTSTART:20260329T010000
END:DAYLIGHT
BEGIN:STANDARD
TZOFFSETFROM:+0300
TZOFFSETTO:+0200
TZNAME:EET
DTSTART:20261025T010000
END:STANDARD
END:VTIMEZONE
BEGIN:VEVENT
DTSTART;TZID=Europe/Tallinn:20260528T150000
DTEND;TZID=Europe/Tallinn:20260528T180000
DTSTAMP:20260425T133228
CREATED:20260424T045629Z
LAST-MODIFIED:20260424T045629Z
UID:60114-1779980400-1779991200@www.teeviit.ee
SUMMARY:Soolise võrdsuse häkaton - 10 linnas üle Eesti
DESCRIPTION:Oled 15–19-aastane koolinoor? \nVõta osa soolise võrdsuse häkatonist\, mis toimub 28. mail kell 15.00 kümnes linnas üle Eesti (Kuressaare\, Narva\, Paide\, Pärnu\, Põlva\, Rakvere\, Tallinn\, Tartu\, Viljandi\, Võru). Registreeri siin. \nArutame koos\, kuivõrd on sooline võrdsus Eestis probleem ja kuidas saaks seda vähendada. Küsime\, kas ettevõtete juhtimise ja Eestis otsuste tegemise juures peaks olema rohkem naisi. Saad ka teada\, miks see teema üldse oluline on. \nSeejärel töötad koos väikese tiimiga välja nutika lahenduse ühele probleemile\, mis on seotud soolise ebavõrdsusega just Sinu igapäevases elus. Probleemi\, mida lahendada\, saate tiimiga ise valida. \nEelteadmised teemast pole osalemise tingimus. Oluline on\, et oled valmis kaasa mõtlema\, arutama ja koos teistega midagi konkreetset välja pakkuma. \nSoovime koguda just noorte ideid\, et astuda järgmine samm võrdsema ühiskonna suunas. See on Sinu võimalus rääkida kaasa teemadel\, mis mõjutavad Sinu põlvkonna võimalusi ja valikuid. Sa oskad välja tuua värske pilguga kitsaskohti ja pakkuda neile uudseid lahendusi\, sest oled noor ja Sinu vaatenurk on teine. Hindame seda väga! \nHäkatonil pakutakse Sulle: \n\nülevaadet teemast;\nargumenteerimise töötuba;\ntuge lahenduse otsimisel;\ntagasisidet teie loodud lahendustele.\n\nParemad ideed jõuavad otsustajateni ning saavad auhindu. \n 
URL:https://www.teeviit.ee/sundmus/soolise-vordsuse-hakaton-10-linnas-ule-eesti/
LOCATION:Kuressaare\, Narva\, Paide\, Pärnu\, Põlva\, Rakvere\, Tallinn\, Tartu\, Viljandi\, Võru\, Estonia
CATEGORIES:Häkaton
ATTACH;FMTTYPE=image/png:https://www.teeviit.ee/wp-content/uploads/2026/04/hakaton-kaanefoto-scaled.png
END:VEVENT
BEGIN:VEVENT
DTSTART;VALUE=DATE:20260529
DTEND;VALUE=DATE:20260601
DTSTAMP:20260425T133228
CREATED:20260423T091305Z
LAST-MODIFIED:20260423T091305Z
UID:60105-1780012800-1780271999@www.teeviit.ee
SUMMARY:Noorte õpilaager "Loud & Clear"
DESCRIPTION:Kutsume noori osalema 3-päevases õpilaagris Loud & Clear\, mis toimub 29.–31. mail Vanaõue Puhkekeskuses. \n\nOleksime väga tänulikud\, kui saaksite seda võimalust oma noortega jagada. \nTegemist on praktilise ja mängulise laagriga\, kus noored õpivad läbi mängude\, koostöö ja loovate ülesannete. Bootcamp’i jooksul proovitakse hariduslikke põgenemismänge (Escape Box)\, õpitakse nende toimimise põhimõtteid ning luuakse meeskonnana oma mäng aktiivse kodanikuosaluse teemal. \n📅 Aeg: 29.–31. mai 2026\n📍 Asukoht: Vanaõue Puhkekeskus\n👥 Osalejad: noored vanuses 15–19 üle Eesti\n💬 Töökeel: inglise keel (vajadusel tugi eesti ja vene keeles) \n💶 Osalustasu: 15 € (Hinna sees on majutus\, toitlustus ja kõik vajalikud materjalid)\nOotame osalema noori\, kes tunnevad huvi mängude\, loovuse ja meeskonnatöö vastu ning soovivad proovida midagi uut. \n\nRegistreerimine: https://forms.gle/Jsj5NnfmC8gutrFV8\nLisainfo: https://et.shokkin.org/open-loud-clear-bootcamp/
URL:https://www.teeviit.ee/sundmus/noorte-opilaager-loud-clear/
LOCATION:Vanaõue Puhkekeskus
CATEGORIES:laager
ATTACH;FMTTYPE=image/jpeg:https://www.teeviit.ee/wp-content/uploads/2026/04/loud-clear-bootcamp_poster_page-0001.jpg
ORGANIZER;CN="Shokkin Group Estonia":MAILTO:hello@shokkin.org
END:VEVENT
BEGIN:VEVENT
DTSTART;TZID=Europe/Tallinn:20261002T130000
DTEND;TZID=Europe/Tallinn:20261002T142000
DTSTAMP:20260425T133228
CREATED:20260424T131157Z
LAST-MODIFIED:20260424T131157Z
UID:60138-1790946000-1790950800@www.teeviit.ee
SUMMARY:Veebiloeng noortele "Õppima välismaale"
DESCRIPTION:Veebiloengus selgitame\, kellele on õpiränne mõeldud\, miks see on kasulik ja millised takistused võivad ette tulla:\n\n\nRäägime erinevatest viisidest väliskogemuse saamiseks nii piiri taga kui siinsamas Eestis;\n\n\nArutame\, miks üldse välismaale minna ja kuidas tegeleda riskidega;\n\n\nJuhendame infoallikate kasutamist\, et leida rohkem infot välismaal õppimise või töötamise kohta.\n\n\nLoengut viib läbi Eesti Töötukassa karjäärinõustaja\, kes aitab teemat avada praktiliste näidete ja nõuannete kaudu.\n\nPärast loengut on kuni 20 minutit aega küsimusteks ja aruteluks\, et saaksid täpsustada just neid teemasid\, mis sind huvitavad.\n\nVaata otseülekannet ja telli endale meeldetuletus Minukarjäär lehel https://minukarjaar.ee/et/sundmused/oppima-valismaale-02-10-26
URL:https://www.teeviit.ee/sundmus/veebiloeng-noortele-oppima-valismaale-2/
LOCATION:Veebis
CATEGORIES:Veebiloeng
ATTACH;FMTTYPE=image/png:https://www.teeviit.ee/wp-content/uploads/2026/04/oppima-valismaale_minukarjaar.png
END:VEVENT
END:VCALENDAR