BEGIN:VCALENDAR
VERSION:2.0
PRODID:-//Teeviit - ECPv6.15.4//NONSGML v1.0//EN
CALSCALE:GREGORIAN
METHOD:PUBLISH
X-WR-CALNAME:Teeviit
X-ORIGINAL-URL:https://www.teeviit.ee
X-WR-CALDESC:Events for Teeviit
REFRESH-INTERVAL;VALUE=DURATION:PT1H
X-Robots-Tag:noindex
X-PUBLISHED-TTL:PT1H
BEGIN:VTIMEZONE
TZID:UTC
BEGIN:STANDARD
TZOFFSETFROM:+0000
TZOFFSETTO:+0000
TZNAME:UTC
DTSTART:20230101T000000
END:STANDARD
END:VTIMEZONE
BEGIN:VEVENT
DTSTART;VALUE=DATE:20230214
DTEND;VALUE=DATE:20230215
DTSTAMP:20260424T172546
CREATED:20230127T045348Z
LAST-MODIFIED:20230131T110506Z
UID:12635-1676332800-1676419199@www.teeviit.ee
SUMMARY:Kirja- ja mõttetalgud: Miks on Eestit maailmale vaja?
DESCRIPTION:President Alar Karis korraldab jaanuaris-veebruaris kooliõpilaste seas vanuses 7-19 aastat kirja- ja mõttetalgud ning kutsub üles neid jagama mõtteid teemal „Miks on Eestit maailmale vaja?“. \nVabariigi President kutsub ka sel aastal noori Eesti üle mõtlema ja oma mõtteid riigipeaga jagama. Kui möödunud aastal kirjutasid noored president Karisele Eesti tulevikust\, muredest ja ideaalidest\, siis sel aastal ootab riigipea noori otsima ja leidma ses avatud ja tihedalt seotud globaliseerunud maailmas Eesti kohta. Millist rolli mängib üks väike kultuur tänapäeva põimunud maailmas? Mis on tema eelised ning miks on oluline kuulda ja kuulata just väikseid riike? Mis on Eesti väärtus ülejäänud maailma jaoks? \nPresidendile võib kirjutada vabas vormis kuni kahe A4 lehekülje pikkuselt nii käsitsi või elektrooniliselt\, sel juhul oleks teksti pikkus kuni 5000 tähemärki. \nVabariigi Presidendi Kantselei leiab säravamate kirjutiste autorite mõtete ja kirjatööde avaldamiseks võimaluse. \nKirjatööd on oodatud vabariigi aastapäevale eelneval nädalal 14. veebruariks Vabariigi Presidendi Kantseleisse aadressil A. Weizenbergi 39\, 15050 Tallinn\, või e-kirjaga saates aadressil kirjutaEestile(at)vpk.ee. Kirjatööd saates palume juurde lisada nimi\, vanus\, kool ja klass\, aadress ja telefoninumber. \nKirjatüki saatmisega kinnitab autor\, et tegemist on tema iseseisvalt loodud tööga. Samuti annab autor või tema seaduslik esindaja\, kui kirjutaja vanus on alla 18 aasta\, kirjutise saatmisega nõusoleku nime ja teksti kasutamiseks ning avaldamiseks. \nLisateavet saab küsida aadressil kirjutaEestile(at)vpk.ee või telefonilt 631 6202. \nAllikas: https://president.ee/et/meediakajastus/pressiteated/54434?fbclid=IwAR3gsqpUQjxblBpKI5BMBPX8qD8_7usO6Q6ycuFO0oDywL55wnGEAXmZyns
URL:https://www.teeviit.ee/sundmus/kirja-ja-mottetalgud-miks-on-eestit-maailmale-vaja/
LOCATION:Veebis
CATEGORIES:Konkurss
ATTACH;FMTTYPE=image/jpeg:https://www.teeviit.ee/wp-content/uploads/2023/01/FXT23206.jpg
END:VEVENT
BEGIN:VEVENT
DTSTART;TZID=UTC:20230208T160000
DTEND;TZID=UTC:20230208T200000
DTSTAMP:20260424T172546
CREATED:20230201T063349Z
LAST-MODIFIED:20230201T063349Z
UID:13052-1675872000-1675886400@www.teeviit.ee
SUMMARY:TÜ Karjäärireiv "Otse tulevikku"
DESCRIPTION:TÜ Karjäärireiv “Otse tulevikku” on Tartu Ülikooli karjääripäevi sissejuhatav üritus. \n📆MILLAL? 08.02.2023 kell 16.00-21.00 \n🔗KUS? Virtuaalselt. Tutvu kavaga ja ühine SIIN \n👉Sisu: Eri erialade ja valdkondade esindajad (sh üliõpilased) jagavad karjääri ülesehitamiseks vajalikke nippe ja nõuandeid. Osalejaid julgustatakse karjääriredelil edasi pürgima ja oma kutsumust järgima\, jätmata sealjuures tähelepanuta enda heaolu.\nExpoalal saab tutvuda alal Tartu Ülikoolis pakutavate karjääriedendusvõimalustega (Futulab\, liidriprogramm\, mentorlusporgramm\, stipendiumid\, välismaal õppimise võimalused jne) ning ettevõtete praktika- ja tööpakkumistega.\nÜritusel antakse koondinfot ülikoolis toimuvate karjääripäevade kohta. \nFB üritus SIIN \n😲MIKS? See on Sinu samm tulevikku! \nKarjäärireivi toetab Edu ja Tegu programm.
URL:https://www.teeviit.ee/sundmus/tu-karjaarireiv-otse-tulevikku/
LOCATION:Veebis
CATEGORIES:Inspiratsioonipäev
ATTACH;FMTTYPE=image/jpeg:https://www.teeviit.ee/wp-content/uploads/2023/02/Karjaarreiv.jpg
END:VEVENT
BEGIN:VEVENT
DTSTART;TZID=UTC:20230203T110000
DTEND;TZID=UTC:20230203T160000
DTSTAMP:20260424T172546
CREATED:20230120T165716Z
LAST-MODIFIED:20230127T094214Z
UID:4052-1675422000-1675440000@www.teeviit.ee
SUMMARY:Koolidemokraatia inspiratioonipäev
DESCRIPTION:Eesti Koostöö Kogu koos Korruptsioonivaba Eestiga on koolide kaasavat eelarvet läbi viinud alates 2020. aastast. Tegemist on kaasahaarava viisiga\, kuidas tugevdada õpilaste seas demokraatlikke väärtusi ning anda neile otsene osaluskogemus. Päeva eesmärgiks on koolide omavahelise suhtluse tihendamine ja laiendamine\, kogemuste jagamine\, kuidas õpilasi koolielu edendamisse kaasata ning uute ideede tutvustamine. Allpool täpsem ajakava. \nInspiratsioonipäev toimub 3. veebruaril kell 11:00-16:00 Stuudio 2 ruumides (Vabriku 6\, Tallinn). \nAjakava \n11:00-11:10 Tervitussõnad \n11:10-11:30 Demokraatia ja maailmaharidus. Maria Sakarias\, maailmahariduse programmijuht\, MTÜ Mondo \n11:30-12:30 Haridusinnovatsiooni tutvustussprint. Noorte Vabamu\, Kogukonnapraktika\, Helge Kool jm. \n12:30-12:45 Õpilasesinduste kaasamine. Eesti Õpilasesinduste Liit \n12:45-13.15 Mida kool võidab kaasamisest? Juhitud arutelu osalejate vahel \n13:15-14:00 Lõuna \n14:00-14:15 Demokraatia töövihiku lansseerimine. Karl-Hendrik Pallo\, demokraatia valdkonna ekspert\, Eesti Koostöö Kogu \n14:15-15.45 Demokraatiatrenn (praktiline). Tegemist on mängulise treeningprogrammiga\, kus tugevdatakse demokraatia arenguks vajalikke “lihaseid” (nt oma arvamus\, kaasatõmbamine\, erimeelsus\, eneseväljendus\, aktiivne kuulamine jne.) ehk eesmärgiks on mõtestada kergelt füüsilise harjutuse kaudu demokraatiat. MTÜ Demokraatiatrenn \n15:45-16:00 Lõpusõnad \n  \nR.S.V.P. Üritus on tasuta\, vajalik on registreerimine hiljemalt 11. jaanuariks. \nKüsimuste korral kirjutada heldi.ruiso@kogu.ee.
URL:https://www.teeviit.ee/sundmus/koolidemokraatia-inspiratioonipaev/
LOCATION:Asukoha nimi\, Tallinn
CATEGORIES:Inspiratsioonipäev
ATTACH;FMTTYPE=image/png:https://www.teeviit.ee/wp-content/uploads/2023/01/koolidemokraatia-inspiratsioonipaev-730x420-1.png
END:VEVENT
END:VCALENDAR