BEGIN:VCALENDAR
VERSION:2.0
PRODID:-//Teeviit - ECPv6.15.4//NONSGML v1.0//EN
CALSCALE:GREGORIAN
METHOD:PUBLISH
X-ORIGINAL-URL:https://www.teeviit.ee
X-WR-CALDESC:Events for Teeviit
REFRESH-INTERVAL;VALUE=DURATION:PT1H
X-Robots-Tag:noindex
X-PUBLISHED-TTL:PT1H
BEGIN:VTIMEZONE
TZID:Europe/Tallinn
BEGIN:DAYLIGHT
TZOFFSETFROM:+0200
TZOFFSETTO:+0300
TZNAME:EEST
DTSTART:20250330T010000
END:DAYLIGHT
BEGIN:STANDARD
TZOFFSETFROM:+0300
TZOFFSETTO:+0200
TZNAME:EET
DTSTART:20251026T010000
END:STANDARD
END:VTIMEZONE
BEGIN:VEVENT
DTSTART;VALUE=DATE:20251121
DTEND;VALUE=DATE:20251211
DTSTAMP:20260419T175813
CREATED:20251128T064946Z
LAST-MODIFIED:20251128T064946Z
UID:57513-1763683200-1765411199@www.teeviit.ee
SUMMARY:Valgusinstallatsioonide konkurss "Rõõmustajad pimedas"
DESCRIPTION:Eesti Kunstikoolide Liit kutsub üldharidus- ja huvikoole ning noortekeskusi võtma osa viiendast valgusinstallatsioonide konkursist “Rõõmustajad pimedas”. \n\nEhita isikupärane valgusinstallatsioon\, tee meisterdamisest ja lõpptulemusest pildid ning jaga neid meiega. Saabunud tööd osalevad Eesti Kunstikoolide Liidu Facebooki rahvahääletusel\, kus lemmikutest lemmikumad saavad premeeritud.\n\n\n\n\n\n\n\nPildista oma valgusinstallatsiooni tööprotsessi ja lõpptulemust ning saada meile nendest kokku kuni 4 fotot meiliaadressile  konkurss.kunstikoolideliit@gmail.com.\n\n\n\n\n\n\n\n\n\n\n\n\nPilte saab saata 10. detsembrini 2025. \nLisainfo EKKL veebilehel siin.
URL:https://www.teeviit.ee/sundmus/valgusinstallatsioonide-konkurss-roomustajad-pimedas/
LOCATION:Veebis
CATEGORIES:Konkurss
ATTACH;FMTTYPE=image/png:https://www.teeviit.ee/wp-content/uploads/2025/11/roomustajad-pimedas-2025.png
END:VEVENT
BEGIN:VEVENT
DTSTART;TZID=Europe/Tallinn:20251205T120000
DTEND;TZID=Europe/Tallinn:20251205T170000
DTSTAMP:20260419T175813
CREATED:20251117T070655Z
LAST-MODIFIED:20251117T071201Z
UID:57404-1764936000-1764954000@www.teeviit.ee
SUMMARY:Vabatahtlike mess „Võta vabalt“
DESCRIPTION:Tallinnas Kai kunstikeskuses toimub 5.12.2025 noortele infomess “Võta Vabalt!”. Messi eesmärk on tutvustada võimalusi vabatahtlikuna kaasa löömiseks ja enda kogemuspagasi täiendamiseks. \nMessialal tutvustavad oma tegevusi vabatahtlikele võimalusi pakkuvad organisatsioonid nagu PÖFF\, Eesti Punane Rist\, Mondo\, YFU\, EstYES\, Varjupaikade MTÜ ja paljud teised. Toimuvad ka ettekanded\, kus noored vabatahtlikud ja organisatsioonid jagavad oma kogemusi. \nPäeva juht on Andreas Melts ja muusikaga astub üles duo An-Marlen & boipepperoni. \nMess toimub Tallinnas Kai kunstikeskuses (Peetri 12\, Tallinn) kell 12.00-17.00 \nSissepääs on tasuta\, kuid huvilisi kutsutakse üles end registreerima siin. \nMessi korraldab Haridus- ja Noorteameti Erasmus+ ja Euroopa Solidaarsuskorpuse agentuur. \n 
URL:https://www.teeviit.ee/sundmus/vabatahtlike-mess-vota-vabalt/
LOCATION:Kai kunstikeskus\, Peetri 12\, Tallinn
CATEGORIES:Mess
ATTACH;FMTTYPE=image/png:https://www.teeviit.ee/wp-content/uploads/2025/11/vabatahtlike-mess-dets-2025.png
END:VEVENT
BEGIN:VEVENT
DTSTART;TZID=Europe/Tallinn:20251212T170000
DTEND;TZID=Europe/Tallinn:20251212T190000
DTSTAMP:20260419T175813
CREATED:20251209T135306Z
LAST-MODIFIED:20251209T135306Z
UID:57801-1765558800-1765566000@www.teeviit.ee
SUMMARY:YFU Eesti infotund vahetusõpilaseks saamisest! (Tartus)
DESCRIPTION:YFU Eesti kutsub tasuta infotundi vahetusõpilaseks saamisest!  \nKas oled mõelnud\, et sooviksid õppida selgeks uue keele\, kogeda täiesti teistsugust koolielu ja kultuuri? Just seda pakub vahetusaasta YFUga! 🌍 \nKui oled 14–18 (või kohe 14 saamas)\, ootame sind infotundi\, kus saad teada\, kuidas vahetusaasta päriselt käib – alates kandideerimisest kuni uute sõprade ja kogemusteni teisel pool maailma. \nInfotundi viivad läbi noored\, kes on ise vahetusaastal käinud. Nad jagavad oma lugusid\, nippe ja vastuseid küsimustele\, mis võivad tekkida. See on parim võimalus kuulda vahetult\, mis tunne on hüpata tundmatusse ja avastada täiesti uut kultuuri. \n📍 Infotund toimub Tartus kohapeal. Tule ja saa inspiratsiooni oma elu seikluslikemaks aastaks! \nVali endale sobivaim kuupäev ja asukoht ning kohtume infotunnis https://fienta.com/et/o/11147
URL:https://www.teeviit.ee/sundmus/yfu-eesti-infotund-vahetusopilaseks-saamisest-tartus/
LOCATION:YFU Eesti MTÜ\, Ülikooli 12\, Tartu\, Tartu maakond\, 51003\, Estonia
CATEGORIES:Infotund
ATTACH;FMTTYPE=image/webp:https://www.teeviit.ee/wp-content/uploads/2025/12/allalaadimine.webp
END:VEVENT
BEGIN:VEVENT
DTSTART;TZID=Europe/Tallinn:20251216T170000
DTEND;TZID=Europe/Tallinn:20251216T190000
DTSTAMP:20260419T175813
CREATED:20251216T084819Z
LAST-MODIFIED:20251216T084819Z
UID:57916-1765904400-1765911600@www.teeviit.ee
SUMMARY:YFU Eesti infotund vahetusõpilaseks saamisest! (Tallinnas)
DESCRIPTION:Kas oled mõelnud\, et sooviksid õppida selgeks uue keele\, kogeda täiesti teistsugust koolielu ja kultuuri? \nJust seda pakub vahetusaasta YFUga! 🌍 \nKui oled 14–18 (või kohe 14 saamas)\, ootame sind infotundi\, kus saad teada\, kuidas vahetusaasta päriselt käib – alates kandideerimisest kuni uute sõprade ja kogemusteni teisel pool maailma. \nInfotundi viivad läbi noored\, kes on ise vahetusaastal käinud. Nad jagavad oma lugusid\, nippe ja vastuseid küsimustele\, mis võivad tekkida. See on parim võimalus kuulda vahetult\, mis tunne on hüpata tundmatusse ja avastada täiesti uut kultuuri. \n📍 Infotund toimub Tallinnas kohapeal. Tule ja saa inspiratsiooni oma elu seikluslikemaks aastaks! \nRegistreerimine: https://fienta.com/et/yfu-eesti-infotund-vahetusopilaseks-hakkamiseks-160719#title
URL:https://www.teeviit.ee/sundmus/yfu-eesti-infotund-vahetusopilaseks-saamisest-tallinnas-4/
LOCATION:YFU Eesti MTÜ (Tallinn)\, Kevade tänav 4a\, Tallinn\, Estonia
CATEGORIES:Infotund
ATTACH;FMTTYPE=image/webp:https://www.teeviit.ee/wp-content/uploads/2025/12/allalaadimine.webp
END:VEVENT
BEGIN:VEVENT
DTSTART;TZID=Europe/Tallinn:20251218T100000
DTEND;TZID=Europe/Tallinn:20251218T110000
DTSTAMP:20260419T175813
CREATED:20251216T090112Z
LAST-MODIFIED:20251216T090120Z
UID:57920-1766052000-1766055600@www.teeviit.ee
SUMMARY:Veebiloeng "Teadlikumalt tööturule"
DESCRIPTION:Veebiloengus saad tervikliku ülevaate tööturust ja tööotsingu erinevatest etappidest.  \n\nTutvustame\, mida muutuv tööturg täna ja tulevikus vajab.\nSelgitame\, millised on erinevad tööotsimise võimalused.\nRäägime kandideerimiseks vajalikest dokumentidest ja töövestlusel osalemisest.\n\nOsalemine annab sulle ülevaate tööotsingu protsessist ja teadmised\, kuidas tööd leida ja tööle kandideerida. \nVaata lisainfot ja telli endale meeldetuletus Minukarjäär lehel. https://minukarjaar.ee/et/sundmused/teadlikumalt-tooturule-18-12-25
URL:https://www.teeviit.ee/sundmus/veebiloeng-teadlikumalt-tooturule/
LOCATION:Veebis
CATEGORIES:Veebiloeng
ATTACH;FMTTYPE=image/png:https://www.teeviit.ee/wp-content/uploads/2025/12/teadlikult-tooturule.png
END:VEVENT
BEGIN:VEVENT
DTSTART;TZID=Europe/Tallinn:20251219T113000
DTEND;TZID=Europe/Tallinn:20251219T123000
DTSTAMP:20260419T175813
CREATED:20251216T090301Z
LAST-MODIFIED:20251216T090301Z
UID:57925-1766143800-1766147400@www.teeviit.ee
SUMMARY:Veebiloeng "Kuidas leida sobivaid õppimisvõimalusi"
DESCRIPTION:Veebiloengus räägime\, millised oskused on tööturul hinnas ja kuidas otsida haridusinfot. \n\nTutvustame erinevaid haridus- ja täiendõppe võimalusi ning juhendame sellekohase info leidmisel.\nSelgitame\, milliste teadmiste ja oskustega inimesi tööandjad ootavad.\nJagame infot\, kas ja kuidas saab töötukassa õpinguid toetada.\n\nOsalemine annab sulle teadmisi sobivatest õppimis- ja enesetäiendamisvõimalustest ning oskuse leida sellekohast infot. \nVaata lisainfot ja telli endale meeldetuletus Minukarjäär lehel. https://minukarjaar.ee/et/sundmused/kuidas-leida-sobivaid-oppimisvoimalusi-19-12-25
URL:https://www.teeviit.ee/sundmus/veebiloeng-kuidas-leida-sobivaid-oppimisvoimalusi/
LOCATION:Veebis
CATEGORIES:Veebiloeng
ATTACH;FMTTYPE=image/png:https://www.teeviit.ee/wp-content/uploads/2025/12/kuidas-leida-sobivaid-oppimisvoimalusi.png
END:VEVENT
END:VCALENDAR