BEGIN:VCALENDAR
VERSION:2.0
PRODID:-//Teeviit - ECPv6.15.4//NONSGML v1.0//EN
CALSCALE:GREGORIAN
METHOD:PUBLISH
X-WR-CALNAME:Teeviit
X-ORIGINAL-URL:https://www.teeviit.ee
X-WR-CALDESC:Events for Teeviit
REFRESH-INTERVAL;VALUE=DURATION:PT1H
X-Robots-Tag:noindex
X-PUBLISHED-TTL:PT1H
BEGIN:VTIMEZONE
TZID:Europe/Tallinn
BEGIN:DAYLIGHT
TZOFFSETFROM:+0200
TZOFFSETTO:+0300
TZNAME:EEST
DTSTART:20250330T010000
END:DAYLIGHT
BEGIN:STANDARD
TZOFFSETFROM:+0300
TZOFFSETTO:+0200
TZNAME:EET
DTSTART:20251026T010000
END:STANDARD
END:VTIMEZONE
BEGIN:VEVENT
DTSTART;TZID=Europe/Tallinn:20251106T080000
DTEND;TZID=Europe/Tallinn:20251106T170000
DTSTAMP:20260419T193354
CREATED:20251106T080059Z
LAST-MODIFIED:20251106T080452Z
UID:57219-1762416000-1762448400@www.teeviit.ee
SUMMARY:Veebiloeng "Sinu esimene investeering - pensionisambad"
DESCRIPTION:Alustasid või oled alustamas tööeluga? Pension on küll kaugel\, kuid targad valikuid tulevikuks tuleb teha juba praegu!\n\nSotsiaalministeerium kutsub noori 11.11.2025 kell 18.00 osalema veebiloengus “Sinu esimene investeering – pensionisambad”.\n\n\n\nRegistreerumine: \n\nloeng eesti keeles https://forms.office.com/e/Lerq1P1cZR\nloeng venekeeles https://forms.office.com/e/GuJ1aAUCLa?origin=lprLink \n\n\n\nTeemad\, millele keskendutakse:  \n\nkuidas noorest saab tööle minnes automaatselt investor\,\nkuidas II sammas toimib ja miks see pole „lihtsalt mingi pension“ vaid reaalne investeering\,\nmiks pole pension midagi kauget ja igavat\, millele noor mõtlema ei pea\,\nmiks on oluline tulevikule mõelda juba täna\,\nmilline on aja mõju raha kogumisele\,\nmillal ja miks tasub kaaluda III sammast\,\nkuidas isegi väikese sissetuleku puhul pensioniks kogumine tasub end ära.\n\n 
URL:https://www.teeviit.ee/sundmus/veebiloeng-sinu-esimene-investeering-pensionisambad/
LOCATION:Veebis
CATEGORIES:Infotund
ATTACH;FMTTYPE=image/jpeg:https://www.teeviit.ee/wp-content/uploads/2025/11/480840719_1050189503812678_6387681795856347226_n.jpg
END:VEVENT
BEGIN:VEVENT
DTSTART;TZID=Europe/Tallinn:20251107T120000
DTEND;TZID=Europe/Tallinn:20251107T170000
DTSTAMP:20260419T193354
CREATED:20251013T101847Z
LAST-MODIFIED:20251013T101847Z
UID:56830-1762516800-1762534800@www.teeviit.ee
SUMMARY:Noorte digimaailma häkaton 7.-12. klasside õpilastele
DESCRIPTION:Lastekaitse Liit\, Telia ja Tartu Ülikooli ühiskonnateaduste instituut kutsuvad 7.-12. klasside õpilasi osalema digimaailma häkatonile Tallinnas Telia peakontoris 7. novembril 2025. \nHäkatonile on oodatud kuni 5-liikmelised tiimid koos õpetajaga. Osalevate noorte ülesanne on välja töötada praktiline lahendus eakaaslate harimiseks digiturvalisuse teemadel. Võitja meeskonna igat liiget premeeritakse 100€ Apollo kinkekaardiga. \nMiks osaleda? \n\nÕpilased saavad häkatoni formaadis lõbusate ja õpetlike tegevuste väljatöötamise kogemuse\, mis arendab nii probleemide lahendamise kui ka meeskonnatöö oskusi.\nHäkatonil sündinud ideed jõuavad 2026. aasta veebruaris veebilehe targaltinternetis.ee Turvalise Interneti Päeva kampaaniasse\, mida levitatakse ka Telia ja Tartu Ülikooli kanalites\, andes Teie õpilaste panusele laia kõlapinna.\nHäkatoni teemadeks on tehisintellekti eksitavad vastused\, populaarsete sotsiaalmeediaplatvormide privaatsustingimuste keerukus ja tundmatute inimestega suhtlemine veebis. Õpetlike tegevuste loomiseks moodustatakse 5-liikmelised tiimid\, keda toetavad Lastekaitse Liidu lapse õiguste saadikud. Osalejatele pakutakse tasuta lõunasööki ja snäkke.\nÕpilaste häkatoni ajal toimub paralleelselt 2-tunnine tehisintellekti koolitus õpetajatele\, mida viib läbi Tartu Ülikooli meediapädevuse spetsialist Inger Klesment. Koolitus annab praktilisi oskusi ja ideid TI kasutamiseks õppetöös.\n\nLisainfo ja registreerimine: https://forms.gle/ZX5e1NVtjhsY6Cmf6
URL:https://www.teeviit.ee/sundmus/noorte-digimaailma-hakaton-7-12-klasside-opilastele/
LOCATION:Telia peakontor (Tallinn)
CATEGORIES:Häkaton
ATTACH;FMTTYPE=image/png:https://www.teeviit.ee/wp-content/uploads/2025/10/hakaton-nov-2025-scaled.png
END:VEVENT
BEGIN:VEVENT
DTSTART;VALUE=DATE:20251110
DTEND;VALUE=DATE:20251117
DTSTAMP:20260419T193354
CREATED:20250604T063658Z
LAST-MODIFIED:20251110T061202Z
UID:54520-1762732800-1763337599@www.teeviit.ee
SUMMARY:Üle-eestiline noorsootöö nädal
DESCRIPTION:Haridus- ja Noorteamet (Harno) kutsub kõiki tähistama üle-eestilist noorsootöö nädalat 10.–16. novembrini 2025. Juba 15. korda toimuva nädala teema on tänavu „Seal\, kus võimalused sünnivad“ – sest just noorsootöö kaudu saavad alguse paljud ideed\, oskused ja sõprused\, mis kannavad edasi kogu elu.  \nNädala jooksul saavad noorsootöö- ja haridusasutused märkida oma korraldatavaid tegevusi tavapäraselt noorsootoonadal.ee veebilehel asuvasse kalendrisse. Samuti korraldab Harno mitmeid tegevusi\, muuhulgas Teeviit LIVE ja liikumisüleskutse koostöös Daniel Viinalassi ning tantsukooliga Tantsugeen. Tegevustes osalejate vahel läheb loosi mitmeid väärtuslikke auhindu.  \n\n\n\n\n\n\n\n\n\n\n\n\nHaridus- ja Noorteameti tegevused noorsootöö nädala raames:\n\n\n\n\n✔️Sotsiaalmeediakampaania „Minu võimaluste hetk“ kutsub oma lugusid jagama\nKõigil on oma hetk\, mil midagi muutus – sa julgesid\, proovisid\, õppisid või lihtsalt avastasid midagi uut läbi noorsootöö\, huvihariduse või noorteprojekti. \nPostita sotsiaalmeediasse pilt\, video või lühike tekst ja lisa kindlasti teemaviide #minuvõimalus ja #noorsootöönädal2025 .Lisainfo noorsootöö nädala veebis siin. \n\n\n\n\n✔️Üleskutse: „Üks päev\, üks uus võimalus“ ehk uksed ja tegevused lahti\nHarno kutsub noortekeskusi\, huvikoole ja noorsootöö organisatsioone noorsootöö nädala vältel oma uksi ja tegevusi avama. Tegemist võib olla asutuse tegevusi tutvustava sündmusega või hoopiski avatud töötoaga. \nMärgi avatud tegevus ka noorsootöö nädala sündmuse kalendrisse ja suurenda peaauhinna võitmise võiduvõimalust! Lisainfo noorsootöö nädala veebis siin. \n\n\n\n\n✔️10.–30.11 Digitaalne tunnustustahvel kutsub kiitusi lisama\nKes on see inimene\, kes on sind toetanud\, suunanud või lihtsalt märganud? Tänu väljendamiseks lisa oma sõnum digitaalsel tunnustustahvlil – see on ühisloome sein\, kuhu koguneb päriselt nähtav hoolimine. Lihtsad veebivormid ja kogu info on leitav noorsootöö nädala veebilehelt.Tänusõnumeid saab jätta kuni 30.11.2025 kahel eraldi tahvlil:\n1. täiskasvanult täiskasvanule – tunnustades kolleegi või koostööpartnerit\, välja loositakse 6 noorsootöö sõnumiga pusa. Vaata siia!\n2. noortelt spetsialistidele – noorte tänusõnumid neile\, kes nende teekonda on toetanud\, t\, välja loositakse elektriline tõukeratas. Vaata siia! \n\n\n\n\n✔️10.-17.11 Tantsuline üleskutse „Rütm minu sees“ jagab liikumisrõõmu\nTantsulise üleskutse näol on tegemist lihtsa liikumiskavaga\, mida saavad järgi teha ja õppida kõik huvilised olenemata tantsuoskusest. Kava on valminud koostöös tantsukooliga Tantsugeen ning Daniel Levi Viinalassiga ja muusika pärineb tüdrukutebändi BLIX loost “Võimatu”. \nKutsume kõiki noori ja noorsootöötajaid jagama oma liikumisrõõmu hiljemalt 16.11.2025 ning lisama salvetatud video sotsiaalmeediasse viitega #rütmminusees ja #noorsootöönädal2025\, sest ainult nii on võimalus end näha kokkuvõtvas klipis. \nLisainfo noorsootöö nädala veebis siin.  \n\n\n\n\n✔️13.11 kell 15.00 Teeviit LIVE „Seal\, kus võimalused sünnivad“\nOtseülekanne\, mis toob kokku noored ja noorsootöötajad\, et rääkida sellest\, mida noorsootöö tegelikult tähendab. LIVE-s jagatakse päris lugusid\, mõtestatakse noorsootöö mõju ning tunnustatakse neid\, kes kuulavad\, märkavad ja inspireerivad. Otseülekande ajal saab esinejatele küsimusi esitada\, kõigi küsimuste esitajate vahel loosime välja kinkekaarte. Liitu otseülekandega ja saa osa ühisest arutelust! Lisainfo aadressil www.teeviit.ee/live2025. \n\n\n\n\nEsinejad:  \n\nDaniel Viinalass\, moderaator ja muusik  \nMaarja-Liisa Lepsalu\, Aasta Noorsootöötaja 2024  \nAsso Viiding\, Eesti Noorsootöötajate Kogu juhatuse liige \nLiis Velsker\, tervisliku eluviisi eestkõneleja \nKarl-Sten Kõrgmaa\, noor aktivist \n\n\n\n\n\n✔️Lisa oma sündmus kalendrisse\, et noor saaks osaleda ja terve Eesti oleks informeeritud!\nKutsume kõiki üles oma sündmusi lisama kaardirakendusse\, et oleks lihtne näha\, kus\, millal ja mis toimub. Leiad selle siit: https://noorsootoonadal.ee/. Kõik sündmuste korraldajad osalevad ka loosimises. \n\n\n\n\nHoia silm peal Harno ja Teeviit kanalitel: \n\nHarno Facebook \nHarno Instagram\nHarno LinkedIn \nTeeviit Facebook\nTeeviit Instagram\nTeeviit TikTok \n\nLisainfo: noorsootoonadal@harno.ee \n\n\n\n\n\n\n\n\n\n  \n 
URL:https://www.teeviit.ee/sundmus/ule-eestiline-noorsootoo-nadal-3/
LOCATION:Üle-eestiline
CATEGORIES:Sündmus
ATTACH;FMTTYPE=image/png:https://www.teeviit.ee/wp-content/uploads/2025/10/pohikujundus_1240x820.png
END:VEVENT
BEGIN:VEVENT
DTSTART;VALUE=DATE:20251110
DTEND;VALUE=DATE:20251117
DTSTAMP:20260419T193354
CREATED:20251110T061829Z
LAST-MODIFIED:20251110T061829Z
UID:57288-1762732800-1763337599@www.teeviit.ee
SUMMARY:Ava oma asutuse uksed või tegevus kogukonnale ja tutvusta noorsootöö olemust
DESCRIPTION:Algatus “Üks päev\, üks uus võimalus” kutsub noortekeskusi\, huvikoole ja noorsootöö organisatsioone nädala raames oma tegevusi kogukonnale tutvustama.   \n\n\n\n\nAlgatuse eesmärk on suurendada teadlikkust noorsootöötaja tööst ja noorsootöö tegevuste olulisusest noorte hoiakute\, oskuste ning teadmiste kujundamisel. \nTegemist võib olla asutuse tegevusi tutvustava sündmusega või hoopiski avatud töötoaga\, mis tutvustab noortele pakutavaid võimalusi\, nagu näiteks huviringid või projektid.  \nMärgi avatud tegevus või lahtiste uste päev ka noorsootöö nädala sündmuse kaardirakendusel ja osaled auhindade loosimises. Vaata lisainfot noorsootoonadal.ee/#syndmused.  \n\n\n\n\nÜle-eestiline noorsootöö nädal toimub tänavu 15. korda ja seda korraldab Haridus- ja Noorteamet. Lisainfo noorsootoonadal@harno.ee.  
URL:https://www.teeviit.ee/sundmus/ava-oma-asutuse-uksed-voi-tegevus-kogukonnale-ja-tutvusta-noorsootoo-olemust/
CATEGORIES:Üleskutse
ATTACH;FMTTYPE=image/png:https://www.teeviit.ee/wp-content/uploads/2025/11/u╠lks-pa╠lev-uus-vo╠aimalus.png
END:VEVENT
BEGIN:VEVENT
DTSTART;VALUE=DATE:20251110
DTEND;VALUE=DATE:20251117
DTSTAMP:20260419T193354
CREATED:20251110T093136Z
LAST-MODIFIED:20251110T093136Z
UID:57355-1762732800-1763337599@www.teeviit.ee
SUMMARY:#rütmminusees: Daniel Levi ja TantsuGeen kutsuvad sel nädalal tantsima
DESCRIPTION:Noorsootöö nädala raames toimuv tantsuline üleskutse “Rütm minu sees” kutsub video järgi kaasa tantsima ja oma videot sotsiaalmeedias jagama. Kuni 16.11.2025 sotsiaalmeediasse jagatud videotest valmib kokkuvõttev klipp novembri lõpuks.   \nTantsulise üleskutse näol on tegemist lihtsa liikumiskavaga\, mida saavad järgi teha ja õppida kõik huvilised olenemata tantsuoskusest. Kava on valminud koostöös tantsukooliga Tantsugeen ning Daniel Levi Viinalassiga ja muusika pärineb tüdrukutebändi BLIX loost “Võimatu”.   \nKutsume kõiki noori ja noorsootöötajaid jagama oma liikumisrõõmu hiljemalt 16.11.2025 ning lisama salvetatud video sotsiaalmeediasse viitega #rütmminusees ja #noorsootöönädal2025\, sest ainult nii on võimalus end näha kokkuvõtvas klipis.   \n🎵 Muusika saab tantsimiseks alla laadida Dropboxist siit. \n🕺Õpetusvideot näeb Youtubest siin.
URL:https://www.teeviit.ee/sundmus/rutmminusees-daniel-levi-ja-tantsugeen-kutsuvad-sel-nadalal-tantsima/
LOCATION:Sotsiaalmeedia
CATEGORIES:Üleskutse,Kampaania
ATTACH;FMTTYPE=image/png:https://www.teeviit.ee/wp-content/uploads/2025/11/portaal-1240x820-2-scaled.png
END:VEVENT
BEGIN:VEVENT
DTSTART;VALUE=DATE:20251110
DTEND;VALUE=DATE:20251201
DTSTAMP:20260419T193354
CREATED:20251110T061656Z
LAST-MODIFIED:20251110T061656Z
UID:57282-1762732800-1764547199@www.teeviit.ee
SUMMARY:Jaga oma inspireerivat lugu sotsiaalmeediaskampaanias #minuvõimalus
DESCRIPTION:Kas mäletad\, kui keegi toetas sind uue alguse juures\, julgustas proovima või näitas teed? Jaga oma inspireerivat lugu kuni 30.11.2025 sotsiaalmeedias pildi\, video\, story või postituse kujul ja lisa #minuvõimalus. \n\n\n\n\nNoorsootöö nädala sotsiaalmeediakampaania „Minu võimaluste hetk“ kutsub noori\, noorsootöötajaid\, lapsevanemaid ja kogukondi jagama oma inspireerivaid lugusid noorsootööst. Kuidas osaleda?  \nPostita sotsiaalmeediasse pilt\, lühike tekst või video\, mis näitab ja kirjeldab sinu võimaluste hetke – seda\, kuidas noorsootöö on sulle uusi uksi avanud või midagi sinu elus muutnud. Lisa kindlasti ka teemaviide #minuvõimalus ja #noorsootöönädal2025. \nNoorsootöö nädala korraldajad ootavad põnevusega kõigi lugusid ja hetki. Meil kõigil on elus olukordi\, mil midagi muutus – sa julgesid\, proovisid\, õppisid või lihtsalt avastasid midagi uut.   \n\n\n\n\nÜle-eestiline noorsootöö nädal toimub tänavu 15. korda ja seda korraldab Haridus- ja Noorteamet. Lisainfo noorsootoonadal@harno.ee.  
URL:https://www.teeviit.ee/sundmus/jaga-oma-inspireerivat-lugu-sotsiaalmeediaskampaanias-minuvoimalus/
LOCATION:Sotsiaalmeedia
CATEGORIES:Kampaania
ATTACH;FMTTYPE=image/png:https://www.teeviit.ee/wp-content/uploads/2025/11/artboard-1-copy-20.png
END:VEVENT
BEGIN:VEVENT
DTSTART;VALUE=DATE:20251110
DTEND;VALUE=DATE:20251201
DTSTAMP:20260419T193354
CREATED:20251110T062021Z
LAST-MODIFIED:20251110T062021Z
UID:57293-1762732800-1764547199@www.teeviit.ee
SUMMARY:Tunnusta oma noorsootöötajat ja võida elektriline tõukeratas
DESCRIPTION:Käes on aeg tunnustada oma noorsootöötajat või huviringi juhendajat digitaalsel tunnustustahvlil! Noorte tunnustused on oodatud kuni 30.11.2025\, misjärel loositakse kõigi tunnustuse lisajate vahel välja elektriline tõukeratas.   \n\n\n\n\nNoorte tunnustused on oodatud kuni 30.11.2025\, misjärel loositakse kõigi tunnustuse lisajate vahel välja elektriline tõukeratas. \nLoosimine toimub 1.12.2025. Võitjaga võetakse ühendust tõukeratta ostu vormistamiseks\, arvestatakse võitja vanust. \nKuidas tunnustada? Ava www.noorsootoonadal.ee veebilehe menüüst nupp “Noored kiidavad” ja täida väljad. Nii lihtne see ongi! \nHead sõnad ei maksa midagi\, aga tähendavad palju! \n\n\n\n\nÜle-eestiline noorsootöö nädal toimub tänavu 15. korda ja seda korraldab Haridus- ja Noorteamet. Lisainfo noorsootoonadal@harno.ee.
URL:https://www.teeviit.ee/sundmus/tunnusta-oma-noorsootootajat-ja-voida-elektriline-toukeratas/
LOCATION:https://noorsootoonadal.ee/#nooredkiidavad
CATEGORIES:Konkurss
ATTACH;FMTTYPE=image/png:https://www.teeviit.ee/wp-content/uploads/2025/11/noored-kiidavad.png
END:VEVENT
BEGIN:VEVENT
DTSTART;TZID=Europe/Tallinn:20251112T100000
DTEND;TZID=Europe/Tallinn:20251112T153000
DTSTAMP:20260419T193354
CREATED:20250904T052556Z
LAST-MODIFIED:20250904T052649Z
UID:55960-1762941600-1762961400@www.teeviit.ee
SUMMARY:Veebiseminar "Vaimse tervise eest hoolitsemine"
DESCRIPTION:Osalema on oodatud 15-29aastased noored.  \nSeminari eesmärk on arendada teadmisi ja oskusi\, kuidas hoolitseda oma vaimse tervise eest ning ennetada ja leevendada võimalikke vaimse tervise probleeme aidates luua positiivne enesekuvand\, parandada enesehinnangut ja -usku\, õpetada kasutama erinevaid teaduspõhiseid meetodeid vaimse tervisega tegelemisel\, sh õigel ajal sobivatelt inimestelt abi küsimist. \nVeebiseminaridel osalemine on kõigile TASUTA. Seminarisari koosneb kaheksast osast. Osaleda on võimalik kõikidel seminaridel või valida osalemiseks oma huvidele ja vajadusetele vastava teemaga seminar(id). Kui Lives osaleda ei saa\, siis registreerunutele on seminarid järele vaadatavad 30 päeva. \nInfo kõikide noorte üldoskuste arendamise veebiseminaride kohta on leitav Eesti Töötukassa lehelt. \nKoolitaja: Jaana Liigand \nSeminarisarja rahastatakse Euroopa Liit taasterahastu NextGenerationEU vahenditest.   \nRegistreerumine: https://minukarjaar.ee/et/sundmused/veebiseminar-vaimse-tervise-eest-hoolitsemine-12-11-2025
URL:https://www.teeviit.ee/sundmus/veebiseminar-vaimse-tervise-eest-hoolitsemine-2/
LOCATION:Veebis
CATEGORIES:Loeng,veebinar,Veebiloeng
ATTACH;FMTTYPE=image/jpeg:https://www.teeviit.ee/wp-content/uploads/2025/09/vaimse-tervise-eest-hoolitsemine.jpg
END:VEVENT
BEGIN:VEVENT
DTSTART;TZID=Europe/Tallinn:20251113T000000
DTEND;TZID=Europe/Tallinn:20251113T130000
DTSTAMP:20260419T193354
CREATED:20251031T053206Z
LAST-MODIFIED:20251031T053206Z
UID:57009-1762992000-1763038800@www.teeviit.ee
SUMMARY:DiscoverEU tasuta rongipassile kandideerimine Euroopas reisimiseks
DESCRIPTION:Kas oled 18-aastane ja unistanud Euroopas reisimisest? Nüüd on sinu võimalus! Haridus- ja Noorteameti kaudu saab kandideerida tasuta DiscoverEU rongipassile. \n\n\n\n\nDiscoverEU rongipassiga saab kuni 30 päeva Euroopas seigelda ja see on ideaalne võimalus\, et avastada Euroopa riike\, leida uusi sõpru ja õppida iseend tundma. \nTaotlusvoorus\, mis toimub 30.10 – 13.11.2025\, jagatakse Eestis välja 119 tasuta reisipassi. Reisida saab ajavahemikus märts 2026 – mai 2027. \n\n\n\n\n✍️ Kandideerimise vorm ja lisainfo:\nDiscoverEU – kutsume kandideerima | Euroopa Noorteportaal \n\n\n\n\nKandideerimine on suunatud noortele\, kes on sündinud ajavahemikus 1. jaanuar – 31. detsember 2007. \nTahad minna koos sõpradega? Võid kandideerida kuni neljakesi grupina! \nRongipassi võitjad saavad ka European Youth sooduskaardi (EYCA)\, mis võimaldab hinnasoodustust näiteks kultuuriobjektide külastamisel ning kohaliku transpordi\, majutuse ja toidu jaoks. \n\n\n\n\nLisete Tammeveski\nDiscoverEU koordinaator\nErasmus+ ja Euroopa Solidaarsuskorpuse agentuur\nlisete.tammeveski@harno.ee\n5364 8412
URL:https://www.teeviit.ee/sundmus/discovereu-tasuta-rongipassile-kandideerimine-euroopas-reisimiseks/
LOCATION:Veebsi
CATEGORIES:Konkurss
ATTACH;FMTTYPE=image/jpeg:https://www.teeviit.ee/wp-content/uploads/2025/10/path-discovereu-99d02d00a5a47e3923329cf1534303ca.jpg
END:VEVENT
BEGIN:VEVENT
DTSTART;TZID=Europe/Tallinn:20251113T150000
DTEND;TZID=Europe/Tallinn:20251113T170000
DTSTAMP:20260419T193354
CREATED:20251106T070503Z
LAST-MODIFIED:20251110T062113Z
UID:57202-1763046000-1763053200@www.teeviit.ee
SUMMARY:Teeviit LIVE "Seal\, kus võimalused sünnivad"
DESCRIPTION:Kui tahad saada inspiratsiooni ja rohkem teadmisi noorsootöö olulisusest\, siis osale veebisündmusel Teeviit LIVE 13. novembril 2025 kell 15-17. Neli põnevat külalist vestlevad muusiku Daniel Levi Viinalassiga. \nVeebisündmuse külalised on Maarja-Liisa Lepsalu\, Asso Viiding\, Liis Velsker\, Karl-Sten Kõrgmaa. \nSündmuse ajal saavad vaatajad esinejatele küsimusi esitada sli.do keskkonna kaudu koodiga 5415313. Küsimuste esitajate vahel loositakse välja 4 x 100€ väärtuses kinkekaarte. \nSündmusele saab end ka eelnevalt registreerida siin. Registreerunutele saadetakse e-maili peale LIVE link\, mille kaudu saab mugavalt sündmusega liituda. \nOtseülekandega saab liituda järgnevalt: \n\nteeviit.ee/live2025/\nYoutubes\n\nÜle-eestiline noorsootöö nädal toimub tänavu 15. korda ja seda korraldab Haridus- ja Noorteamet. Lisainfo noorsootoonadal@harno.ee.  
URL:https://www.teeviit.ee/sundmus/teeviit-live-seal-kus-voimalused-sunnivad/
LOCATION:Youtube
CATEGORIES:Veebiloeng
ATTACH;FMTTYPE=image/png:https://www.teeviit.ee/wp-content/uploads/2025/11/teeviit-live-1920x1080-1.png
END:VEVENT
BEGIN:VEVENT
DTSTART;VALUE=DATE:20251118
DTEND;VALUE=DATE:20251119
DTSTAMP:20260419T193354
CREATED:20250917T101256Z
LAST-MODIFIED:20250917T101256Z
UID:56413-1763424000-1763510399@www.teeviit.ee
SUMMARY:Esseekonkurss "Üle rahutu vee"
DESCRIPTION:Kui oled 15–19-aastane õpilane (sh 12. klass)\, siis on sul suurepärane võimalus osaleda ajalooteemalisel esseekonkursil „Üle rahutu vee“. \nKonkursi eesmärk on innustada koolinoori huvi tundma ajaloo perioodi vastu\, mil eestlased põgenesid Eestist vabasse läände ja tegelesid paguluses vabadusvõitluse ning eestluse hoidmisega. Ergutada koolinoori laiendama oma silmaringi\, otsimaks välismaal elavatele kaasmaalastele kohta meie ühise ajaloo käsitlemisel. \nKonkursil osalemise tingimused ja võistlustööde nõuded: \n\n15–19 a õpilased\, kuni 12. klassi lõpuni\neesti keeles\n3 lehekülge ( kuni 5400 tm) + viited\nkirjuta päisesse oma ees- ja perekonnanimi\, vanus\, kool ja klass\nsaada PDF-failina e-postiga suurpogenemine@gmail.com\nvõistlustööde esitamise tähtaeg 18.11. 2025\n\nAuhinnad ja tunnustus: \n\nRahalised auhinnad kolmele parimale\nVõidutööd avaldatakse väliseesti meedias\nTulemused selguvad detsembris\n\nLisainfo: Esseekonkurss_2025 – Suurpõgenemine 1944
URL:https://www.teeviit.ee/sundmus/esseekonkurss-ule-rahutu-vee/
LOCATION:Veebis
CATEGORIES:Konkurss
END:VEVENT
BEGIN:VEVENT
DTSTART;VALUE=DATE:20251121
DTEND;VALUE=DATE:20251211
DTSTAMP:20260419T193354
CREATED:20251128T064946Z
LAST-MODIFIED:20251128T064946Z
UID:57513-1763683200-1765411199@www.teeviit.ee
SUMMARY:Valgusinstallatsioonide konkurss "Rõõmustajad pimedas"
DESCRIPTION:Eesti Kunstikoolide Liit kutsub üldharidus- ja huvikoole ning noortekeskusi võtma osa viiendast valgusinstallatsioonide konkursist “Rõõmustajad pimedas”. \n\nEhita isikupärane valgusinstallatsioon\, tee meisterdamisest ja lõpptulemusest pildid ning jaga neid meiega. Saabunud tööd osalevad Eesti Kunstikoolide Liidu Facebooki rahvahääletusel\, kus lemmikutest lemmikumad saavad premeeritud.\n\n\n\n\n\n\n\nPildista oma valgusinstallatsiooni tööprotsessi ja lõpptulemust ning saada meile nendest kokku kuni 4 fotot meiliaadressile  konkurss.kunstikoolideliit@gmail.com.\n\n\n\n\n\n\n\n\n\n\n\n\nPilte saab saata 10. detsembrini 2025. \nLisainfo EKKL veebilehel siin.
URL:https://www.teeviit.ee/sundmus/valgusinstallatsioonide-konkurss-roomustajad-pimedas/
LOCATION:Veebis
CATEGORIES:Konkurss
ATTACH;FMTTYPE=image/png:https://www.teeviit.ee/wp-content/uploads/2025/11/roomustajad-pimedas-2025.png
END:VEVENT
BEGIN:VEVENT
DTSTART;TZID=Europe/Tallinn:20251124T000000
DTEND;TZID=Europe/Tallinn:20251124T170000
DTSTAMP:20260419T193354
CREATED:20251031T052941Z
LAST-MODIFIED:20251031T052941Z
UID:57004-1763942400-1764003600@www.teeviit.ee
SUMMARY:Mini Negavatt 2025 videokonkurss algklassidele
DESCRIPTION:Koolinoored on oodatud osalema videokonkursil Mini Negavatt 2025\, mille tänavune teema on „Unistuste keskkonnasõbralik Eesti“.  \nKonkursil saavad 1.-6. klasside õpilased jagada oma lennukaid ideid\, kuidas muuta meie kodu\, kool või kogu Eesti loodussõbralikumaks. Töid saab esitada 27.10.-24.11.2025 kell 17.00. \nKonkursil võisteldakse kahes vanusekategoorias: 1.-3. klass ning 4.-6. klass. Video saab konkursile esitada õpetaja\, huviringi juhendaja\, noorsootöötaja või muu noortegrupi täisealine esindaja. \nKonkursi peaauhind mõlema vanusekategooria parimale klassile on reisielamus kuni 700 euro väärtuses hariduslikuks elamuseks või matka läbiviimiseks. Teine koht saab reisiraha 500 ja kolmas koht 300 euro väärtuses. Lisaks annavad hariduslikke eriauhindu konkursi partnerid. \nESITA VIDEO SIIN.
URL:https://www.teeviit.ee/sundmus/mini-negavatt-2025-videokonkurss-algklassidele/
LOCATION:Veebis
CATEGORIES:Konkurss
ATTACH;FMTTYPE=image/jpeg:https://www.teeviit.ee/wp-content/uploads/2025/10/mini-negavatt.jpg
END:VEVENT
BEGIN:VEVENT
DTSTART;TZID=Europe/Tallinn:20251126T100000
DTEND;TZID=Europe/Tallinn:20251126T153000
DTSTAMP:20260419T193354
CREATED:20250904T053037Z
LAST-MODIFIED:20250904T053104Z
UID:55966-1764151200-1764171000@www.teeviit.ee
SUMMARY:Veebiseminar "Rahatarkus"
DESCRIPTION:Osalema on oodatud 15-29aastased noored.  \nSeminari eesmärk on arendada osalejatele vajalikud teadmised ja oskused\, et nad saaksid teha teadlikke otsuseid oma rahaasjades ning juhtida oma rahalisi ressursse paremini ja tulemuslikumalt. \nVeebiseminaridel osalemine on kõigile TASUTA. Seminarisari koosneb kaheksast osast. Osaleda on võimalik kõikidel seminaridel või valida osalemiseks oma huvidele ja vajadusetele vastava teemaga seminar(id). Kui Lives osaleda ei saa\, siis registreerunutele on seminarid järele vaadatavad 30 päeva. \nInfo kõikide noorte üldoskuste arendamise veebiseminaride kohta on leitav Eesti Töötukassa lehelt. \nKoolitaja: Jekaterina Tint \nSeminarisarja rahastatakse Euroopa Liit taasterahastu NextGenerationEU vahenditest.   \nRegistreerumine: https://minukarjaar.ee/et/sundmused/veebiseminar-rahatarkus-26-11-2025 \n 
URL:https://www.teeviit.ee/sundmus/veebiseminar-rahatarkus-2/
LOCATION:Veebis
CATEGORIES:Loeng,veebinar,Veebiloeng
ATTACH;FMTTYPE=image/jpeg:https://www.teeviit.ee/wp-content/uploads/2025/09/rahatarkus.jpg
END:VEVENT
BEGIN:VEVENT
DTSTART;VALUE=DATE:20251130
DTEND;VALUE=DATE:20251201
DTSTAMP:20260419T193354
CREATED:20251013T102712Z
LAST-MODIFIED:20251013T102744Z
UID:56844-1764460800-1764547199@www.teeviit.ee
SUMMARY:ProgeTiigri plakatikonkurss "InfoAmps!
DESCRIPTION:Haridus- ja Noorteameti ProgeTiigri programm kutsub alates 13. oktoobrist kõiki 1.–12. klassi ja kutsekeskhariduse õppekavadel õppivaid noori osalema plakatikonkursil „InfoAmps“.  \nKonkursi eesmärk on innustada õpilasi uurima\, omandama ja jagama teadmisi ning praktilisi oskusi informaatika valdkonnas\, arendada loovust ja visuaalset väljendusoskust ning toetada õpilaselt õpilasele suunatud õppimist informaatikas. \nKonkursil saavad õpilased osaleda individuaalselt või kaheliikmelise tiimina. \nPeaauhinnaks igas vanuseastmes on kiirpildikaamera\, millega saavad õpilased jäädvustada meeldejäävaid hetki ning kasutada pilte inspiratsiooniks tulevaste plakatite loomisel. Lisaks loosime kõigi kriteeriumitele vastavate tööde vahel välja ka mitmesuguseid ProgeTiigri auhindu. \nPlakateid saab esitada veebivormi kaudu kuni 30. novembrini 2025. \nTäpsem info: Plakatikonkurss “InfoAmps” 2025 – ProgeTiigri kogumik
URL:https://www.teeviit.ee/sundmus/progetiigri-plakatikonkurss-infoamps/
LOCATION:Veebis
CATEGORIES:Konkurss
ATTACH;FMTTYPE=image/png:https://www.teeviit.ee/wp-content/uploads/2025/10/osale-progetiigri-plakatikonkursil.png
END:VEVENT
BEGIN:VEVENT
DTSTART;VALUE=DATE:20251130
DTEND;VALUE=DATE:20251201
DTSTAMP:20260419T193354
CREATED:20251031T053651Z
LAST-MODIFIED:20251031T053651Z
UID:57012-1764460800-1764547199@www.teeviit.ee
SUMMARY:Noortevaldkonna tunnustuskonkursile “Noorte heaks tänu”
DESCRIPTION:Haridus- ja Noorteamet ja Haridus- ja Teadusministeerium kutsuvad kuni 30.11.2025 esitama kandidaate noortevaldkonna tunnustuskonkursile “Noorte heaks tänu”. Konkursil on 14 kategooriat. \nKategooriad: \n\nAasta noorsootöötaja\nAasta noor\nPikaajaline panustaja\nAasta loovuse edendaja\nAasta vabatahtlik\nAasta noortepoliitika mõjutaja\nAasta noortevaldkonna sõber\nAasta noortepealinn\nAasta noortesõbralik keskkond\nAasta koostöö\nAasta rahvusvaheline tegu\nAasta noorte osaluse edendaja\nAasta hoolija\nAasta teadmuspõhisuse edendaja\n\nKategooriate aasta noorsootöötaja\, pikaajaline panustaja\, aasta noor\, aasta vabatahtlik\, aasta noortepoliitika mõjutaja ja aasta hoolija laureaadid saavad rahalise preemia vahemikus 4000-10 000 eurot. Preemiad on määratud kategooriates\, kus tunnustatavateks on üksikisikud. Selleks\, et tunnustatud saaks noortevaldkonna kõigi erinevate suundade inimesed ja tegevused\, on kategooriaid varasemaga võrreldes uuendatud ja lisatud. \nKandidaat saab esitada Spoku keskkonnas\, kus tuleb sisse logida ID-kaardi\, HarID või Mobiil-ID-ga. Kandidaatide esitamise tähtaeg on 30. november.  Lõpliku ettepaneku kandidaatide riiklikuks tunnustamiseks teeb haridus- ja teadusministrile Haridus- ja Noorteameti poolt moodustatud tunnustuskomisjon\, kuhu kuuluvad nii noortevaldkonna esindajad kui ka noored. \nTunnustuskonkursi uus statuut on leitav Haridus- ja Teadusministeeriumi kodulehel.  \nLaureaadid kuulutatakse välja 11. veebruaril 2026 toimuval noortevaldkonna pidulikul galal “Noorte heaks tänu”. \nLisainfo kandidaatide esitamise kohta:  \ntunnustamine@harno.ee\, tel 626 8909
URL:https://www.teeviit.ee/sundmus/noortevaldkonna-tunnustuskonkursile-noorte-heaks-tanu/
LOCATION:Spoku
CATEGORIES:Konkurss
ATTACH;FMTTYPE=image/jpeg:https://www.teeviit.ee/wp-content/uploads/2025/10/569751913_1211440007698164_2731104503630221882_n.jpg
END:VEVENT
BEGIN:VEVENT
DTSTART;VALUE=DATE:20251130
DTEND;VALUE=DATE:20251201
DTSTAMP:20260419T193354
CREATED:20251117T102619Z
LAST-MODIFIED:20251117T102721Z
UID:57419-1764460800-1764547199@www.teeviit.ee
SUMMARY:Tartu Ülikool kutsub noori osalema otsuste langetamise uuringus
DESCRIPTION:Tartu Ülikooli psühholoogia instituut kutsub noori osalema uuringus\, mis selgitab välja kuidas teevad noored otsuseid erinevates eluolukordades. Uuring on avatud kuni 30.11.2025 veebikeskkonnas Former. \nUuringus osalemine on anonüümne ja vabatahtlik ning küsimustiku täitmine võtab aega kuni 45 minutit. \nUuringus saab osaleda\, kui:\n oled lõpetanud 9. klassi\, räägid eesti keelt\, oled 25-aastane või noorem. \n Uuringus osalemiseks vajuta https://otsused.studies.psych.ut.ee/ \nNoored aitavad läbi uuringu kujundada noorte õigusi ja vastutust puudutavad poliitikat ning uuringu tulemusi kasutatakse raportis\, mis loob teaduspõhise raamistiku noorte otsustusvõime mõistmiseks ja annab sisendi aruteludesse\, mis puudutavad erinevaid vanusepiire. \n Lisainfo: pirko.tougu@ut.ee
URL:https://www.teeviit.ee/sundmus/tartu-ulikool-kutsub-noori-osalema-otsuste-langetamise-uuringus/
LOCATION:Former (küsitluse keskkond)
CATEGORIES:Uuring
ATTACH;FMTTYPE=image/jpeg:https://www.teeviit.ee/wp-content/uploads/2025/11/580548274_1392294739566249_490949556471415665_n.jpg
END:VEVENT
END:VCALENDAR