BEGIN:VCALENDAR
VERSION:2.0
PRODID:-//Teeviit - ECPv6.15.4//NONSGML v1.0//EN
CALSCALE:GREGORIAN
METHOD:PUBLISH
X-WR-CALNAME:Teeviit
X-ORIGINAL-URL:https://www.teeviit.ee
X-WR-CALDESC:Events for Teeviit
REFRESH-INTERVAL;VALUE=DURATION:PT1H
X-Robots-Tag:noindex
X-PUBLISHED-TTL:PT1H
BEGIN:VTIMEZONE
TZID:Europe/Tallinn
BEGIN:DAYLIGHT
TZOFFSETFROM:+0200
TZOFFSETTO:+0300
TZNAME:EEST
DTSTART:20250330T010000
END:DAYLIGHT
BEGIN:STANDARD
TZOFFSETFROM:+0300
TZOFFSETTO:+0200
TZNAME:EET
DTSTART:20251026T010000
END:STANDARD
END:VTIMEZONE
BEGIN:VEVENT
DTSTART;VALUE=DATE:20250715
DTEND;VALUE=DATE:20250806
DTSTAMP:20260420T000621
CREATED:20250718T045832Z
LAST-MODIFIED:20250718T045832Z
UID:55743-1752537600-1754438399@www.teeviit.ee
SUMMARY:Meemikonkurss "Ükskord välismaal"
DESCRIPTION:Alates 15. juulist on kõikidel noortel võimalik osa võtta meemikonkursist „Ükskord välismaal“ Võistlus kestab kuni 5. augustini ning osalejate seast valitakse välja kaks võitjat. Auhindadeks on JBL Flip 6 ja JBL Flip 7 kaasaskantavad Bluetooth kõlarid. \nKonkursi eesmärk on läbi noorte loodud meemide jagada erinevaid emotsioone ning olukordi\, millega inimesed reisides kokku puutuvad ja seeläbi tõsta noorte teadlikkust rahvusvahelistest võimalustest. Kutsume noori meenutama oma kogemusi nii rahvusvahelises noortevahetuses või laagris kui ka vabatahtlikus teenistuses või reisil välisriigis. \nPärast konkurssi lõppu toimub kaks erinevat hääletust\, nii avalik kui ka Erasmus+ ja Euroopa Solidaarsuskorpuse agentuurisisene\, mille põhjal valitakse välja kaks võitjat\, kes saavad JBL Flip kõlari. \n\nKonkursi perioodiks on 16.07–05.08\n\n\nMeem tuleb esitada pildina\, videosid hääletusel arvesse ei võeta.\n\n\nHääletamine toimub 06.08–11.08\n\n\nVõitjad kuulutatakse välja rahvusvahelisel noortepäeval Euroopa Noored Facebooki ja Instagram lehtedel 12.08\n\n\nAuhindadeks on JBL Flip 6 ja JBL Flip 7 kõlarid\n\nLisaks on konkursi tingimuseks\, et Erasmus+ ja Euroopa Solidaarsuskorpuse agentuurile jääb õigus pärast konkurssi lõppu meeme kasutada. Samuti jätab agentuur endale õiguse Erasmus+ programmi väärtustele vastukäivaid meeme konkursil mitte arvestada. \nEnda meemi saad meile saata alloleva vormi kaudu!
URL:https://www.teeviit.ee/sundmus/meemikonkurss-ukskord-valismaal/
LOCATION:Veebis
CATEGORIES:Konkurss
ATTACH;FMTTYPE=image/png:https://www.teeviit.ee/wp-content/uploads/2025/07/meemikonkurss-1.png
END:VEVENT
BEGIN:VEVENT
DTSTART;TZID=Europe/Tallinn:20250805T100000
DTEND;TZID=Europe/Tallinn:20250805T130000
DTSTAMP:20260420T000621
CREATED:20250604T061754Z
LAST-MODIFIED:20250604T062848Z
UID:54499-1754388000-1754398800@www.teeviit.ee
SUMMARY:Eesti Töötukassa veebitöötuba "Kuidas ennast mõjuvalt tutvustada?"
DESCRIPTION:Veebitöötoas “Kuidas ennast mõjuvalt tutvustada?” saab teada\, kuidas töövestlusel kandidaadina enda tugevusi ja isikupära esile tuua\, mil moel luua hea esmamulje ning kontakt vestluspartneritega. \nOsalemiseks on vaja end kirja panna\, mida saab teha juurde lisatud lingi kaudu. \nVeebitöötoa korraldaja on Eesti Töötukassa ja lisainfot leiab minukarjäär.ee veebilehe sündmuste kalendrist.
URL:https://www.teeviit.ee/sundmus/eesti-tootukassa-veebitootuba-kuidas-ennast-mojuvalt-tutvustada/
LOCATION:Microsoft Teams
CATEGORIES:Veebitöötuba
END:VEVENT
BEGIN:VEVENT
DTSTART;TZID=Europe/Tallinn:20250807T100000
DTEND;TZID=Europe/Tallinn:20250807T113000
DTSTAMP:20260420T000621
CREATED:20250604T062015Z
LAST-MODIFIED:20250604T062836Z
UID:54501-1754560800-1754566200@www.teeviit.ee
SUMMARY:Eesti Töötukassa veebitöötuba "Töövestluseks valmistumine"
DESCRIPTION:Veebitöötoas “Töövestluseks valmistumine” saab teada\, kuidas teadlikult kandideerimisvestluseks valmistuda ja end tööandjale läbimõeldumalt esitleda. \nOsalemiseks on vaja end kirja panna\, mida saab teha juurde lisatud lingi kaudu. \nVeebitöötoa korraldaja on Eesti Töötukassa ja lisainfot leiab minukarjäär.ee veebilehe sündmuste kalendrist.
URL:https://www.teeviit.ee/sundmus/eesti-tootukassa-veebitootuba-toovestluseks-valmistumine-3/
LOCATION:Microsoft Teams
CATEGORIES:Veebitöötuba
END:VEVENT
BEGIN:VEVENT
DTSTART;VALUE=DATE:20250812
DTEND;VALUE=DATE:20250813
DTSTAMP:20260420T000621
CREATED:20250604T071134Z
LAST-MODIFIED:20250604T071159Z
UID:54537-1754956800-1755043199@www.teeviit.ee
SUMMARY:Rahvusvaheline noortepäev
DESCRIPTION:2025. aasta rahvusvahelise noortepäeva fookuses on noorte olulisus ja panus jätkusuutlikuma elukeskkonna loomisel (inglise keeles “Youth Empowerment for a Sustainable Future”). \nÜhinenud Rahvaste Organisatsioon ehk ÜRO (inglise keeles United Nations) kuulutas 12. augusti Rahvusvaheliseks noortepäevaks välja 1999. aastal. Alates sellest ajast on igal suvel üle kogu maailma noortepäeva tähistatud\, et juhtida tähelepanu erinevatele noortega seotud kitsaskohtadele ning probleemidele aga ka tõsta noorte olulisus\, väärtus\, ideed\, mõtted\, algatused esile. Igal aastal on noortepäeval erinev teemafookus ja selle raames toimuvad noortele ning koos noortega arutelud\, ideekorjed\, kontserdid ja mitmed teised sündmused.
URL:https://www.teeviit.ee/sundmus/rahvsuvaheline-noortepaev/
CATEGORIES:Sündmus
END:VEVENT
BEGIN:VEVENT
DTSTART;TZID=Europe/Tallinn:20250812T180000
DTEND;TZID=Europe/Tallinn:20250812T193000
DTSTAMP:20260420T000621
CREATED:20250718T050215Z
LAST-MODIFIED:20250718T050215Z
UID:55748-1755021600-1755027000@www.teeviit.ee
SUMMARY:Noortepäeva kiirkohting ONLINE
DESCRIPTION:Laienda oma tutvusringi: kasuta võimalust saada kokku mitmete noortega\, arutada oma huvide & soovide üle ning leida mõttekaaslasi. \nAvasta oma võimalusi: jaga oma kogemusi noorteprojektidest\, õpirännetest ja huvitavatest sündmustest ning kuula\, mida ägedat teised on teinud. \nPraktiseeri eesti keelt: kui ei räägi eesti keelt emakeelena\, siis julgustame ikka osalema ja suhtluskeelt praktiseerima. Kutsume kõiki üles olema teadlikud oma keelekasutuse üle.  \nSündmus on suunatud noortele vanuses 13–26. Osalema on oodatud nii mitmekesise kogemusega noored kui need\, kes alles soovivad tutvuda noorsootöö võimalustega.  
URL:https://www.teeviit.ee/sundmus/noortepaeva-kiirkohting-online/
LOCATION:Veebis
CATEGORIES:veebikohtumine
END:VEVENT
BEGIN:VEVENT
DTSTART;TZID=Europe/Tallinn:20250818T110000
DTEND;TZID=Europe/Tallinn:20250818T120000
DTSTAMP:20260420T000621
CREATED:20250604T062338Z
LAST-MODIFIED:20250604T062338Z
UID:54505-1755514800-1755518400@www.teeviit.ee
SUMMARY:Eesti Töötukassa veebiloeng "Teadlikumalt tööturule"
DESCRIPTION:Veebiloengus “Teadlikumalt tööturule” saab tervikliku ülevaate tööturust\, tööotsingute erinevatest etappidest\, kandideerimiseks vajalikest dokumentidest ja töövestlusel osalemisest. \nVeebiloengu korraldaja on Eesti Töötukassa ja lisainfot leiab minukarjäär.ee veebilehe sündmuste kalendrist.
URL:https://www.teeviit.ee/sundmus/eesti-tootukassa-veebiloeng-teadlikumalt-tooturule-2/
LOCATION:Microsoft Teams
CATEGORIES:Veebiloeng
END:VEVENT
BEGIN:VEVENT
DTSTART;TZID=Europe/Tallinn:20250826T110000
DTEND;TZID=Europe/Tallinn:20250826T120000
DTSTAMP:20260420T000621
CREATED:20250604T062446Z
LAST-MODIFIED:20250604T062446Z
UID:54507-1756206000-1756209600@www.teeviit.ee
SUMMARY:Eesti Töötukassa veebiloeng "Kuidas tööotsingutes edukas olla?"
DESCRIPTION:Veebiloengus “Kuidas tööotsingutes edukas olla?” antakse ülevaate erinevatest tööotsinguvõimalustest ja -keskkondadest. \nVeebiloengu korraldaja on Eesti Töötukassa ja lisainfot leiab minukarjäär.ee veebilehe sündmuste kalendrist.
URL:https://www.teeviit.ee/sundmus/eesti-tootukassa-veebiloeng-kuidas-toootsingutes-edukas-olla-2/
LOCATION:Microsoft Teams
CATEGORIES:Veebiloeng
END:VEVENT
BEGIN:VEVENT
DTSTART;TZID=Europe/Tallinn:20250827T100000
DTEND;TZID=Europe/Tallinn:20250827T153000
DTSTAMP:20260420T000621
CREATED:20250604T062721Z
LAST-MODIFIED:20250604T062721Z
UID:54509-1756288800-1756308600@www.teeviit.ee
SUMMARY:Eesti Töötukassa Karjääriõppe konverents 2025
DESCRIPTION:Karjääriõpe seisab muutuste lävel. Töömaailm uueneb kiiresti\, noorte ootused on muutumas ja tehnoloogia – eriti tehisaru (AI) – toob kaasa täiesti uued võimalused\, aga ka küsimused. \nKarjääriõppe konverents 2025 toob ühele lavale hariduse ja tööelu eestvedajad\, et koos uurida: \n\nKuidas saab AI toetada karjääriõpet ja noorte teadlikke valikuid?\nMillised on konkreetsed tööriistad ja parimad praktikad\, mida juba täna koolis rakendada?\nKuidas hoida fookust õpilase arengul\, kui maailm tema ümber muutub kiiremini kui kunagi varem?\n\nKonverentsil saad: \n\nPraktilisi ideid AI rakendamiseks õppetöös\nÜlevaate tööturu suundumustest ja noorte ootustest\nInspiratsiooni tööandjate ja koolide koostööst\nning vähemalt 3 mõtet või võtet\, mida saad kohe oma töös kasutada!\n\nOsalemiseks on end vaja eelnevalt registreerida siin.
URL:https://www.teeviit.ee/sundmus/eesti-tootukassa-karjaarioppe-konverents-2025/
LOCATION:Veebis ja Lõuna-Eeesti Karjäärikeskuses (Tartu)
CATEGORIES:Konverents
END:VEVENT
END:VCALENDAR