BEGIN:VCALENDAR
VERSION:2.0
PRODID:-//Teeviit - ECPv6.15.4//NONSGML v1.0//EN
CALSCALE:GREGORIAN
METHOD:PUBLISH
X-ORIGINAL-URL:https://www.teeviit.ee
X-WR-CALDESC:Events for Teeviit
REFRESH-INTERVAL;VALUE=DURATION:PT1H
X-Robots-Tag:noindex
X-PUBLISHED-TTL:PT1H
BEGIN:VTIMEZONE
TZID:Europe/Tallinn
BEGIN:DAYLIGHT
TZOFFSETFROM:+0200
TZOFFSETTO:+0300
TZNAME:EEST
DTSTART:20250330T010000
END:DAYLIGHT
BEGIN:STANDARD
TZOFFSETFROM:+0300
TZOFFSETTO:+0200
TZNAME:EET
DTSTART:20251026T010000
END:STANDARD
END:VTIMEZONE
BEGIN:VEVENT
DTSTART;VALUE=DATE:20250603
DTEND;VALUE=DATE:20250604
DTSTAMP:20260422T154154
CREATED:20250507T053236Z
LAST-MODIFIED:20250507T053236Z
UID:50038-1748908800-1748995199@www.teeviit.ee
SUMMARY:Kandideeri juhtimisprogrammi "Juhtimine ühiskonnas 5.0"
DESCRIPTION:Kui oled 18.-30. aastane Aasia või Euroopa noor\, siis liitu ja osale juhtimisprogrammis\, et õppida\, arutleda ja tegutseda teemal “Juhtimine ühiskonnas 5.0”. Programm kulmineerub noorte tippkohtumisega Osakas\, Jaapanis! \nSinu võimalus on: \n📘 Õppida!\n👉Süvene teemasse „Juhtimine ja Ühiskond 5.0“ ning kuula oma ala parimate ekspertide ja tippkõnelejate mõtteid. \n🤝 Laienda oma võrgustikku!\n👉Kohtu mõttekaaslastega üle kogu Aasia ja Euroopa ning loo kontakte tulevaste koostööde tarbeks. \n🗾 Avasta Jaapanit!\n👉Saa osa kohalikust vaatenurgast tehnoloogia rollile ühiskonnas. \n💬 Panusta!\n👉Tööta koos teiste noortega\, et pakkuda välja parimaid tehnoloogiapõhiseid lahendusi ühiskondlikele probleemidele. \n  \n📅 Millal ja kus? \n– 29. juuli – 26. august 2025 teadmiste kogumise faas (virtuaalne) \n– 27. august – 28. september 2025 Juhtimispraktika faas \n– 29. september – 5. oktoober 2025 Noortetippkohtumine Osakas\, Jaapanis \nRohkem infot ja kandideerimine: How can YOUth be the change for Society 5.0? Open Call for Participants for the 6th ASEF Young Leaders Summit (ASEFYLS6) – Asia-Europe Foundation (ASEF)
URL:https://www.teeviit.ee/sundmus/kandideeri-juhtimisprogrammi-juhtimine-uhiskonnas-5-0/
LOCATION:Veebis
CATEGORIES:Koolitus,Konkurss
ATTACH;FMTTYPE=image/png:https://www.teeviit.ee/wp-content/uploads/2025/05/241015_asefyls6_logo-scaled.png
END:VEVENT
BEGIN:VEVENT
DTSTART;VALUE=DATE:20250604
DTEND;VALUE=DATE:20250605
DTSTAMP:20260422T154154
CREATED:20250523T074706Z
LAST-MODIFIED:20250523T074706Z
UID:51657-1748995200-1749081599@www.teeviit.ee
SUMMARY:IDEEPUHUR: noorte omaalgatusprojektide konkurss 2025
DESCRIPTION:Ideepuhur on mõeldud 7–26-aastastele noortele\, kes soovivad lahendada ühiskondlikke ja sotsiaalseid kitsaskohti. Konkursi kaudu saab taotleda kuni 2000-eurost toetust\, et oma idee ellu viia. \nTänavused fookusteemad: \n\nnoorte vaimne ja/või seksuaaltervis;\nloodus- ja tehnoloogiavaldkondade teadmiste ning oskuste arendamine;\nkultuuridevaheline lõimumine (eestikeelsele õppele ülemineku toetamine);\nrohepöörde ja keskkonnahoiu võimalused kohalikul tasandil;\nnoorte finantskirjaoskuse arendamine.\n\nProjektide esitamise tähtaeg on 4. juuni 2025 kell 23:59 \nLISAINFO: www.teeviit.ee/ideepuhur/  \nIdeepuhurit viib ellu Eesti Avatud Noortekeskuste Ühendus ja rahastab Haridus- ja Teadusministeerium.
URL:https://www.teeviit.ee/sundmus/ideepuhur-noorte-omaalgatusprojektide-konkurss-2025/
LOCATION:Veebis
CATEGORIES:Konkurss
ATTACH;FMTTYPE=image/png:https://www.teeviit.ee/wp-content/uploads/2025/05/nimetu-kujundus-1.png
END:VEVENT
BEGIN:VEVENT
DTSTART;TZID=Europe/Tallinn:20250610T100000
DTEND;TZID=Europe/Tallinn:20250610T110000
DTSTAMP:20260422T154154
CREATED:20250604T054159Z
LAST-MODIFIED:20250604T054159Z
UID:54468-1749549600-1749553200@www.teeviit.ee
SUMMARY:Eesti Töötukassa veebiloeng "Teadlikumalt tööturule"
DESCRIPTION:Veebiloengus “Teadlikumalt tööturule” saab tervikliku ülevaate tööturust\, tööotsingute erinevatest etappidest\, kandideerimiseks vajalikest dokumentidest ja töövestlusel osalemisest. \nVeebiloengu korraldaja on Eesti Töötukassa ja lisainfot leiab minukarjäär.ee veebilehe sündmuste kalendrist.
URL:https://www.teeviit.ee/sundmus/eesti-tootukassa-veebiloeng-teadlikumalt-tooturule/
LOCATION:Microsoft Teams
CATEGORIES:Veebiloeng
END:VEVENT
BEGIN:VEVENT
DTSTART;TZID=Europe/Tallinn:20250611T100000
DTEND;TZID=Europe/Tallinn:20250611T113000
DTSTAMP:20260422T154154
CREATED:20250604T054937Z
LAST-MODIFIED:20250604T054937Z
UID:54471-1749636000-1749641400@www.teeviit.ee
SUMMARY:Eesti Töötukassa vestlusring "Tööturg ja AI - kuidas kohaneda\, konkurentsis püsida ja tulevikuks valmistuda?"
DESCRIPTION:Eesti Töötukassa kutsub kuulama vestlusringi\, mille fookuses on AI- kasutamine ja rakendamine tööturul. \nVestlusring toimub veebis ja selle sisu ning esinejate kohta leiab rohkem infot siit.
URL:https://www.teeviit.ee/sundmus/eesti-tootukassa-vestlusring-tooturg-ja-ai-kuidas-kohaneda-konkurentsis-pusida-ja-tulevikuks-valmistuda/
LOCATION:Veebis
CATEGORIES:Veebiloeng
END:VEVENT
BEGIN:VEVENT
DTSTART;TZID=Europe/Tallinn:20250611T120000
DTEND;TZID=Europe/Tallinn:20250611T130000
DTSTAMP:20260422T154154
CREATED:20250604T055302Z
LAST-MODIFIED:20250604T055302Z
UID:54472-1749643200-1749646800@www.teeviit.ee
SUMMARY:Eesti Töötukassa veebitöötuba "Tööle Euroopasse. Millest alustada?"
DESCRIPTION:Veebitöötoas “Tööle Euroopasse. Millest alustada?” saab infot välismaal töötamise võimaluste kohta (EURES võrgustik\, tööpakkumiste leidmine\, inglisekeelse CV koostamine jne). \nOsalemiseks tuleb end registreerida ja anda enda soovist teada e-kirja teel: Marko.Dobrosman@tootukassa.ee. \nVeebitöötoa korraldaja on Eesti Töötukassa ja lisainfot leiab minukarjäär.ee veebilehe sündmuste kalendrist.
URL:https://www.teeviit.ee/sundmus/eesti-tootukassa-veebitootuba-toole-euroopasse-millest-alustada/
LOCATION:Veebis
CATEGORIES:Veebitöötuba
END:VEVENT
BEGIN:VEVENT
DTSTART;TZID=Europe/Tallinn:20250612T110000
DTEND;TZID=Europe/Tallinn:20250612T120000
DTSTAMP:20260422T154154
CREATED:20250604T055456Z
LAST-MODIFIED:20250604T055456Z
UID:54475-1749726000-1749729600@www.teeviit.ee
SUMMARY:Eesti Töötukassa veebiloeng "Karjäärikujundamise ABC"
DESCRIPTION:Veebiloengus “Karjäärikujundamise ABC” saab teada\, miks on karjäärikujundamine oluline\, kuidas oma karjääri planeerida ja teha läbimõeldud valikuid. \nVeebiloengu korraldaja on Eesti Töötukassa ja lisainfot leiab minukarjäär.ee veebilehe sündmuste kalendrist.
URL:https://www.teeviit.ee/sundmus/eesti-tootukassa-veebiloeng-karjaarikujundamise-abc/
LOCATION:Microsoft Teams
CATEGORIES:Veebiloeng
END:VEVENT
BEGIN:VEVENT
DTSTART;VALUE=DATE:20250614
DTEND;VALUE=DATE:20250615
DTSTAMP:20260422T154154
CREATED:20250507T071106Z
LAST-MODIFIED:20250507T071106Z
UID:50043-1749859200-1749945599@www.teeviit.ee
SUMMARY:Eesti Panga ja Finantsinspektsiooni loovtööde konkurss
DESCRIPTION:Finantsinspektsioon ja Eesti Pank ootavad 5.–7. klassi õpilasi osalema loovtööde konkursil. Loovtöö eesmärk on leida enda ümbert\, internetist\, tänavatelt ja mujalt märke finantspettustest või hinnatõusust. \nTööde sisu ja esitamise tingimused \nKonkursile saab esitada loovtöid\, millega käsitletakse üht kahest teemast: \n\nKuidas märgata finantspettust?\nMiks hinnad tõusevad?\n\nTöö võib olla näiteks plakat\, video\, loovjutt\, viktoriin vms. Lubatud on nii rühmatööd kui ka ühe õpilase projektid. Ühe klassi õpilaste tehtud tööd tuleb esitada korraga. \nHinnatõusu kohta saab lisainfot Eesti Panga inflatsiooniteadetest. \nPettuste kohta saab lisainfot Finantsinspektsiooni tarbijaveebist\, Pettuseinfo kodulehelt ja Eesti Väitlusseltsi korraldatud sotsiaalmeediakampaaniast. \nTööde tähtaeg \nKõik tööd tuleb elektrooniliselt üles laadida hiljemalt 14. juunil 2025 selleks loodud ühiskausta nimega “Õpilaskonkurss“. Esitatud tööde failid tuleb vormistada järgmiselt: esitaja_nimi_kool_klass. Kui olete oma töö üles laadinud\, siis palun saatke oma kontaktandmed (ees- ja perekonnanimi\, mobiiltelefon\, e-posti aadress) aadressile muuseum@eestipank.ee. \nHindamine \nTöid hindab žürii\, kuhu kuuluvad Eesti Panga muuseumi töötajad ja Finantsinspektsiooni avalike suhete osakonna töötajad. Hindamise aluseks on järgmised kriteeriumid: \n\nÕpetlikkus\nKas töö aitab teemat mõista ja annab uusi teadmisi finantsmaailmast?\nLoovus\nKas töö on originaalne ja huvitav?\nSelgus ja arusaadavus\nKas töö on selgelt esitatud ja kergesti mõistetav?\n\nTulemustest teavitamine \nKonkursi tulemustest antakse teada Finantsinspektsiooni tarbijaveebis ja Eesti Panga muuseumi kodulehel 30. juunil. Võitjatega võetakse ka otse ühendust. \nAuhind \nEesti Pank ja Finantsinspektsioon kutsuvad kahe parima töö autorid ja kogu nende klassi 25. septembril endale külla. Ees ootavad pidulik snäkilaud\, ekskursioon keskpanga muuseumis\, väitluse töötuba ja võimalus jälgida Eesti parimaid noori väitlemas finantsteenuste ja majanduse teemadel. \nKonkursitööde levitamine sotsiaalmeedias \nTööde esitamisega annavad osalejad õiguse levitada oma loovtöid Eesti Panga ja Finantsinspektsiooni sotsiaalmeediakanalites.
URL:https://www.teeviit.ee/sundmus/eesti-panga-ja-finantsinspektsiooni-loovtoode-konkurss/
LOCATION:Veebis
CATEGORIES:Konkurss
ATTACH;FMTTYPE=image/png:https://www.teeviit.ee/wp-content/uploads/2025/05/fb_loovtoo_1920.png
END:VEVENT
BEGIN:VEVENT
DTSTART;VALUE=DATE:20250615
DTEND;VALUE=DATE:20250616
DTSTAMP:20260422T154154
CREATED:20250507T052904Z
LAST-MODIFIED:20250507T052914Z
UID:50032-1749945600-1750031999@www.teeviit.ee
SUMMARY:PLURAL+2025: aeg rääkida oma lugu
DESCRIPTION:🎥  ÜRO noorte videofestival kutsub kuni 25-aastaseid noori kogu maailmast saatma lühivideoid\, mis puudutavad olulisi ühiskondlikke teemasid: \n🔹 ränne\n🔹 sotsiaalne kaasatus\n🔹 ksenofoobia ja diskrimineerimise vastu võitlemine\n🔹 vastutustundlik ja faktiline rändeteemaline jutustamine \nJulgustame loovat jutustamist – olgu see mängufilm\, animatsioon\, dokumentaal või muu vorm – et murda stereotüüpe\, edendada dialoogi ja toetada kaasavat ühiskonda. \nTööde esitamise tähtaeg on 15.juuni 2025 kell 17.00 (New Yorgi aeg). \nLisainfo ja kandideerimine: Young Voices Sought: PLURAL+ Festival Seeks Impactful Stories That Foster Dialogue\, Awareness\, and Understanding | PLURAL+ Youth Video Festival
URL:https://www.teeviit.ee/sundmus/plural-2025-aeg-raakida-oma-lugu/
LOCATION:Veebis
CATEGORIES:Konkurss
ATTACH;FMTTYPE=image/png:https://www.teeviit.ee/wp-content/uploads/2025/05/plural_call2025_landscape_resized-1024x576-1.png
END:VEVENT
BEGIN:VEVENT
DTSTART;VALUE=DATE:20250615
DTEND;VALUE=DATE:20250616
DTSTAMP:20260422T154154
CREATED:20250528T065159Z
LAST-MODIFIED:20250528T065720Z
UID:52885-1749945600-1750031999@www.teeviit.ee
SUMMARY:Vasta "NOOR VALIJA" küsitlusele
DESCRIPTION:Eesti Noorteühenduste Liit kutsub noori vastama küsitlusele\, mille eesmärk on koguda noorte mõtteid ja kogemusi erinevate valdkondade kohta. Küsitluse tulemusi kasutatakse noorte hääle esindamiseks otsustajatega kohtumiseks. Räägi kaasa! Millist muutust vajab Sinu kodukoht? \nKokku on kaheksa küsimustikku\, mille teemad on haridus\, noorsootöö\, elukeskkond ja planeerimine\, kultuur ja sport\, sotsiaalhoolekanne\, rahvatervis ja turvalisus\, ühistransport\, kommunaalteenused. Iga küsimustiku täitmine võtab aega 3-4 minutit. \nKõikidele küsimustikele (kokku 8) vastajate vahel läheb loosi kinkekaarte ja peaauhind\, mis on reis Euroopasse koos ENL meeskonnaga. \nTäpsem info loosimisel osalemise kohta ja küsimustikud on veebilehel: enl.ee/oleviku-otsustajad/noor-valija/ \n 
URL:https://www.teeviit.ee/sundmus/vasta-noor-valija-kusitlusele/
LOCATION:Veebis
CATEGORIES:küsitlus
ATTACH;FMTTYPE=image/jpeg:https://www.teeviit.ee/wp-content/uploads/2025/05/498242634_1123256093168495_7588590496893992959_n.jpg
END:VEVENT
BEGIN:VEVENT
DTSTART;TZID=Europe/Tallinn:20250617T110000
DTEND;TZID=Europe/Tallinn:20250617T120000
DTSTAMP:20260422T154154
CREATED:20250604T055644Z
LAST-MODIFIED:20250604T055644Z
UID:54477-1750158000-1750161600@www.teeviit.ee
SUMMARY:Eesti Töötukassa veebiloeng "Kuidas leida sobivaid õppimisvõimalusi"
DESCRIPTION:Veebiloengus “Kuidas leida sobivaid õppimisvõimalusi” jagatakse infot\, millised oskused on tööturul hinnas ja kuidas otsida haridusinfot. \nVeebiloengu korraldaja on Eesti Töötukassa ja lisainfot leiab minukarjäär.ee veebilehe sündmuste kalendrist.
URL:https://www.teeviit.ee/sundmus/eesti-tootukassa-veebiloeng-kuidas-leida-sobivaid-oppimisvoimalusi/
LOCATION:Microsoft Teams
CATEGORIES:Veebiloeng
END:VEVENT
BEGIN:VEVENT
DTSTART;TZID=Europe/Tallinn:20250619T093000
DTEND;TZID=Europe/Tallinn:20250619T110000
DTSTAMP:20260422T154154
CREATED:20250604T055833Z
LAST-MODIFIED:20250604T055833Z
UID:54479-1750325400-1750330800@www.teeviit.ee
SUMMARY:Eesti Töötukassa veebiloeng "Ettevõtlusega alustamine
DESCRIPTION:Veebiloengus “Ettevõtlusega alustamine. Töötukassa ettevõtlusetoetuse taotlemise tingimused” jagatakse infot\, mis on vajalik ja kasulik teada ettevõtlusega alustamisel ja ülevaate töötukassa ettevõtluse alustamise toetuse kohta. \nVeebiloengu korraldaja on Eesti Töötukassa ja lisainfot leiab minukarjäär.ee veebilehe sündmuste kalendrist.
URL:https://www.teeviit.ee/sundmus/eesti-tootukassa-veebiloeng-ettevotlusega-alustamine/
LOCATION:Microsoft Teams
CATEGORIES:Veebiloeng
END:VEVENT
BEGIN:VEVENT
DTSTART;TZID=Europe/Tallinn:20250619T110000
DTEND;TZID=Europe/Tallinn:20250619T120000
DTSTAMP:20260422T154154
CREATED:20250604T060338Z
LAST-MODIFIED:20250604T060338Z
UID:54483-1750330800-1750334400@www.teeviit.ee
SUMMARY:Eesti Töötukassa veebiloeng "Kandideerimisdokumentide ABC"
DESCRIPTION:Veebiloengus “Kandideerimisdokumentide ABC” tutvustatakse CV\, motivatsioonikirja ja kaaskirja koostamise põhimõtteid. \nVeebiloengu korraldaja on Eesti Töötukassa ja lisainfot leiab minukarjäär.ee veebilehe sündmuste kalendrist.
URL:https://www.teeviit.ee/sundmus/eesti-tootukassa-veebiloeng-kandideerimisdokumentide-abc-2/
LOCATION:Microsoft Teams
CATEGORIES:Veebiloeng
END:VEVENT
BEGIN:VEVENT
DTSTART;TZID=Europe/Tallinn:20250619T110000
DTEND;TZID=Europe/Tallinn:20250619T130000
DTSTAMP:20260422T154154
CREATED:20250604T060148Z
LAST-MODIFIED:20250604T060552Z
UID:54481-1750330800-1750338000@www.teeviit.ee
SUMMARY:Eesti Töötukassa töötuba "Tööle Euroopasse. Võimalused ja väljakutsed"
DESCRIPTION:Eesti Töötukassa töötuba “Tööle Euroopasse. Võimalused ja väljakutsed” toimub Tallinna Karjäärikeskus (Tartu mnt 80\, Tallinn). \nTasuta töötuppa on oodatud kõik\, kes kaaluvad võimalust asuda tööle mujal Euroopas ja soovivad läbi mõelda oma võimalused ja väljakutsed. \nArutletakse järgmistel teemadel: \n\nMiks minna välismaale tööle;\nMillised on erinevad töötamise võimalused;\nMillele tähelepanu pöörata enne otsuse tegemist;\nMis on EURES ja kuidas EURES saab toeks olla Euroopasse elama ning tööle minemisel.\nEURES liikuvuskava-TMS-toetused tööotsijale.\n\nRegistreerumiseks anna enda soovist teada e-kirja teel: Marko.Dobrosman@tootukassa.ee.
URL:https://www.teeviit.ee/sundmus/eesti-tootukassa-tootuba-toole-euroopasse-voimalused-ja-valjakutsed/
LOCATION:Tartu mnt 80\, Tallinn
CATEGORIES:Töötuba
END:VEVENT
BEGIN:VEVENT
DTSTART;VALUE=DATE:20250624
DTEND;VALUE=DATE:20250625
DTSTAMP:20260422T154154
CREATED:20250528T065703Z
LAST-MODIFIED:20250528T065703Z
UID:52891-1750723200-1750809599@www.teeviit.ee
SUMMARY:Euroopa Noortedialoogi küsitlus
DESCRIPTION:Eesti Noorteühenduste Liit kutsub 13-30aastaseid noori vastama Euroopa Noortedialoogi küsitlusele\, mis on järjekorras 11. konsultatsioon Eesti noorte seas. Küsimustiku tulemusi kasutatakse Euroopa Liidu tasandil noortega seotud teemade arendamiseks ja kujundamiseks.  \nKüsimustik on anonüümne. Küsimused käsitlevad noorte suhet Euroopa Liiduga – kuidas sa tunned end Euroopasse kuuluvana\, millised on sinu võimalused kaasa rääkida\, mis motiveerib või takistab sind osalemast ning millised ettepanekud sul on Euroopa Liidu ja noorte lähendamiseks. \nKüsimustiku täitjate vahel loositakse välja auhindu\, milleks on kinkekaardid ja noortevahetusel osalemine Saksamaal. \nKüsimustiku täitmine võtab aega ca 15 minutit ja see on avatud kuni 24.06.2025. \nEestikeelne ankeet: https://forms.gle/URuTiMn7GhQhUDkN6 Venekeelne ankeet: https://forms.gle/mdPbLW3RgKZN9XEu8 Ingliskeelne ankeet: https://forms.gle/sPwMW3ZzvPeRVGQG7
URL:https://www.teeviit.ee/sundmus/euroopa-noortedialoogi-kusitlus/
LOCATION:Veebis
CATEGORIES:küsitlus
ATTACH;FMTTYPE=image/jpeg:https://www.teeviit.ee/wp-content/uploads/2025/05/499566328_18402865006111452_8853393865401010841_n.jpg
END:VEVENT
BEGIN:VEVENT
DTSTART;TZID=Europe/Tallinn:20250626T110000
DTEND;TZID=Europe/Tallinn:20250626T120000
DTSTAMP:20260422T154154
CREATED:20250604T060521Z
LAST-MODIFIED:20250604T060521Z
UID:54485-1750935600-1750939200@www.teeviit.ee
SUMMARY:Eesti Töötukassa veebiloeng "Kuidas tööotsingutes edukas olla?"
DESCRIPTION:Veebiloengus “Kuidas tööotsingutes edukas olla?” antakse ülevaate erinevatest tööotsinguvõimalustest ja -keskkondadest. \nVeebiloengu korraldaja on Eesti Töötukassa ja lisainfot leiab minukarjäär.ee veebilehe sündmuste kalendrist.
URL:https://www.teeviit.ee/sundmus/eesti-tootukassa-veebiloeng-kuidas-toootsingutes-edukas-olla/
LOCATION:Microsoft Teams
CATEGORIES:Veebiloeng
END:VEVENT
END:VCALENDAR