BEGIN:VCALENDAR
VERSION:2.0
PRODID:-//Teeviit - ECPv6.15.4//NONSGML v1.0//EN
CALSCALE:GREGORIAN
METHOD:PUBLISH
X-ORIGINAL-URL:https://www.teeviit.ee
X-WR-CALDESC:Events for Teeviit
REFRESH-INTERVAL;VALUE=DURATION:PT1H
X-Robots-Tag:noindex
X-PUBLISHED-TTL:PT1H
BEGIN:VTIMEZONE
TZID:Europe/Tallinn
BEGIN:DAYLIGHT
TZOFFSETFROM:+0200
TZOFFSETTO:+0300
TZNAME:EEST
DTSTART:20250330T010000
END:DAYLIGHT
BEGIN:STANDARD
TZOFFSETFROM:+0300
TZOFFSETTO:+0200
TZNAME:EET
DTSTART:20251026T010000
END:STANDARD
END:VTIMEZONE
BEGIN:VEVENT
DTSTART;VALUE=DATE:20250301
DTEND;VALUE=DATE:20250302
DTSTAMP:20260422T210053
CREATED:20250127T104945Z
LAST-MODIFIED:20250604T072807Z
UID:45531-1740787200-1740873599@www.teeviit.ee
SUMMARY:Noorte Mõttehäkk ootab osalejaid!
DESCRIPTION:Kuue maakonna ühise koostööprojekti „Lõuna-Eesti ettevõtlikud noored“ raames toimub 19. märtsil 2025 Põlva Kultuuri- ja Huvikeskuses esmakordselt noortele suunatud sotsiaalne häkaton Noorte MõtteHäkk. \nNoorte MõtteHäki eesmärk on suunata noori lahendama kohalikke või laiemaid ühiskondlikke väljakutseid pädevate mentorite toel inspireerivas koosloomelises keskkonnas. \nEsmakordselt kogu Lõuna-Eestit kaasav üritus pakub noortele vanuses 13-21 aastat suurepärast võimalust töötada välja oma sotsiaalsed algatused ja arendada oma leidlikkust\, ettevõtlikkust\, koostöövõimekust ning sotsiaalset vastutustunnet. \nKutsume Jõgeva-\, Viljandi-\, Põlva-\, Tartu-\, Valga- ja Võrumaa noori osa võtma sotsiaalsest häkatonist. \nOsaleda saavad kõik noored\, kes esitavad oma meeskonna või üksiku osaleja idee hiljemalt 1. märtsiks 2025. Iga maakonna jaoks on planeeritud 15 osalejat\, sh kuni 3 meeskonda\, mille suurus on 3–5 liiget. Oodatud on ka noored üksi. Ideede registreerimise vormi ja täiendava info saadame noortele lähinädalate jooksul. \nHäkaton toimub ühepäevasena\, kus noored saavad koos mentorite abiga fookuse paika panna ja soovitused\, kuidas oma ideed ellu viia. Üritusele kaasatakse mentorid\, kes omavad kogemusi just sotsiaalsete algatuste ja kaasamise valdkonnas. See on suurepärane võimalus noortele arendada oma ideed praktilises ja toetavas keskkonnas\, saada väärtuslikku tagasisidet ning suuniseid oma sotsiaalse mõju suurendamiseks. \nNoored saavad osaleda ja kasutada võimalust oma ideid ellu viia. \nMaakondlikud arenduskeskused korraldavad noortele tasuta transpordi Põlvasse ja tagasi. Sündmus on osalejatele tasuta ning boonuseks on soe lõunasöök. \nLoodame\, et teie noored leiavad selle sündmuse inspireerivaks ja kasulikuks! \n  \nIdee registreerimine ja lisainfo: https://arenduskeskus.polvamaa.ee/haridus/sotsiaalne-hakaton/ \nKontaktid maakondades:\nJõgevamaa Arendus- ja Ettevõtluskeskus – Evelyn Sepp\, 5301 4868\, evelyn.sepp@jaek.ee;\nPõlvamaa Arenduskeskus – Kristel Koddala\, 5341 6112\, kristel.koddala@polvamaa.ee;\nTartu Ärinõuandla – Janeli Virnas\, 5348 4685\, janeli.virnas@arinouandla.ee;\nValgamaa Arenguagentuur – Rasmus Onkel\, 5626 4816\, rasmus.onkel@valgamaa.ee;\nViljandimaa Arenduskeskus – Einar Ilves\, 5616 6969\, einar.ilves@viljandimaa.ee\nVõrumaa Arenduskeskus – Kadi Kaur\, 521 7705\, kadi.kaur@vorumaa.ee \n  \nSündmus toimub Koostööprojekti “Lõuna-Eesti ettevõtlikud noored (LEEN)” raames. Rohkem infot projekti kohta: https://ettevotlikudnoored.ee/projektist/ 
URL:https://www.teeviit.ee/sundmus/noorte-mottehakk-ootab-osalejaid/
LOCATION:Põlva Kultuuri- ja Huvikeskus\, Kesk tn 15\, Põlva\, Põlva maakond\, 63308\, Estonia
CATEGORIES:Muu
ATTACH;FMTTYPE=image/jpeg:https://www.teeviit.ee/wp-content/uploads/2025/01/474536145_1011024444386927_814456431976963540_n.jpg
END:VEVENT
BEGIN:VEVENT
DTSTART;TZID=Europe/Tallinn:20250303T100000
DTEND;TZID=Europe/Tallinn:20250303T150000
DTSTAMP:20260422T210053
CREATED:20250128T140913Z
LAST-MODIFIED:20250128T140913Z
UID:45682-1740996000-1741014000@www.teeviit.ee
SUMMARY:Tallinna Tehnikakõrgkooli Avatud uksed ja võimalused - Inseneeria karjääripäev 2025
DESCRIPTION:See on üritus\, mis toob kokku ühe katuse alla gümnaasiumi ja kutsekooli õpilased\, kes on huvitatud tulevikus inseneeriaõppest\, tudengid\, kes otsivad praktikakohti ning ettevõtete esindajad\, kes tutvustavad oma valdkonda\, ettevõtte võimalusi ning pakuvad üliõpilastele praktikakohti.Kellele on üritus suunatud?Mess on suunatud üliõpilastele\, gümnasistidele\, ning kutsekooli õpilastele. Oodatud on ka õpetajad\, õppejõud ja muud huvilised. Eelseminarid on suunatud vaid tudengitele.Millal ja kus see toimub?Karjäärimess toimub 3. märtsil 2025 kell 10.00-15.00 Tallinna Tehnikakõrgkoolis aadressil Pärnu maantee 62. Eelseminarid toimuvad 17. veebruarist kuni 28. veebruarini Tallinna Tehnikakõrgkoolis.Kust on võimalik saada lisainfot?https://www.inseneeriakarjaaripaev.ee\nkarjaaripaev@tktk.ee \n\n\n\n\n\nINSENEERIA KARJÄÄRIPÄEV 2025
URL:https://www.teeviit.ee/sundmus/tallinna-tehnikakorgkooli-avatud-uksed-ja-voimalused-inseneeria-karjaaripaev-2025/
LOCATION:Tallinna Tehnikakõrgkool\, Pärnu maantee 62\, Talllinn\, Eesti
CATEGORIES:Avatud uste päev
ATTACH;FMTTYPE=image/jpeg:https://www.teeviit.ee/wp-content/uploads/2025/01/tktk-25.jpg
END:VEVENT
BEGIN:VEVENT
DTSTART;VALUE=DATE:20250304
DTEND;VALUE=DATE:20250315
DTSTAMP:20260422T210053
CREATED:20250225T095757Z
LAST-MODIFIED:20250225T095757Z
UID:47135-1741046400-1741996799@www.teeviit.ee
SUMMARY:Võti Tulevikku 2025
DESCRIPTION:Tallinna Tehnikaülikoolis toimub 4.–14. märts 2025 Eesti suurim tudengitele suunatud karjääriüritus Võti Tulevikku\, kus saab tutvuda erinevate ettevõtete praktika- ja tööpakkumistega\, võtta osa seminarist\, külastada ettevõtteid ja varjutada tudengeid.  \n\n\n\n\n\n\n\n\n\n\n\n\n\n\n\n\n\n\nTäpsem info karjääriürituse kohta veebilehel www.vt.ee\, millelt leiab täpsema info osalevate ettevõtete kohta\, temaatilise podcasti ja ajakirja. \n\n\n\n\n\n\n\n\n\n\n\n\n4. märts 10:00-16:00 – Karjäärimess\nKarjäärimess loob parimad võimalused tudengitele ja ettevõtetele omavaheliseks suhtluseks. Päeva jooksul saab tutvuda erinevate ettevõtete ja nende poolt pakutavate praktika ja tööpakkumistega. \n4. märts 18:30-22:00 – Seminariõhtu\nSeminariõhtul teevad ettevõtete esinejad ettekandeid\, kus tutvustavad nii karjäärivõimalusi ettevõttes kui ka enda teekonda sinna. Õhtu jooksul toimub veel palju põnevat\, mis hõlmab ka erinevaid loose\, kus on võimalik võita palju huvitavat. Õhtu lõppeb banketi ja networkinguga. \n10.-14. märts – Ettevõttekülastus\nVõti Tulevikku raames toimub 5 päeva jooksul grupikülastused erinevate valdkondade ettevõtetesse\, kus tudengid saavad tutvuda lähemalt igapäevase töökeskkonnaga ning -ülesannetega \n10.-14. märts – Töövarjupäev\nTudengitel on võimalus minna ettevõttesse kindlate ametipositsioonidega tutvuma. Tutvustatakse täpsemalt tööülesandeid\, jagatakse soovitusi ja näidatakse tavalist tööpäeva. \n  \nAllikas: Võti Tulevikku 2025 karjääriürituse veebileht\nKaanepilt: Võti Tulevikku 2025 Facebooki sündmus
URL:https://www.teeviit.ee/sundmus/voti-tulevikku-2025/
LOCATION:Tallinna Tehnikaülikool\, Ehitajate tee 5\, Tallinn\, 12618\, Estonia
CATEGORIES:Mess
ATTACH;FMTTYPE=image/jpeg:https://www.teeviit.ee/wp-content/uploads/2025/02/468299815_976399841182959_647323050956701517_n.jpg
END:VEVENT
BEGIN:VEVENT
DTSTART;VALUE=DATE:20250305
DTEND;VALUE=DATE:20250306
DTSTAMP:20260422T210053
CREATED:20241230T140246Z
LAST-MODIFIED:20241230T140324Z
UID:44308-1741132800-1741219199@www.teeviit.ee
SUMMARY:Erasmus+ programmi taotlustähtaeg
DESCRIPTION:Ligi 5 miljardi euro suuruse aastaeelarvega programm toetab haridus-\, noorte- ja spordivaldkonna algatusi\, mis aitavad kaasa keskkonnasäästlikkusele\, kaasavama ühiskonna loomisele\, kodanikuaktiivsuse ja noorte osaluse tõstmisele ning ümberkorraldustele ELis ja rahvusvaheliselt. Samuti jätkub Ukraina õppijate\, noorsoo- ja haridustöötajate toetamine programmi võimaluste ulatuses. \nErasmus+ programmi toetusi saavad taotleda kõik haridus-\, koolitus-\, noorte- ja spordivaldkonnas tegutsevad asutused ning noorteprogrammide puhul ka mitteformaalsed noortegrupid Euroopa Liidus ja programmiga seotud kolmandates riikides. \nSel korral on haridus- ja noortevaldkonna õpirändeprojektidel erinevad tähtajad\, et vähendada koormust taotluskeskkonnale. \n5. märtsil saab taotleda toetust: \n\nSuuremahulistele projektidele kõrg-\, üld-\, kutse- ja täiskasvanuhariduses;\nVäikeprojektidele kõrg-\, üld-\, kutse- ja täiskasvanuhariduses;\nSuuremahulistele projektidele noortevaldkonnas;\nVäikeprojektidele noortevaldkonnas.\n\nRohkem infot taotlusvoorude kohta: https://euroopanoored.eu/uudised/selgusid-2025-aasta-erasmus-taotlustahtajad/ \nNoorte- ja spordivaldkonna projektide tähtaeg on 12. veebruar. Haridusvaldkonna õpirändeprojektide taotlusvooru tähtaeg on 19. veebruar ning koostööprojektide tähtaeg 5. märts.
URL:https://www.teeviit.ee/sundmus/44308/
LOCATION:Veebis
CATEGORIES:Taotlusvoor
ATTACH;FMTTYPE=image/png:https://www.teeviit.ee/wp-content/uploads/2024/12/laura-infokirja-formaat-22-1.png
END:VEVENT
BEGIN:VEVENT
DTSTART;VALUE=DATE:20250309
DTEND;VALUE=DATE:20250310
DTSTAMP:20260422T210053
CREATED:20250304T060119Z
LAST-MODIFIED:20250304T132209Z
UID:47839-1741478400-1741564799@www.teeviit.ee
SUMMARY:Oleviku Otsustajad 2025
DESCRIPTION:Eesti Noorteühenduste Liit viib koostöös Eesti Õpilasesinduste Liidu ja Eesti Koostöö Koguga ellu noorte osalusprojekti “Oleviku Otsustajad”\, mille eesmärk on tõsta noorte teadlikkust demokraatiast ja osalusvõimalustest. \n\n\n\n\nProjekti otsitakse noori ja noortemeelseid tegutsejaid\, kes on valmis viima oma kodukohas ellu tegevusi ja toetama noorte osalust kohalikul tasandil. Sulle pakutakse koolitusi demokraatia\, osalusmeetodite ja sotsiaalmeedias kõneisikuks olemise kohta. \n\n\n\n\nKui soovid panustada oma kogukonnas\, sind oodatakse kandideerima järgmistes rollides: \n✔️ Noorte osaluse kõneisik\n✔️ Simulatsioon-töötubade läbiviija\n✔️ Generatsioonidevaheliste dialoogide korraldaja \n\n\n\n\n\n\n\n\nLisainfo\n\n\n\n\n\n\n\n\nKandideerin siin
URL:https://www.teeviit.ee/sundmus/oleviku-otsustajad-2025/
CATEGORIES:Projekt
ATTACH;FMTTYPE=image/png:https://www.teeviit.ee/wp-content/uploads/2025/02/oleviku_otstustajad_2025_onepager-1240-x-820-px.png
END:VEVENT
BEGIN:VEVENT
DTSTART;VALUE=DATE:20250309
DTEND;VALUE=DATE:20250310
DTSTAMP:20260422T210053
CREATED:20250304T060219Z
LAST-MODIFIED:20250304T132359Z
UID:47841-1741478400-1741564799@www.teeviit.ee
SUMMARY:NATO noorsaadiku programm kutsub
DESCRIPTION:Kas tunned huvi rahvusvahelise julgeoleku ja diplomaatia vastu? “NATO Noorsaadiku programm” avab sulle uksed NATO kollektiivkaitse\, Eesti riigikaitse ning meie liitlaste strateegiate ja tegevuste maailma. Kui oled 15-19-aastane noor ning osaled aktiivselt oma kooli meediakanalites\, siis on see programm mõeldud just sulle. \n\n\n\n\nProgrammis osalejatel on võimalus kaasa lüüa üritustel\, näiteks NATO-Euroopa Liidu Ümarlaual ja NATO Youth Forum’il\, ning kajastada neid enda ja kooli meediakanalites. \nProgrammi raames pakutakse noortele võimalust osaleda sotsiaalmeediakoolitusel\, mille alusel saaksid nad 2025. aasta sügisel läbi viia noortele suunatud sotsiaalmeediakampaania. \nSamuti viiakse osalejatega läbi NATONIA mängu. Kolm edukamat osalejat saavad sügisel võimaluse külastada NATO peakorterit ja meie alalist esindust. \n\n\n\n\nKas soovid osaleda? Registreeru hiljemalt 9. märtsiks! \n\n\n\n\n\n\n\n\nLisainfo\n\n\n\n\n\n\n\n\nRegistreerumine
URL:https://www.teeviit.ee/sundmus/nato-noorsaadiku-programm-kutsub/
CATEGORIES:Projekt
ATTACH;FMTTYPE=image/png:https://www.teeviit.ee/wp-content/uploads/2025/02/nato-noorsaadik-poster-landscape.png
END:VEVENT
BEGIN:VEVENT
DTSTART;VALUE=DATE:20250313
DTEND;VALUE=DATE:20250314
DTSTAMP:20260422T210053
CREATED:20250128T071630Z
LAST-MODIFIED:20250128T071630Z
UID:45581-1741824000-1741910399@www.teeviit.ee
SUMMARY:Registreeru Tallinna Polütehnikumi Filmifestivalile!
DESCRIPTION:Registreerimine kaheksandale üle-eestilisele Tallinna Polütehnikumi Filmifestivalile on avatud! \nKoolinoorte lühifilmide festivalile saab töid esitada neljas kategoorias: dokumentaalfilm\, animafilm\, mängufilm\, sarja pilootosa. Registreerimine on avatud 13. märtsini 2025. Registreeri siin.\nSündmus saab oma kulminatsiooni 24. aprillil 2025 kinos Sõprus kutsetega galaõhtul\, kus vaadatakse ühiselt kategooriate parimaid lühifilme\, jagatakse auhindu ning selgitatakse välja filmifestivali üldvõitja.\nLisaks aule ja kuulsusele ootab võitjaid peaauhind\, mille paneb välja megatoetaja Overall Eesti AS (Canon)\, võidufilmi esitleb JustFilm sügisel oma programmis ning animatsiooni kategooria võidufilmi uhke peolaua katab Selver. \nRohkem infot filmifestivali osalemistingimuste\, registreerimise ja ajakava kohta saab filmifestivali kodulehelt: https://filmifestival.tptlive.ee/osalejale/. \nTallinna Polütehnikumi Filmifestival 2025\nfilmifestival@tptlive.ee\nwww.facebook.com/tptfilmifestival
URL:https://www.teeviit.ee/sundmus/registreeru-tallinna-polutehnikumi-filmifestivalile/
LOCATION:Tallinna Polütehnikum\, Pärnu mnt. 57\, Tallinn 10135\, Eesti
CATEGORIES:Konkurss
ATTACH;FMTTYPE=image/png:https://www.teeviit.ee/wp-content/uploads/2025/01/tpt-ff-2025.png
END:VEVENT
BEGIN:VEVENT
DTSTART;TZID=Europe/Tallinn:20250313T100000
DTEND;TZID=Europe/Tallinn:20250313T153000
DTSTAMP:20260422T210053
CREATED:20250128T103449Z
LAST-MODIFIED:20250306T095950Z
UID:45638-1741860000-1741879800@www.teeviit.ee
SUMMARY:Veebiseminar "Vaimse tervise eest hoolitsemine"
DESCRIPTION:Osalema on oodatud 15-29aastased noored.  \nSeminari eesmärk on arendada teadmisi ja oskusi\, kuidas hoolitseda oma vaimse tervise eest ning ennetada ja leevendada võimalikke vaimse tervise probleeme aidates luua positiivne enesekuvand\, parandada enesehinnangut ja -usku\, õpetada kasutama erinevaid teaduspõhiseid meetodeid vaimse tervisega tegelemisel\, sh õigel ajal sobivatelt inimestelt abi küsimist. \nVeebiseminaridel osalemine on kõigile TASUTA. Seminarisari koosneb kaheksast osast. Osaleda on võimalik kõikidel seminaridel või valida osalemiseks oma huvidele ja vajadusetele vastava teemaga seminar(id). Kui Lives osaleda ei saa\, siis registreerunutele on seminarid järele vaadatavad 30 päeva. \nInfo kõikide noorte üldoskuste arendamise veebiseminaride kohta on leitav Eesti Töötukassa lehelt. \nKoolitaja: Jaana Liigand \nSeminarisarja rahastatakse Euroopa Liit taasterahastu NextGenerationEU vahenditest.   \nRegistreerumine: https://minukarjaar.ee/et/sundmused/veebiseminar-vaimse-tervise-eest-hoolitsemine-13-03-2025
URL:https://www.teeviit.ee/sundmus/veebiseminar-vaimse-tervise-eest-hoolitsemine/
LOCATION:Veebis
CATEGORIES:veebinar
ATTACH;FMTTYPE=image/jpeg:https://www.teeviit.ee/wp-content/uploads/2025/01/vaimse-tervise-eest-hoolitsemine.jpg
END:VEVENT
BEGIN:VEVENT
DTSTART;TZID=Europe/Tallinn:20250314T170000
DTEND;TZID=Europe/Tallinn:20250314T190000
DTSTAMP:20260422T210053
CREATED:20250306T101210Z
LAST-MODIFIED:20250306T101858Z
UID:47890-1741971600-1741978800@www.teeviit.ee
SUMMARY:YFU Eesti infotund vahetusõpilaseks saamisest (Tartu)
DESCRIPTION:Kui sa oled noor vanuses 14-18 (või õige pea saamas 14) ja oleksid huvitatud veetma ühe aasta välismaal õppides\, siis YFU infotund on just sulle! Tule uuri lähemalt\, kuidas vahetusaasta välja näeb ja kuula endiste vahetusõpilaste kogemusi.\n\n\n\n14.03.2025 infotundi viivad läbi noored\, kes käisid Itaalias\, seega põhifookuseks seekord just see riik. Kuid tasub meeles hoida\, et vahetusõpilaseks saamise protsess on olenemata riigist sama. \nOsalemiseks tuleb end registreerida siin. \n\n\n\n\n\n\n\nInfotunnis tuleb juttu vahetusõpilaseks saamise teekonnast läbi asja vahetusaastalt tagasi tulnud noorte kogemuslugude. Näitame pilte\, räägime lähemalt erinevatest kultuuridest\, vastame vahetusaastaga seotud küsimustele ning otseloomulikult pakume kommi\, snäkke ja morssi! See on hea viis saada rohkem aimu\, mis asi see vahetusaasta täpsemalt on\, miks üldse sinna minna ja kuidas vahetusõpilaseks saada.
URL:https://www.teeviit.ee/sundmus/yfu-eesti-infotund-vahetusopilaseks-saamisest-tartu/
LOCATION:Tartu
CATEGORIES:Infotund
ATTACH;FMTTYPE=image/png:https://www.teeviit.ee/wp-content/uploads/2025/03/yfu.png
END:VEVENT
BEGIN:VEVENT
DTSTART;TZID=Europe/Tallinn:20250319T120000
DTEND;TZID=Europe/Tallinn:20250319T143000
DTSTAMP:20260422T210053
CREATED:20250205T143109Z
LAST-MODIFIED:20250205T143109Z
UID:46199-1742385600-1742394600@www.teeviit.ee
SUMMARY:Rahatarkuse veebikonverents 2025
DESCRIPTION:19. märtsil kell 12.00 – 14.30 toimub juba viiendat korda gümnasistidele ja põhikooli lõpuklassidele suunatud tipptasemel osalustasuta rahatarkuse veebikonverents „Kas mina juhin raha või juhib raha mind?“ \n\n\n\n\nEsinejate hulgas saab teiste seas tänavu näha muusikuid ja mitmekülgseid ettevõtjaid Grete Paiat ja Joonatan Siimani\, kes räägivad oma tegemistest ja suhetest rahaga. Paneelis arutavad selle üle\, kas ja kuidas sotsiaalmeediast leitud tarkusi oma elus rakendada\, mil moel suhtuda finfluencerite nõuannetesse ja kas maksab neid päriselus oma rahaga katsetada käitumisteadlane Heidi Reinson ning investorid räppar säm ja investor ning riiklikult tunnustatud rahatarkuse edendaja Riin Mäesalu. Veebipolitseinik Grete-Kelly Lipstok räägib koos SEB panga pettuste ennetuse osakonna turbejuhi Kätlin Kukega sellest\, mis on küberpettused ja kuidas nendega mitte pihta saada. \nTeises paneelarutelus räägivad oma kogemustest ja õppetundidest õpilasfirmade vedajatena edukad noored ettevõtjad Karl Elmar Vikat (ÕF Nullvann)\, Mia Sumberg (ÕF Aktsiaässad) ja veel üks tegija noor\, kellega alles läbi räägime. \nKonverentsi avab peaminister Kristen Michal.
URL:https://www.teeviit.ee/sundmus/rahatarkuse-veebikonverents-2025/
LOCATION:Veebis
CATEGORIES:Konverents
ATTACH;FMTTYPE=image/png:https://www.teeviit.ee/wp-content/uploads/2025/02/rahatarkuse-konverents.png
ORGANIZER;CN="Eesti Pangaliit":MAILTO:pangaliit@pangaliit.ee
END:VEVENT
BEGIN:VEVENT
DTSTART;VALUE=DATE:20250323
DTEND;VALUE=DATE:20250427
DTSTAMP:20260422T210053
CREATED:20250304T055600Z
LAST-MODIFIED:20250304T132140Z
UID:47835-1742688000-1745711999@www.teeviit.ee
SUMMARY:Loomekonkurss — riigivanemaga Brüsselisse!
DESCRIPTION:Riigivanem August Rei Sihtasutus koostöös Eesti NATO Ühinguga ja Eesti Ajaloo- ja Ühiskonnaõpetajate Seltsiga kutsub osalema Eesti riigi looja ja hoidja August Rei sünniaastapäeva tähistamiseks esseekonkursil 9.-12. klassi õpilastele vanuses 15-19 eluaastat. Oodatud on ka MULTIMEEDIA lahendused. \n\n\n\n\n\nLoomekonkursi kaks parimat sõidavad europealinna Brüsselisse\, kus saavad võimaluse tutvuda Euroopa Parlamendi võimukoridoride ja ajaloolise vanalinnaga\nLoomulikult premeerime ka õpetajaid – preemiareis ka parimate juhendajatele.\nIgale osalejale kingitus ja tänukiri.\n\n\n\n\n\nSinult oodatakse:\n\n\n\n\n\neestikeelset esseed pikkusega ca 6 000 – 9 000 tähemärki. Esitatud tööle märgi oma kontaktandmed: kool\, klass ning juhendaja nimi. PDF formaadis dokumendi nimeks panna autori nimi.\neraldi kategoorias võid oma võitlustöö vormistada ka multimeedialahendusena (video\, animatsioon\, koomiks jne)\, mille palume laadida pilve ja edastada lingina.\nsaada oma võistlustöö hiljemalt 23. aprillil 2025.a. kell 23.59 aadressil: essee@riigivanem.ee.\n\n\n\n\n\nEssee teemad ja muu lisainfo
URL:https://www.teeviit.ee/sundmus/loomekonkurss-riigivanemaga-brusselisse/
CATEGORIES:Konkurss
ATTACH;FMTTYPE=image/png:https://www.teeviit.ee/wp-content/uploads/2025/02/cb5292e0-44d4-f38f-9fca-339932375925.png
END:VEVENT
BEGIN:VEVENT
DTSTART;TZID=Europe/Tallinn:20250327T100000
DTEND;TZID=Europe/Tallinn:20250327T153000
DTSTAMP:20260422T210053
CREATED:20250128T104813Z
LAST-MODIFIED:20250128T104813Z
UID:45640-1743069600-1743089400@www.teeviit.ee
SUMMARY:Veebiseminar "Loov ja kriitiline mõtlemine"
DESCRIPTION:Osalema on oodatud 15-29aastased noored.  \nSeminari eesmärk on arendada osalejate loovat ja kriitilist mõtlemist ning aidata neil rakendada neid oskusi igapäevaelus ja tööalases tegevuses probleemide lahendamisel kasutades erinevaid loova ja kriitilise mõtlemise tehnikaid. \nVeebiseminaridel osalemine on kõigile TASUTA. Seminarisari koosneb kaheksast osast. Osaleda on võimalik kõikidel seminaridel või valida osalemiseks oma huvidele ja vajadusetele vastava teemaga seminar(id). Kui Lives osaleda ei saa\, siis registreerunutele on seminarid järele vaadatavad 30 päeva. \nInfo kõikide noorte üldoskuste arendamise veebiseminaride kohta on leitav Eesti Töötukassa lehelt. \nKoolitaja: Indrek Maripuu \nSeminarisarja rahastatakse Euroopa Liit taasterahastu NextGenerationEU vahenditest.   \nRegistreerumine: https://minukarjaar.ee/et/sundmused/veebiseminar-loov-ja-kriitiline-motlemine-27-03-2025
URL:https://www.teeviit.ee/sundmus/veebiseminar-loov-ja-kriitiline-motlemine/
LOCATION:Veebis
CATEGORIES:veebinar
ATTACH;FMTTYPE=image/jpeg:https://www.teeviit.ee/wp-content/uploads/2025/01/loov-ja-kriitiline-motlemine.jpg
END:VEVENT
BEGIN:VEVENT
DTSTART;TZID=Europe/Tallinn:20250327T140000
DTEND;TZID=Europe/Tallinn:20250327T160000
DTSTAMP:20260422T210053
CREATED:20250306T100703Z
LAST-MODIFIED:20250306T100703Z
UID:47882-1743084000-1743091200@www.teeviit.ee
SUMMARY:Veebiloeng "Kuidas ennast mõjuvalt tutvustada?"
DESCRIPTION:Eesti Töötukassa kutsub 27.03.2025 kell 14-16 osalema veebiloengule “Kuidas ennast mõjuvalt tutvustada?”.  \nVeebitöötoas saad teada\, kuidas töövestlusel kandidaadina enda tugevusi ja isikupära esile tuua\, mil moel luua hea esmamulje ning kontakt vestluspartneritega. \n\nAnalüüsitakse iga osaleja tugevusi ja eeldusi.\nJuhendatakse tööpakkumistest tööandja vajadusi välja lugema.\nArutletakse \, kuidas luua argumente oma eelduste esiletoomiseks.\nHarjutatakse veenvat ja enesekindlat esinemist.\n\nOsalemine annab oskuse ennast parimast küljest esitleda läbi mõjusa enesetutvustuse ning julguse töövestlusel enesekindlalt suhelda. Saad parima tulemuse kui osaled aruteludes\, esitad küsimusi ning jagad kogemusi! \nLisainfo ja registreerumise link siin. \nKohtade arv on piiratud!
URL:https://www.teeviit.ee/sundmus/veebiloeng-kuidas-ennast-mojuvalt-tutvustada/
LOCATION:Veebis
CATEGORIES:veebinar
END:VEVENT
BEGIN:VEVENT
DTSTART;TZID=Europe/Tallinn:20250328T100000
DTEND;TZID=Europe/Tallinn:20250328T110000
DTSTAMP:20260422T210053
CREATED:20250306T100821Z
LAST-MODIFIED:20250306T100821Z
UID:47888-1743156000-1743159600@www.teeviit.ee
SUMMARY:Veebiloeng "Kandideerimisdokumentide ABC"
DESCRIPTION:Eesti Töötukassa kutsub 28.03.2025 kell 10-11 osalema veebiloengule “Kandideerimisdokumentide ABC”. \nLoengus tutvustatakse CV\, motivatsioonikirja ja kaaskirja koostamise põhimõtteid. \n\nTutvustatakse enamlevinud kandideerimisdokumente.\nRäägitakse\, millised on CV\, kaaskirja ja motivatsioonikirja koostamise põhimõtted.\nVaadatakse üle dokumentide vormistamise reeglid ja edastamise võimalused.\n\nOsalemine annab sulle üldteadmised kandideerimisdokumentide koostamisest. Saad parima tulemuse kui osaled aruteludes\, esitad küsimusi ning jagad kogemusi! Osalemine on kõigile TASUTA. \nLisainfo siin. \nLiitumine (toimub Teamsis) siin.
URL:https://www.teeviit.ee/sundmus/veebiloeng-kandideerimisdokumentide-abc/
LOCATION:Veebis
CATEGORIES:veebinar
END:VEVENT
BEGIN:VEVENT
DTSTART;TZID=Europe/Tallinn:20250328T170000
DTEND;TZID=Europe/Tallinn:20250328T190000
DTSTAMP:20260422T210053
CREATED:20250306T101348Z
LAST-MODIFIED:20250306T101847Z
UID:47893-1743181200-1743188400@www.teeviit.ee
SUMMARY:YFU Eesti infotund vahetusõpilaseks saamisest (Tallinn)
DESCRIPTION:Kui sa oled noor vanuses 14-18 (või õige pea saamas 14) ja oleksid huvitatud veetma ühe aasta välismaal õppides\, siis YFU infotund on just sulle! Tule uuri lähemalt\, kuidas vahetusaasta välja näeb ja kuula endiste vahetusõpilaste kogemusi.\n\n\n\n28.03.2025 infotundi viivad läbi noored\, kellest üks käis Tais ja teine Argentinas\, seega põhifookuseks seekord just need riigid. Kuid tasub meeles hoida\, et vahetusõpilaseks saamise protsess on olenemata riigist sama. \nOsalemiseks tuleb end registreerida siin. \n\n\n\n\n\n\n\nInfotunnis tuleb juttu vahetusõpilaseks saamise teekonnast läbi asja vahetusaastalt tagasi tulnud noorte kogemuslugude. Näitame pilte\, räägime lähemalt erinevatest kultuuridest\, vastame vahetusaastaga seotud küsimustele ning otseloomulikult pakume kommi\, snäkke ja morssi! See on hea viis saada rohkem aimu\, mis asi see vahetusaasta täpsemalt on\, miks üldse sinna minna ja kuidas vahetusõpilaseks saada.
URL:https://www.teeviit.ee/sundmus/yfu-eesti-infotund-vahetusopilaseks-saamisest-tallinn/
LOCATION:Tallinn
CATEGORIES:Infotund
ATTACH;FMTTYPE=image/png:https://www.teeviit.ee/wp-content/uploads/2025/03/yfu.png
END:VEVENT
BEGIN:VEVENT
DTSTART;VALUE=DATE:20250331
DTEND;VALUE=DATE:20250401
DTSTAMP:20260422T210053
CREATED:20250304T055144Z
LAST-MODIFIED:20250304T132240Z
UID:47825-1743379200-1743465599@www.teeviit.ee
SUMMARY:KüberPõgenemistuba 2025
DESCRIPTION:KüberPõgenemistuba 2025 ootab osalema 7.–9. ja 10.–12. klasside õpilasi\, kutsekoolide õppureid\, ülikoolide tudengeid (BA\, MA\, DOC) ning õpetajaid ja küberkaitse valdkonna koolitajaid. \n\n\n\n\nTööde teemad: vaimne tervis\, küberturvalisus ja tehisintellekt. Osalejad loovad põgenemistoa või mini-CTF keskkonna algajatele küberkaitse huvilistele. \nLahendused võivad olla digitaalsed või mahtada füüsiliselt 40x20x30 cm kasti. \nHinnatakse tehnilist kvaliteeti\, ülesannete sobivust\, unikaalsust ja vaimse tervise teemade käsitlust. \n\n\n\n\nMuud tingimused: \n\nVõistlustööd võib esitada individuaalselt või kuni 4-liikmelistes gruppides.\nEsitamise tähtaeg on 31.03.2025.\n\n\n\n\n\nVajalikud lingid: \n\nTööde esitamine: www.kyberpahkel.ee.\nLisainfo ja inspiratsioon: https://ylesanded.targaltinternetis.ee/\nPõgenemistubade loomise toetusveeb: https://sites.google.com/view/pogene/
URL:https://www.teeviit.ee/sundmus/kuberpogenemistuba-2025/
CATEGORIES:Konkurss
ATTACH;FMTTYPE=image/jpeg:https://www.teeviit.ee/wp-content/uploads/2025/03/444167597_473714851857763_5065259485466313267_n-768x227-1.jpg
END:VEVENT
END:VCALENDAR