BEGIN:VCALENDAR
VERSION:2.0
PRODID:-//Teeviit - ECPv6.15.4//NONSGML v1.0//EN
CALSCALE:GREGORIAN
METHOD:PUBLISH
X-ORIGINAL-URL:https://www.teeviit.ee
X-WR-CALDESC:Events for Teeviit
REFRESH-INTERVAL;VALUE=DURATION:PT1H
X-Robots-Tag:noindex
X-PUBLISHED-TTL:PT1H
BEGIN:VTIMEZONE
TZID:Europe/Tallinn
BEGIN:DAYLIGHT
TZOFFSETFROM:+0200
TZOFFSETTO:+0300
TZNAME:EEST
DTSTART:20250330T010000
END:DAYLIGHT
BEGIN:STANDARD
TZOFFSETFROM:+0300
TZOFFSETTO:+0200
TZNAME:EET
DTSTART:20251026T010000
END:STANDARD
END:VTIMEZONE
BEGIN:VEVENT
DTSTART;VALUE=DATE:20250105
DTEND;VALUE=DATE:20250106
DTSTAMP:20260423T000949
CREATED:20250102T101813Z
LAST-MODIFIED:20250103T072052Z
UID:44436-1736035200-1736121599@www.teeviit.ee
SUMMARY:Projektikirjutamise laager Erasmus+ ja Euroopa Solidaarsuskorpuse taotluste arendamiseks
DESCRIPTION:Projektikirjutamise laagri eesmärk on pakkuda 13-26aastastele noortele tuge projekti kirjutamiseks ja idee arendamiseks Erasmus+ või Euroopa Solidaarsuskorpuse taotlusvooru 12. või 20. veebruariks 2025. Laager toimub 17.-19. jaanuar 2025 Tallinnas.  \n\n\n\n\n\n\n\n\n\n\n\n\nProjektikirjutamise laager annab osalejatele võimaluse: \n\narendada oma ideest kvaliteetse Erasmus+ või Euroopa Solidaarsuskorpuse programmi taotluse\,\nsaada nõu ja tuge agentuuri ekspertidelt (nõustajad-koolitajad on abiks ka pärast laagrit)\,\nvõtta aeg maha ja keskenduda oma tiimis projekti planeerimisele.\n\n\n\n\n\n\n\n\n\n\n\n\n\nLaagrisse on oodatud osalema 2-5 liikmelised tiimid. Kaasa võib võtta juhendaja/ mentori (noorsootöötaja\, õpetaja\, projektikogemusega täiskasvanu). Kui kõigi grupiliikmete vanus on alla 18\, siis on juhendaja kaasamine tungivalt soovituslik. \nLaagri töökeeleks on eesti keel\, aga jooksvat tõlget ja abi pakume ka vene ja inglise keeles. Laagris osalemine on tasuta. \nTallinnast väljastpoolt tulijatele organiseeritakse majutus ja transpordikulud. \nLaagrisse kandideerimiseks tuleb kirjeldada esialgset projektiideed ja osalemise motivatsiooni hiljemalt 5. jaanuaril 2025 kandideerimisvormis. Valitud osalejatega võetakse ühendust hiljemalt 7. jaanuaril 2024. \n\n\n\n\n\n\n\n\n\n\n\n\n\n\n\n\nKANIDEERIMISVORM\n\n\n\n\n\n\n\n\n\n\n\n\n\n\n\n\nUuri ettevalmistuseks lisa: \n\nErasmus+ noortevahetus (rahvusvaheline)\nErasmus+ osalusprojekt (kohalik või rahvusvaheline)\nEuroopa Solidaarsuskorpuse solidaarsusprojekt (kohalik)\n\n\n\n\n\n\n\n\n\n\n\n\n\n\n\n\n\n\n\n\n\n\n\n\n\n\n\n\n\n\n\nTäpsem info:\nKarin Öövel\nkarin.oovel@harno.ee\n55919229
URL:https://www.teeviit.ee/sundmus/projektikirjutamise-laager-erasmus-ja-euroopa-solidaarsuskorpuse-taotluste-arendamiseks/
LOCATION:Tallinn
CATEGORIES:laager
ATTACH;FMTTYPE=image/png:https://www.teeviit.ee/wp-content/uploads/2025/01/laura-infokirja-formaat-21-500x320-1.png
END:VEVENT
BEGIN:VEVENT
DTSTART;VALUE=DATE:20250106
DTEND;VALUE=DATE:20250107
DTSTAMP:20260423T000949
CREATED:20241205T153505Z
LAST-MODIFIED:20250103T071853Z
UID:43895-1736121600-1736207999@www.teeviit.ee
SUMMARY:Joonistusvõistlus „Tunded“
DESCRIPTION:Eesti Lastekirjanduse Keskus kuulutab välja joonistusvõistluse 5–18-aastastele lastele tundeelukate loomiseks. Konkurss kestab 6.11.2024–6.01.2025. \nMeie sees on peidus palju erinevaid tundeid: uudishimu\, rõõm\, tänulikkus\, ärevus\, rahu\, kadedus\, ebakindlus\, hoolivus\, vabadus\, häbi\, uhkus\, julgus\, õnn\, kannatlikkus\, kurbus\, usaldus\, murelikkus\, nukrus\, headus\, vaimustus\, viha\, hirm\, rahulolu\, igatsus\, lootus\, üksindus\, vaen\, sõprus\, armastus jne. \nMilline võiks välja näha kannatlikkus või õnn\, kui ta oleks tegelane? Mitu jalga tal oleks või kas tal neid üldse oleks? \nVali üks tunne ja joonista see tegelasena. \nJoonistus peab olema A4 või A3 formaadis. Kasutada võid erinevaid tehnikaid ja vahendeid nagu värvipliiatsid\, markerid\, värvid\, kollaaž\, pastellid jne. \nTöö palume saata 6. jaanuariks 2025 Eesti Lastekirjanduse Keskusesse aadressil Pikk 73\, Tallinn 10133. Eraldi paberile lisa tööpealkirjana joonistamiseks valitud tunne\, autori nimi\, vanus ja lapsevanema või õpetaja kontakttelefon ning e-posti aadress. \nValitud tööd saavad esitletud illustratsiooninäitusel „Kõik tunded on õiged“ Eesti Lastekirjanduse Keskuse pööningul 2026. aasta I pooles. \nInspiratsiooni saad otsida näiteks neist raamatutest: \n\nTina Oziewicz „Mida teevad tunded?“\nLidia Brankovic „Suur tunnete hotell“\nKristi Kangilaski „Hea tunne“\n\nVõistluse plakati saab alla laadida SIIT. \nRohkem infot Eesti Lastekirjanduse Keskuse kodulehel.
URL:https://www.teeviit.ee/sundmus/joonistusvoistlus-tunded/
LOCATION:Eesti Lastekirjanduse Keskus\, Estonia
CATEGORIES:Konkurss
ATTACH;FMTTYPE=image/jpeg:https://www.teeviit.ee/wp-content/uploads/2024/12/tundeloom_foto2.jpg
END:VEVENT
BEGIN:VEVENT
DTSTART;TZID=Europe/Tallinn:20250109T093000
DTEND;TZID=Europe/Tallinn:20250109T113000
DTSTAMP:20260423T000949
CREATED:20250103T071133Z
LAST-MODIFIED:20250103T071133Z
UID:44466-1736415000-1736422200@www.teeviit.ee
SUMMARY:Eesti Töötukassa veebitöötuba "Teadlikumalt tööturule"
DESCRIPTION:Töötoas saad tervikliku ülevaate tööturust\, tööotsingute erinevatest etappidest\, kandideerimiseks vajalikest dokumentidest ja töövestlusel osalemisest.  \n\n\n\n\n\n\nVeebitöötoas osalemiseks on vajalik internet ja arvuti või nutiseade\, mikrofoni ja veebikaamera olemasolu. Veebiloeng toimub Microsoft Teams keskkonnas. Kohtade arv veebitöötubades on piiratud. \nLisainfo ja registreerumine siin.
URL:https://www.teeviit.ee/sundmus/eesti-tootukassa-veebitootuba-teadlikumalt-tooturule/
LOCATION:Teams
CATEGORIES:Töötuba
ATTACH;FMTTYPE=image/jpeg:https://www.teeviit.ee/wp-content/uploads/2025/01/tootukassa.jpg
END:VEVENT
BEGIN:VEVENT
DTSTART;VALUE=DATE:20250113
DTEND;VALUE=DATE:20250114
DTSTAMP:20260423T000949
CREATED:20241204T150841Z
LAST-MODIFIED:20250103T072001Z
UID:43878-1736726400-1736812799@www.teeviit.ee
SUMMARY:Steni Roosi muinasjutuvõistlus
DESCRIPTION:Eesti Lastekirjanduse Keskus kutsub 11–15-aastasi kirjutamishuvilisi lapsi osalema Sten Roosi nimelisel muinasjutuvõistlusel 4.12.2024-13.01.2025. \n33. korda toimuva võistluse eesmärk on äratada lastes huvi omaloomingu vastu\, rikastada nende emakeelset väljendusoskust ning arendada loovust. \nKirjandusvõistlusele oodatakse muinasjutte vabalt valitud teemal. Tekstide soovitav pikkus on 1-2 A4 lehekülge. Lood palume saata 13. jaanuariks 2025 märgusõnaga „Steni muinasjutuvõistlus“ meiliaadressil elk@elk.ee või Eesti Lastekirjanduse Keskusesse aadressil Pikk 73\, Tallinn 10133. Tööle palume lisada muinasjutu autori nimi\, vanus\, kool ja klass. \nLastekirjanduse keskuse direktor Triin Soonel on hea meel taaskord kutsuda lapsi oma fantaasialugusid välja mõtlema ja kirja panema: „Iga-aastane konkurss on üks vanemaid laste loomevõistlusi\, millel on jätkuvalt rohkelt osalejaid üle Eesti. Oleme tänulikud\, et õpetajad ja lapsevanemad lapsi suunavad ja juhendavad. Nii saavad lood kirja kaunis eesti keeles ning žüriil on rõõm neid lugeda. Ühtlasi on konkurss ka väike kasvulava meie noortele kirjanikele\, sest paremad kirjutised jõuavad ajakirja Hea Laps vahendusel laiema lugejaskonnani.“ \nSten Roosi muinasjutuvõistlus toimub alates 1993. aastast ja selle algatasid Ants ja Ann Roos oma muinasjutulembese poja Steni mälestuseks. Eesti Lastekirjanduse Keskus jätkab seda traditsiooni koos Eesti Kirjandusmuuseumi\, Lääne Maakonna Keskraamatukogu\, Haapsalu Linnavalitsuse ja ajakirjaga Hea Laps. Konkurss kuulutatakse välja igal aastal 6. septembril\, Sten Roosi sünniaastapäeval. Möödunud aastal saadeti võistlusele 241 muinasjuttu ning osalejaid oli 61 koolist. \nTulemused tehakse teatavaks pidulikul auhinnatseremoonial Eesti Lastekirjanduse Keskuses 2025. aasta kevadel. Parimad muinasjutud avaldab ajakiri Hea Laps ja teiste hulgas annab eriauhinna välja ajaleht Lääne Elu. \n  \nVaata rohkem infot Eesti Lastekirjanike keskuse kodulehelt.
URL:https://www.teeviit.ee/sundmus/steni-roosi-muinasjutuvoistlus/
LOCATION:Eesti Lastekirjanduse Keskus\, Estonia
CATEGORIES:Konkurss
ATTACH;FMTTYPE=image/jpeg:https://www.teeviit.ee/wp-content/uploads/2024/12/steni-muinasjutuvostlus-logo-1.jpg
END:VEVENT
BEGIN:VEVENT
DTSTART;TZID=Europe/Tallinn:20250114T153000
DTEND;TZID=Europe/Tallinn:20250114T163000
DTSTAMP:20260423T000949
CREATED:20241230T130806Z
LAST-MODIFIED:20241230T130943Z
UID:44276-1736868600-1736872200@www.teeviit.ee
SUMMARY:Erasmus+ ja Euroopa Solidaarsuskorpuse noorteprojektide infotund
DESCRIPTION:2025. aasta Erasmus+ noorteprojektide esimene taotlustähtaeg jõuab kätte 12. veebruaril ning Euroopa Solidaarsuskorpuse taotlustähtaeg 20. veebruaril. Oled mõelnud ka projekti esitada? Alusta infotunnist! \n14. jaanuaril 2025 kell 15:30-16:30 toimub virtuaalne infotund\, kus tutvustatakse kolme noortele suunatud tegevustüüpi\, mille raames on võimalik projekte esitada: \n\nErasmus+ noortevahetused\nErasmus+ osalusprojektid\nEuroopa Solidaarsuskorpuse kohalikud solidaarsusprojektid\n\nInfotunnis tutvustatakse tegevustüüpide olemust ning vastatakse küsimustele. \nRegistreeri ennast osalejaks kuni 12. jaanuarini!\nhttps://euroopanoored.eu/uudised/tule-noorteprojektide-infotundi/ 
URL:https://www.teeviit.ee/sundmus/erasmus-ja-euroopa-solidaarsuskorpuse-noorteprojektide-infotund/
LOCATION:Veebis
CATEGORIES:Infotund
ATTACH;FMTTYPE=image/png:https://www.teeviit.ee/wp-content/uploads/2024/12/laura-infokirja-formaat-26.png
END:VEVENT
BEGIN:VEVENT
DTSTART;TZID=Europe/Tallinn:20250116T093000
DTEND;TZID=Europe/Tallinn:20250116T114500
DTSTAMP:20260423T000949
CREATED:20250103T071338Z
LAST-MODIFIED:20250103T071338Z
UID:44470-1737019800-1737027900@www.teeviit.ee
SUMMARY:Eesti Töötukassa veebitöötuba "Töövestluseks valmistumine"
DESCRIPTION:Töötoas räägitakse kuidas teadlikult kandideerimisvestluseks valmistuda ja end tööandjale läbimõeldumalt esitleda. \nVeebitöötoas osalemiseks on vajalik internet ja arvuti või nutiseade\, mikrofoni ja veebikaamera olemasolu. Veebiloeng toimub Microsoft Teams keskkonnas. Kohtade arv veebitöötubades on piiratud. \nLisainfo ja registreerumine siin.
URL:https://www.teeviit.ee/sundmus/eesti-tootukassa-veebitootuba-toovestluseks-valmistumine/
LOCATION:Teams
CATEGORIES:Töötuba
ATTACH;FMTTYPE=image/jpeg:https://www.teeviit.ee/wp-content/uploads/2025/01/tootukassa.jpg
END:VEVENT
BEGIN:VEVENT
DTSTART;TZID=Europe/Tallinn:20250117T100000
DTEND;TZID=Europe/Tallinn:20250117T120000
DTSTAMP:20260423T000949
CREATED:20250103T071445Z
LAST-MODIFIED:20250103T071445Z
UID:44474-1737108000-1737115200@www.teeviit.ee
SUMMARY:Eesti Töötukassa veebitöötuba "Teadlikumalt tööturule"
DESCRIPTION:Töötoas saad tervikliku ülevaate tööturust\, tööotsingute erinevatest etappidest\, kandideerimiseks vajalikest dokumentidest ja töövestlusel osalemisest.  \n\n\n\n\n\n\nVeebitöötoas osalemiseks on vajalik internet ja arvuti või nutiseade\, mikrofoni ja veebikaamera olemasolu. Veebiloeng toimub Microsoft Teams keskkonnas. Kohtade arv veebitöötubades on piiratud. \nLisainfo ja registreerumine siin.
URL:https://www.teeviit.ee/sundmus/eesti-tootukassa-veebitootuba-teadlikumalt-tooturule-2/
LOCATION:Teams
CATEGORIES:Töötuba
ATTACH;FMTTYPE=image/jpeg:https://www.teeviit.ee/wp-content/uploads/2025/01/tootukassa.jpg
END:VEVENT
BEGIN:VEVENT
DTSTART;TZID=Europe/Tallinn:20250117T153000
DTEND;TZID=Europe/Tallinn:20250119T143000
DTSTAMP:20260423T000949
CREATED:20241230T131626Z
LAST-MODIFIED:20241230T131626Z
UID:44288-1737127800-1737297000@www.teeviit.ee
SUMMARY:Projektikirjutamise laager
DESCRIPTION:Projektikirjutamise laager on mõeldud 13-25 aastastele noortele\, kes \n\ntahavad kirjutada mõnda projekti\,\nsoovivad taotluse valmis saada 12. veebruari või 20. veebruari taotlustähtajaks\,\nvajavad projekti kirjutamiseks professionaalset nõu ja tuge.\n\nToimumisaeg ja koht \nLaager toimub 17.-19. jaanuaril Tallinnas (Park Inn by Radisson Meritonkonverentsikeskuses\, Toompuiestee 27). Laager algab reede pärastlõunal (kogunemine kell 15.30) ja lõpeb pühapäeva lõunal (kell 14.30). \nKandideerimine \nLaagrisse kandideerimiseks kirjeldage palun oma esialgset projektiideed ja osalemise motivatsiooni hiljemalt 5. jaanuaril kandideerimisvormis: https://forms.office.com/e/NrpVm23Lmh. \nValitud osalejatega võtame ühendust hiljemalt 7. jaanuaril. \nRohkem infot: https://euroopanoored.eu/uudised/alusta-aastat-uute-ideede-elluviimisega-ja-tule-projektikirjutamise-laagrisse/
URL:https://www.teeviit.ee/sundmus/projektikirjutamise-laager/
LOCATION:Park Inn by Radisson Meritonkonverentsikeskus\, Toompuiestee 27\, Tallinn\, Estonia
ATTACH;FMTTYPE=image/png:https://www.teeviit.ee/wp-content/uploads/2024/12/laura-infokirja-formaat-21.png
END:VEVENT
BEGIN:VEVENT
DTSTART;TZID=Europe/Tallinn:20250123T093000
DTEND;TZID=Europe/Tallinn:20250123T110000
DTSTAMP:20260423T000949
CREATED:20250103T071612Z
LAST-MODIFIED:20250103T071612Z
UID:44476-1737624600-1737630000@www.teeviit.ee
SUMMARY:Eesti Töötukassa veebitöötuba "Ettevõtlusega alustamine"
DESCRIPTION:Töötukassa ettevõtlustoetuse osakonna peaspetsialistid viivad läbi infotunni\, kus annavad teavet\, mis on vajalik ja kasulik teada ettevõtlusega alustamisel ja ülevaate töötukassa ettevõtluse alustamise toetuse kohta. \nVeebitöötoas osalemiseks on vajalik internet ja arvuti või nutiseade\, mikrofoni ja veebikaamera olemasolu. Veebiloeng toimub Microsoft Teams keskkonnas. Kohtade arv veebitöötubades on piiratud. \nLisainfo ja registreerumine siin.
URL:https://www.teeviit.ee/sundmus/eesti-tootukassa-veebitootuba-ettevotlusega-alustamine/
LOCATION:Teams
CATEGORIES:Töötuba
ATTACH;FMTTYPE=image/jpeg:https://www.teeviit.ee/wp-content/uploads/2025/01/tootukassa.jpg
END:VEVENT
BEGIN:VEVENT
DTSTART;TZID=Europe/Tallinn:20250128T080000
DTEND;TZID=Europe/Tallinn:20250128T170000
DTSTAMP:20260423T000949
CREATED:20250128T125105Z
LAST-MODIFIED:20250128T125105Z
UID:45677-1738051200-1738083600@www.teeviit.ee
SUMMARY:Tallinna Tervishoiu Kõrgkooli avatud uste päev 2025
DESCRIPTION:Reedel\, 7. märtsil 2025 kell 10-13 toimub Tallinna Tervishoiu Kõrgkooli Tallinna õppehoones (Kännu 67) avatud uste päev ja karjääripäev\, kus kõrgkool tutvustab huvilistele õppimisvõimalusi ning samal ajal saavad kõrgkooli tulevased ja praegused õppurid tutvuda tervishoiusektori asutuste poolt pakutavate praktika- ja karjäärivõimalustega. Samas on karjääripäevale oodatud ka kõik teised huvilised\, et tutvuda nii kõrgkooli kui erinevate tervishoiuasutuste tööga. \nAvatud uste päeval ootavad huvilisi kõrgkooli õenduse õppetool\, meditsiinitehnilise hariduse keskus\, tervisehariduse keskus\, elukestva õppe keskus\, õppeosakond ja kutseõppe osakond. Osaleda saab nii avatud loengutes\, praktikumides ja töötubades kui ühineda ringkäikudega kõrgkooli simulatsioonikeskuses ja erinevates õppelaborites. Avatud uste päevale on oodatud huvilised igas vanuses – lisaks gümnaasiumiõpilastele ka inimesed\, kes mõtlevad eriala- ja elukutsevahetusele või soovivad end tervishoiuvaldkonnas täiendada. \nAvatud uste päeva kava lisandub kodulehele 2025 jaanuaris. \nAvatud uste päeva raames toimuval karjääripäeval on kohal Eesti suurimad tervishoiuvaldkonna tööandjad ja erialaliidud\, kellega huvilised saavad vahetult suhelda ning neilt otse vajalikku teavet saada. \n  \nLisainfo: https://www.ttk.ee/et/avatud-uste-paev
URL:https://www.teeviit.ee/sundmus/tallinna-tervishoiu-korgkooli-avatud-uste-paev-2025/
LOCATION:Tallinna Tervishoiu Kõrgkool\, Kännu 67\, Tallinn\, Harjumaa\, 11441\, Eesti
CATEGORIES:Avatud uste päev
ATTACH;FMTTYPE=image/png:https://www.teeviit.ee/wp-content/uploads/2025/01/banner_avatud_uste_paev_2025_tallinn.png
END:VEVENT
BEGIN:VEVENT
DTSTART;TZID=Europe/Tallinn:20250128T100000
DTEND;TZID=Europe/Tallinn:20250128T130000
DTSTAMP:20260423T000949
CREATED:20250103T071730Z
LAST-MODIFIED:20250103T071730Z
UID:44478-1738058400-1738069200@www.teeviit.ee
SUMMARY:Eesti Töötukassa veebitöötuba "Ettevõtjaks või mitte?" (vene keeles)
DESCRIPTION:Töötoas saad läbi mõelda oma motivatsiooni ja valmisoleku ettevõtlusega alustamiseks\, analüüsida oma tugevusi ja arengukohti ettevõtjana tegutsemist silmas pidades. \nVeebitöötoas osalemiseks on vajalik internet ja arvuti või nutiseade\, mikrofoni ja veebikaamera olemasolu. Veebiloeng toimub Microsoft Teams keskkonnas. Kohtade arv veebitöötubades on piiratud. \nLisainfo ja registreerumine siin.
URL:https://www.teeviit.ee/sundmus/eesti-tootukassa-veebitootuba-ettevotjaks-voi-mitte-vene-keeles/
LOCATION:Teams
CATEGORIES:Töötuba
ATTACH;FMTTYPE=image/jpeg:https://www.teeviit.ee/wp-content/uploads/2025/01/tootukassa.jpg
END:VEVENT
BEGIN:VEVENT
DTSTART;VALUE=DATE:20250130
DTEND;VALUE=DATE:20250131
DTSTAMP:20260423T000949
CREATED:20250127T111524Z
LAST-MODIFIED:20250127T111524Z
UID:45544-1738195200-1738281599@www.teeviit.ee
SUMMARY:Kandideeri Karl Suure auhinnale
DESCRIPTION:30. jaanuarini saab kandideerida Karl Suure auhinnale:  \n16-30 aastased noored\, kellel on käsil Euroopaga seotud projekt\, on oodatud kandideerima 2025. aasta Karl Suure Euroopa noorteauhinnale. Kõiki esitatud projekte hindavad ELi liikmesriikide rahvusžüriid\, kes valivad rahvuslike voorude võitjad 13. märtsil 2025. Kõik rahvuslike voorude võitjad kutsutakse 27. mail 2025 Saksamaal Aachenis toimuvale auhinnatseremooniale. \nKarl Suure noorteauhinna kolm võitjat valitakse 27 projekti hulgast. Parimaks tunnistatud projekt saab auhinnaks 7500 eurot\, paremuselt teine 5000 eurot ja kolmas 2500 eurot. Samuti avaneb kolmel laureaadil võimalus külastada Euroopa Parlamenti Brüsselis või Strasbourgis. \nIga võiduprojekti üks esindaja saab ka koha Schumani praktikaprogrammis.  \nLisainfo ja kandideerimine: https://www.europarl.europa.eu/topics/et/article/20241210STO25922/karl-suure-euroopa-noorteauhind-2025
URL:https://www.teeviit.ee/sundmus/kandideeri-karl-suure-auhinnale/
LOCATION:Veebis
CATEGORIES:Konkurss
ATTACH;FMTTYPE=image/png:https://www.teeviit.ee/wp-content/uploads/2025/01/20250108pht26234_original-1.png
END:VEVENT
BEGIN:VEVENT
DTSTART;TZID=Europe/Tallinn:20250130T100000
DTEND;TZID=Europe/Tallinn:20250130T113000
DTSTAMP:20260423T000949
CREATED:20241230T131256Z
LAST-MODIFIED:20241230T131256Z
UID:44283-1738231200-1738236600@www.teeviit.ee
SUMMARY:Veebiseminar: õppimise teekonna toetamine projektis
DESCRIPTION:Erasmus+ ja Euroopa Solidaarsuskorpuse agentuur kutsub oma noorteprojektide ja noorsootöötajate projektide tegijaid ja projektihuvilisi veebiseminarile 30. jaanuaril 2025 kell 10-11.30. Registreerimine on avatud kuni 28.01.2025. Registreeri end siin. \nOleme märganud\, et õppimise toetamisele ja mõtestamisele pööratakse tihti rohkem tähelepanu alles projekti lõpus. Tegelikult tuleks seda käsitleda kogu projektitsükli vältel\, alustades juba planeerimise faasist. Seminarile on oodatud ka need\, kelle projekt ei ole enam alguses\, sobilikke meetodeid ja ideid pakume igas faasis projektidele. Samuti võib õppimise analüüsimine\, tunnustamine ja õpitu rakendamine tunduda keeruline\, kuid õige lähenemisega saab selle muuta lihtsamaks ja sujuvamaks! \nSeminaril käsitleme: \n\nneli etappi õppimise teekonna toetamisel\nnäited praktilistest meetoditest\n\nOsalema on oodatud kõik need\, kes tegelevad projektide elluviimisega (projektijuhid\, noortevahetuse grupiliidrid\, fassilitaatorid\, noorsootöötajad jne). Sobib nii neile\, kes on varasemalt projekte ellu viinud ja soovivad oma tegevusplaani täiendada kui ka neile\, kes alles sisenevad projektimaailma. Seminar on sobilik järgmistele projektitüüpidele: noortevahetused\, noorte osalusprojektid\, solidaarsusprojektid\, noorsootöötajate õpiränne\, DiscoverEU kaasatuse projektid.\nSeminari ei salvestata. \nSeminari viib läbi coach ja koolitaja Liis Tamman (rohkem infot leiab: https://signicha.com/)\nAgentuuri poolt toetab läbiviimist Maarja Tamm\, küsimustega pöörduge palun: maarja.tamm@harno.ee
URL:https://www.teeviit.ee/sundmus/veebiseminar-oppimise-teekonna-toetamine-projektis/
LOCATION:Veebis
CATEGORIES:veebikohtumine
ATTACH;FMTTYPE=image/png:https://www.teeviit.ee/wp-content/uploads/2024/12/laura-infokirja-formaat-24.png
END:VEVENT
BEGIN:VEVENT
DTSTART;TZID=Europe/Tallinn:20250130T100000
DTEND;TZID=Europe/Tallinn:20250130T153000
DTSTAMP:20260423T000949
CREATED:20250128T103020Z
LAST-MODIFIED:20250128T103020Z
UID:45632-1738231200-1738251000@www.teeviit.ee
SUMMARY:Veebiseminar "Suhtlemis- ja koostööoskused"
DESCRIPTION:Osalema on oodatud 15-29aastased noored.  \nSeminari eesmärk on arendada osalejate oskust tõhusalt suhelda nii suuliselt kui ka kirjalikult ja teha efektiivselt koostööd erinevate inimestega erinevates olukordades saavutades individuaalseid ja ühiseid eesmärke. \nVeebiseminaridel osalemine on kõigile TASUTA. Seminarisari koosneb kaheksast osast. Osaleda on võimalik kõikidel seminaridel või valida osalemiseks oma huvidele ja vajadusetele vastava teemaga seminar(id). Kui Lives osaleda ei saa\, siis registreerunutele on seminarid järele vaadatavad 30 päeva. \nInfo kõikide noorte üldoskuste arendamise veebiseminaride kohta on leitav Eesti Töötukassa lehelt. \nKoolitaja: Elina Siilbek \nSeminarisarja rahastatakse Euroopa Liit taasterahastu NextGenerationEU vahenditest.   \nRegistreerumine: https://minukarjaar.ee/et/sundmused/veebiseminar-suhtlemis-ja-koostoooskused-30-01-2025
URL:https://www.teeviit.ee/sundmus/veebiseminar-suhtlemis-ja-koostoooskused/
LOCATION:Veebis
ATTACH;FMTTYPE=image/jpeg:https://www.teeviit.ee/wp-content/uploads/2025/01/suhtlemis-ja-koostoooskused.jpg
END:VEVENT
BEGIN:VEVENT
DTSTART;VALUE=DATE:20250131
DTEND;VALUE=DATE:20250201
DTSTAMP:20260423T000949
CREATED:20250127T112639Z
LAST-MODIFIED:20250127T112639Z
UID:45550-1738281600-1738367999@www.teeviit.ee
SUMMARY:Kandideeri Euroopa Noorte üritusele vabatahtlikuks (info inglise keeles)
DESCRIPTION:Volunteer at EYE2025 \nThe European Parliamanet has launched a call for volunteers to support the European Youth Event\, the European Parliament event taking place every two years at its seat in Strasbourg\, (France).  \nEYE2025 is giving participants the possibility to take part in person at the European Parliament in Strasbourg on 13-14 June 2025. Volunteers will also be needed on 11 and 12 June. \nWho can apply \n\nAnyone between 18 and 30 years old on the date of EYE2025 (11-12-13-14 June)\, from any nationality w or with a valid residency permit/visa for non-EU citizens.\nAble to communicate in English (B2) and in French (B1)\nWilling to volunteer at least 12 hours during EYE2025\nAble to take part in training sessions\n\nRead more: https://programmes.eurodesk.eu/volunteering#21064-eu \n 
URL:https://www.teeviit.ee/sundmus/kandideeri-euroopa-noorte-uritusele-vabatahtlikuks-info-inglise-keeles/
LOCATION:Veebis
CATEGORIES:Üleskutse
ATTACH;FMTTYPE=image/png:https://www.teeviit.ee/wp-content/uploads/2025/01/volunteers-1.png
END:VEVENT
END:VCALENDAR