BEGIN:VCALENDAR
VERSION:2.0
PRODID:-//Teeviit - ECPv6.15.4//NONSGML v1.0//EN
CALSCALE:GREGORIAN
METHOD:PUBLISH
X-ORIGINAL-URL:https://www.teeviit.ee
X-WR-CALDESC:Events for Teeviit
REFRESH-INTERVAL;VALUE=DURATION:PT1H
X-Robots-Tag:noindex
X-PUBLISHED-TTL:PT1H
BEGIN:VTIMEZONE
TZID:Europe/Tallinn
BEGIN:DAYLIGHT
TZOFFSETFROM:+0200
TZOFFSETTO:+0300
TZNAME:EEST
DTSTART:20240331T010000
END:DAYLIGHT
BEGIN:STANDARD
TZOFFSETFROM:+0300
TZOFFSETTO:+0200
TZNAME:EET
DTSTART:20241027T010000
END:STANDARD
END:VTIMEZONE
BEGIN:VEVENT
DTSTART;TZID=Europe/Tallinn:20241205T100000
DTEND;TZID=Europe/Tallinn:20241205T170000
DTSTAMP:20260423T014017
CREATED:20240821T103446Z
LAST-MODIFIED:20240821T103446Z
UID:40894-1733392800-1733418000@www.teeviit.ee
SUMMARY:Veebiseminar noortele "Aja juhtimine"
DESCRIPTION:Veebiseminar noortele “Aja juhtimine” toimub neljapäeval\, 5. detsembril kell 10 ZOOM´is. Koolitaja on Jakob Gill.  \nSeminari eesmärk on õpetada osalejatel paremini hallata oma aega ja suurendada enda tõhusust analüüsides enda ajakasutust ja ajaraiskajaid ning kasutades erinevaid abivahendeid ja tööriistu aja paremaks planeerimiseks\, prioriteetide seadmiseks ja õigete valikute tegemiseks\, et saavutada eesmärke ning luua paremaid tulemusi. \nVeebiseminarile registreerumine \nVeebiseminaridel osalemine on kõigile TASUTA ning on registreerunutele järele vaadatavad 30 päeva. \nInfo kõikide noorte üldoskuste arendamise veebiseminaride kohta on leitav rubriigist Seminarid \nSeminarisarja rahastatakse Euroopa Liit taasterahastu NextGenerationEU vahenditest. 
URL:https://www.teeviit.ee/sundmus/veebiseminar-noortele-aja-juhtimine/
LOCATION:Veebis
CATEGORIES:veebinar,Koolitus
ATTACH;FMTTYPE=image/png:https://www.teeviit.ee/wp-content/uploads/2024/08/fb_logodega3_uued-oskused-viivad-toomaailmas-edasi.-1.png
END:VEVENT
BEGIN:VEVENT
DTSTART;VALUE=DATE:20241209
DTEND;VALUE=DATE:20241210
DTSTAMP:20260423T014017
CREATED:20241209T111712Z
LAST-MODIFIED:20241209T111712Z
UID:43933-1733702400-1733788799@www.teeviit.ee
SUMMARY:OSALE Taizé Tallinn Euroopa noortekohtumisel
DESCRIPTION:OSALE Taizé Tallinn Euroopa noortekohtumisel 28.12.2024-01.01.2025 ja saa UNUSTAMATU ELAMUS! Oodatud on Eesti noored vanuses 15-35 eluaastat. \n\n\n\n\nRegistreerida saab 9.12.2024 veebilehel: taizetallinn.ee/registreerimisvormid/. \n\nViie päeva jooksul toimub põnev programm ning saab üheskoos laulda\, süüa ning elus oluliste teemade üle arutleda.\nRikkalik valik töötubasid käsitleb teemasid religioonist teaduseni ja poliitikast kunstini.\nEuroopa kohtumiselt saad sõpru üle kogu Euroopa ja suurepärase kogemuse\, mida ka 30 aasta pärast meenutada!\n\n\n\n\n\n\n\n\n\n\n\n\n\n\nRohkem infot: taizetallinn.ee/
URL:https://www.teeviit.ee/sundmus/osale-taize-tallinn-euroopa-noortekohtumisel/
CATEGORIES:Konverents
END:VEVENT
BEGIN:VEVENT
DTSTART;TZID=Europe/Tallinn:20241211T170000
DTEND;TZID=Europe/Tallinn:20241211T180000
DTSTAMP:20260423T014017
CREATED:20241206T114001Z
LAST-MODIFIED:20241206T114212Z
UID:43907-1733936400-1733940000@www.teeviit.ee
SUMMARY:Mine välismaale vabatahtlikuks!
DESCRIPTION:🧳✈️🤩Oled sa kunagi mõelnud kui äge oleks vabatahtlikuks välismaale minna\, aga sa ei tea mida selleks tegema pead või mida see kõik endast üldse kujutab? Täna on sinu õnnepäev\, sest Euroopa Solidaarsuskorpuse vabatahtlik teenistus on just see\, mida otsinud oled!😉 \n📣5. detsembril tähistatakse üleilmset vabatahtlike päeva\, et tuua esile kõik need\, kes oma ajaga panustavad kogukondade ja inimeste heaks. Selle tähistamiseks korraldatakse 11. detsembril kell 17:00-18:00 noortele suunatud virtuaalne infotund „Mine välismaale vabatahtlikuks!“. \n👉🏼Registreeri end osalejaks siin https://form.typeform.com/to/vySozoFN \nInfotunnis saad vastused järgmistele küsimustele:\n✅Miks minna vabatahtlikuks?\n✅Mida vabatahtlik teenistus endast kujutab? Kellele see mõeldud on?\n✅Mida selleks tegema peab\, et vabatahtlikuks minna?\n✅Milliseid erinevaid vabatahtliku teenistuse võimalusi Euroopa Solidaarsuskorpus pakub?\nInfotunnis saad ka kuulda vabatahtlikul teenistusel käinud noore kogemuslugu ja esitada talle küsimusi! \n👉🏼Soojendusharjutusena tutvu enne infotundi tulemist vabatahtliku teenistuste olemuse ja võimalustega meie kodulehel.\nhttps://euroopanoored.eu/…/noortele/vabatahtlik-teenistus/\n👉🏼Kokkuvõtliku ülevaate saad ka uudisest „Mine vabatahlikuks ja avasta maailma!”\nhttps://euroopanoored.eu/…/mine-vabatahtlikuks-ja…/\n👉🏼Teiste vabatahtlike kogemuslugudega saad tutvuda siin.\nhttps://euroopanoored.eu/blogi/?tag=vabatahtlik-teenistus\n📌Lisainfo ja küsimuste korral pöördu Euroopa Solidaarsuskorpuse programmijuhi poole: \nAnni Tetsmann\, anni.tetsmann@harno.ee.
URL:https://www.teeviit.ee/sundmus/mine-valismaale-vabatahtlikuks/
LOCATION:Veebis
CATEGORIES:Infotund
END:VEVENT
END:VCALENDAR