BEGIN:VCALENDAR
VERSION:2.0
PRODID:-//Teeviit - ECPv6.15.4//NONSGML v1.0//EN
CALSCALE:GREGORIAN
METHOD:PUBLISH
X-ORIGINAL-URL:https://www.teeviit.ee
X-WR-CALDESC:Events for Teeviit
REFRESH-INTERVAL;VALUE=DURATION:PT1H
X-Robots-Tag:noindex
X-PUBLISHED-TTL:PT1H
BEGIN:VTIMEZONE
TZID:Europe/Tallinn
BEGIN:DAYLIGHT
TZOFFSETFROM:+0200
TZOFFSETTO:+0300
TZNAME:EEST
DTSTART:20240331T010000
END:DAYLIGHT
BEGIN:STANDARD
TZOFFSETFROM:+0300
TZOFFSETTO:+0200
TZNAME:EET
DTSTART:20241027T010000
END:STANDARD
END:VTIMEZONE
BEGIN:VEVENT
DTSTART;VALUE=DATE:20241001
DTEND;VALUE=DATE:20241113
DTSTAMP:20260423T031223
CREATED:20241004T060801Z
LAST-MODIFIED:20241004T061623Z
UID:42583-1727740800-1731455999@www.teeviit.ee
SUMMARY:Vasta Eurodeski rahvusvahelise noorteinfo küsitlusele ja võida auhind
DESCRIPTION:Kas oled kunagi tundnud\, et välismaal õppimise\, vabatahtliku töö\, õppimise või töötamise kohta on info leidmine keeruline või pettumust tekitav? Või soovid\, et keegi tegelikult kuulaks\, mida noored vajavad? Vasta kuni 12. november 2024 küsitlusele ja aita kaasa rahvusvahelise noorteinfo arendamisele.  \nRahvsuvahelise noorteinfo võrgustik Euridesk kutsub 13-35aaastaseid osalema küsitluses\, et mõista noorte infovajadusi ja -harjumusi\, näiteks milliseid kanaleid kasutatakse\, millist infot otsitakse ja kelle poole pöörduakse nõu saamiseks. \nKüsimustikus tähendab “õpirände kogemus” mis tahes õppimist\, koolitust või töökogemust välisriigis. See võib tähendada ülikooli semestrit välismaal\, osalemist seminaril või koolitusel\, noortevahetust või vabatahtliku töö programmi välismaal või töötamist teises riigis! \nKüsitlusele vastamine aitab kaasa rahvusvahelise noorteinfo arendamisele\, et noorteinfoteenused oleksid kättesaadavamad ja kasutajasõbralikumad. \nKüsitluses saab osaleda\, kui: \n\nSa oled vanuses 13 kuni 35 ja\,\nElad Euroopa Liidus\, Islandil\, Liechtensteinis\, Norras\, Põhja-Makedoonias\, Türgis\, Serbias\, Šveitsis\, Gruusias või Ukrainas.\n\nKüsitlusele saab vastata 1. oktoobrist 12. novembrini 2024 aadressil: survey.eurodesk.eu/et/. \nKüsitlus on tõlgitud eesti keelde tehisintellekti abil ja tõlgitud tekst ei pruugi olla täiuslik. \nKüsitluse täitmine võtab aega kuni 30 minutit ja igal nädalal valitakse juhuslikult välja üks osaleja\, kes võidab ühe vautcheri väärtuses 50€ vautšeri ! Samuti loositakse vastajate vahel välja iga nädal nännikoti\, mis jõuab võitjani pakiatuomadi kaudu. \nAllikas: Erasmus+ ja Euroopa Solidaarsuskorpuse agentuuri noorteprogrammide keskuse veebileht\nKaanepilt: Unsplash+ (Getty Images)
URL:https://www.teeviit.ee/sundmus/vasta-eurodeski-rahvusvahelise-noorteinfo-kusitlusele-ja-voida-auhind/
CATEGORIES:küsitlus
ATTACH;FMTTYPE=image/jpeg:https://www.teeviit.ee/wp-content/uploads/2024/10/getty-images-9v3epian2ps-unsplash-scaled.jpg
END:VEVENT
BEGIN:VEVENT
DTSTART;VALUE=DATE:20241106
DTEND;VALUE=DATE:20241201
DTSTAMP:20260423T031223
CREATED:20241106T132428Z
LAST-MODIFIED:20241106T132538Z
UID:43465-1730851200-1733011199@www.teeviit.ee
SUMMARY:Lastekaitse Liidu loovkonkurss 2024
DESCRIPTION:Eesti Lastekaitse Liit kutsub lapsi ja noori osalema loovkonkursil\, mis tähistab ÜRO lapse õiguste konventsiooni 35. aastapäeva ning juhib tähelepanu artiklile 12 – lapsel on õigus avaldada oma arvamust. \nLaste ja noorte töid oodatakse joonistades või kirjalikult vastavalt vanuserühmadele: \n\nLasteaia vanuserühmalt ja 1.-3. klassi õpilastelt joonistusi teemal “Kellele ma kingiksin eeskuju õhupalli?“\n4.-12. klassi õpilastelt esseesid teemal  „Kui ma oleksin täiskasvanu…“\n\nLaekunud töid tunnustatakse auhindadega ja silmapaistvamad tööd avaldatakse ka Märka Last veebiportaalis. \nLoovkonkurssil osalemiseks ootame töid elektroonilisel kujul e-posti aadressile konkurss@lastekaitseliit.ee  hiljemalt 30. novembriks 2024. \nTäpsed konkursi tingimused ja info SIIN.
URL:https://www.teeviit.ee/sundmus/lastekaitse-liidu-loovkonkurss-2024/
CATEGORIES:Konkurss
ATTACH;FMTTYPE=image/jpeg:https://www.teeviit.ee/wp-content/uploads/2024/11/loovkonkurss.jpg
END:VEVENT
BEGIN:VEVENT
DTSTART;TZID=Europe/Tallinn:20241107T100000
DTEND;TZID=Europe/Tallinn:20241107T170000
DTSTAMP:20260423T031223
CREATED:20240821T103212Z
LAST-MODIFIED:20240821T103212Z
UID:40890-1730973600-1730998800@www.teeviit.ee
SUMMARY:Veebiseminar noortele "Roheoskused"
DESCRIPTION:Veebiseminar noortele “Roheoskused” toimub neljapäeval 7. novembril kell 10 Zoom´is. Koolitaja on Anneli Ohvril. \nSeminari eesmärk on suurendada osalejate teadlikkust ja teadmisi keskkonnaalastes probleemidest ja väljakutsetest ja nende mõjust ühiskonnale ja majandusele\, sh ringmajandusest ning pakkuda praktilisi lahendusi\, kuidas vähendada negatiivset keskkonnamõju\, valida keskkonnasõbralike alternatiive ja tuvastada rohepesu. \nVeebiseminarile registreerumine \nVeebiseminaridel osalemine on kõigile TASUTA ning on registreerunutele järele vaadatavad 30 päeva. \nInfo kõikide noorte üldoskuste arendamise veebiseminaride kohta on leitav rubriigist Seminarid \nSeminarisarja rahastatakse Euroopa Liit taasterahastu NextGenerationEU vahenditest.
URL:https://www.teeviit.ee/sundmus/veebiseminar-noortele-roheoskused/
LOCATION:Veebis
CATEGORIES:Koolitus,veebinar
ATTACH;FMTTYPE=image/png:https://www.teeviit.ee/wp-content/uploads/2024/08/fb_logodega3_uued-oskused-viivad-toomaailmas-edasi.-1.png
END:VEVENT
BEGIN:VEVENT
DTSTART;VALUE=DATE:20241111
DTEND;VALUE=DATE:20241118
DTSTAMP:20260423T031223
CREATED:20241105T120608Z
LAST-MODIFIED:20241105T120608Z
UID:43424-1731283200-1731887999@www.teeviit.ee
SUMMARY:Üle-eestiline noorsootöö nädal
DESCRIPTION:Üle-eestiline noorsootöö nädal “Erinevus rikastab” toimub 11.-17.11.2024. Sel aastal on nädala fookuses teema\, mis puudutab meid kõiki – kultuuririkkuse ja mitmekesisuse väärtustamine. \nHaridus- ja Noorteamet kutsub teid üheskoos noorsootöö nädalat tähistama! Seda saad teha nii: \n\nKorralda nädala raames sündmus ja registreeri see noorsootöö nädala portaali sündmuste kalendris.\nTunnusta noortega töötavat spetsialisti noorsootöö nädala portaalis asuval digitaalsel tunnustustahvlil.\nVaheta oma osaluskogu või noorteühenduse Facebooki kaanepildi ja anna sellega hoogu noorsootöö nädala tegevustele. Kaanepilt on saadaval eesti keeles siin ja vene keeles siin.\nVaata ägedat noorte LIVE-saadet „Erinevus rikastab!“\, mis toimub 14.11.2024 kell 16.00–18.00.
URL:https://www.teeviit.ee/sundmus/ule-eestiline-noorsootoo-nadal-2/
CATEGORIES:teemanädal
ATTACH;FMTTYPE=image/png:https://www.teeviit.ee/wp-content/uploads/2024/11/nt_nadal_pohikujundus.png
END:VEVENT
BEGIN:VEVENT
DTSTART;TZID=Europe/Tallinn:20241114T160000
DTEND;TZID=Europe/Tallinn:20241114T180000
DTSTAMP:20260423T031223
CREATED:20241105T121852Z
LAST-MODIFIED:20241113T152355Z
UID:43427-1731600000-1731607200@www.teeviit.ee
SUMMARY:LIVE veebisündmus "Erinevus rikastab"
DESCRIPTION:Kutsume noori osalema LIVE veebisündmusele “Erinevus rikastab”\, mis toimub 14. novembril kell 16:00–18:00.  \nLIVE’l jagavad inspireerivad noored oma kogemusi kultuuridevahelisest õppimisest\, kaasatusest ja enesearengust. \nSaatejuht: Arija Helmvee\nKülalised: Kaspar Wang\, Greta Orehhova\,  Yasmyn ja Sten Talivee. \nVaata LIVE saadet siin
URL:https://www.teeviit.ee/sundmus/live-veebisundmus-erinevus-rikastab/
CATEGORIES:veebikohtumine
ATTACH;FMTTYPE=image/png:https://www.teeviit.ee/wp-content/uploads/2024/11/banner-land-1.png
END:VEVENT
BEGIN:VEVENT
DTSTART;TZID=Europe/Tallinn:20241121T100000
DTEND;TZID=Europe/Tallinn:20241121T170000
DTSTAMP:20260423T031223
CREATED:20240821T103326Z
LAST-MODIFIED:20240821T103326Z
UID:40892-1732183200-1732208400@www.teeviit.ee
SUMMARY:Veebiseminar noortele "Rahatarkus"
DESCRIPTION:Veebiseminar noortele “Rahatarkus” toimub neljapäeval\, 21. novembril kell 10 ZOOM´is. Koolitaja on Jekaterina Tint.  \nSeminari eesmärk on arendada osalejatele vajalikud teadmised ja oskused\, et nad saaksid teha teadlikke otsuseid oma rahaasjades ning juhtida oma rahalisi ressursse paremini ja tulemuslikumalt. \nVeebiseminarile registreerumine \nVeebiseminaridel osalemine on kõigile TASUTA ning on registreerunutele järele vaadatavad 30 päeva. \nInfo kõikide noorte üldoskuste arendamise veebiseminaride kohta on leitav rubriigist Seminarid \nSeminarisarja rahastatakse Euroopa Liit taasterahastu NextGenerationEU vahenditest. 
URL:https://www.teeviit.ee/sundmus/veebiseminar-noortele-rahatarkus/
LOCATION:Veebis
CATEGORIES:Koolitus,veebinar
ATTACH;FMTTYPE=image/png:https://www.teeviit.ee/wp-content/uploads/2024/08/fb_logodega3_uued-oskused-viivad-toomaailmas-edasi.-1.png
END:VEVENT
BEGIN:VEVENT
DTSTART;TZID=Europe/Tallinn:20241123T140000
DTEND;TZID=Europe/Tallinn:20241123T170000
DTSTAMP:20260423T031223
CREATED:20241113T090107Z
LAST-MODIFIED:20241113T090107Z
UID:43624-1732370400-1732381200@www.teeviit.ee
SUMMARY:Shokkin Meet&Play Fair
DESCRIPTION:Our Meet & Play adventure is coming to an end\, and we want to celebrate with you! Come and play the board games and escape game designed by young people like you. Free snacks\, a cool atmosphere and a giveaway at the end are waiting for you! \n\n🟡 Language: Easy English (no worries! we also speak Estonian\, Russian\, Ukrainian…)\n🟡 Date and time: November 23\, 2024 | 14:00-17:00 | Kesklinna Noortekeskus (Raua\, 23)\n🟡 Register anytime before 15.11.2024 here
URL:https://www.teeviit.ee/sundmus/shokkin-meetplay-fair/
LOCATION:Kesklinna Noortekeskus\, Raua 23\, Tallinn\, Harjumaa\, 10124\, Estonia
CATEGORIES:Muu
ATTACH;FMTTYPE=image/png:https://www.teeviit.ee/wp-content/uploads/2024/11/2c59fece-f6c8-fc69-2c4d-0f0d7d615123.png
ORGANIZER;CN="Shokkin Group Estonia":MAILTO:hello@shokkin.org
END:VEVENT
END:VCALENDAR