BEGIN:VCALENDAR
VERSION:2.0
PRODID:-//Teeviit - ECPv6.15.4//NONSGML v1.0//EN
CALSCALE:GREGORIAN
METHOD:PUBLISH
X-WR-CALNAME:Teeviit
X-ORIGINAL-URL:https://www.teeviit.ee
X-WR-CALDESC:Events for Teeviit
REFRESH-INTERVAL;VALUE=DURATION:PT1H
X-Robots-Tag:noindex
X-PUBLISHED-TTL:PT1H
BEGIN:VTIMEZONE
TZID:Europe/Tallinn
BEGIN:DAYLIGHT
TZOFFSETFROM:+0200
TZOFFSETTO:+0300
TZNAME:EEST
DTSTART:20240331T010000
END:DAYLIGHT
BEGIN:STANDARD
TZOFFSETFROM:+0300
TZOFFSETTO:+0200
TZNAME:EET
DTSTART:20241027T010000
END:STANDARD
END:VTIMEZONE
BEGIN:VEVENT
DTSTART;TZID=Europe/Tallinn:20240808T150000
DTEND;TZID=Europe/Tallinn:20240808T220000
DTSTAMP:20260423T094002
CREATED:20240730T125145Z
LAST-MODIFIED:20240730T125145Z
UID:40604-1723129200-1723154400@www.teeviit.ee
SUMMARY:Lääneranna Noortepäev
DESCRIPTION:Lääneranna noortepäev tuleb taas!\nSellel korral veidi teistmoodi – nimelt oleme otsustanud\, et sellel aastal toimub noortepäev 8.augustil hoopiski Virtsu pargis.\nPäev tõotab tulla põnev – ala avatakse kell 15:00 ning mõnusat tantsumuusikat mängib kuni õhtuni DJ Andrus Pirso. Päeva jooksul on võimalik veel hüpata batuudil\, jäädvustada endast vahvaid pilte photoboothis\, mängida lõbusaid mänge Brain Gamesiga\, minna põgenemistuppa jpm.Kell 20:30 astub lavale peaesineja\, kelleks sellel aastal on muusik Karl Killing.\nPäev lõpeb kell 22:00.\nBussiinfo noortele tuleb jooksvalt!\nKohtume Noortepäeval Virtsus!!!\n\nVaata rohkem infot: Lääneranna Noortepäev
URL:https://www.teeviit.ee/sundmus/laaneranna-noortepaev/
LOCATION:Virtsu park
CATEGORIES:Festival
ATTACH;FMTTYPE=image/jpeg:https://www.teeviit.ee/wp-content/uploads/2024/07/laaneranna.jpg
END:VEVENT
BEGIN:VEVENT
DTSTART;TZID=Europe/Tallinn:20240809T120000
DTEND;TZID=Europe/Tallinn:20240810T233000
DTSTAMP:20260423T094002
CREATED:20240617T092454Z
LAST-MODIFIED:20240617T092454Z
UID:38721-1723204800-1723332600@www.teeviit.ee
SUMMARY:Arvamusfestival 2024
DESCRIPTION: XII Arvamusfestival toimub 9.-10. augustil Paide Vallimäel! \n\nArvamusfestival on kohtumispaik\, kus saab leida uusi ideid\, vaatenurki\, seisukohti ja mõttekaaslasi ning ühiselt mõnusalt aega veeta.\n\nKahe päeva jooksul toimub üle 180 põneva arutelu\, milles osalevad Eestist ja maailmast hoolivad inimesed erinevatest kogukondadest. Tasakaaluka arutelu abil luuakse paremat arusaamist iseendast\, üksteisest ja maailmast.\n\nLisaks saab Arvamusfestivalil nautida mahukat kultuuriprogrammi\, mille raames astuvad muuhulgas üles ka armastatud Eesti artistid.\n\n 9.-10. august 2024 Paide Vallimägi Festival on külastajatele tasuta https://arvamusfestival.ee/
URL:https://www.teeviit.ee/sundmus/arvamusfestival-2024/
LOCATION:Paide Vallimägi\, Paide vallimägi\,\, Paide\, 72713\, Eesti
CATEGORIES:Festival
ATTACH;FMTTYPE=image/jpeg:https://www.teeviit.ee/wp-content/uploads/2024/06/af2024.jpg
ORGANIZER;CN="MT%C3%9C Arvamusfestival":MAILTO:kristi.tirmaste@arvamusfestival.ee
END:VEVENT
BEGIN:VEVENT
DTSTART;VALUE=DATE:20240812
DTEND;VALUE=DATE:20240818
DTSTAMP:20260423T094002
CREATED:20240701T091203Z
LAST-MODIFIED:20240701T091203Z
UID:39723-1723420800-1723939199@www.teeviit.ee
SUMMARY:Tartu Noortepäevad
DESCRIPTION:Kas teadsid\, et 12. augustil tähistatakse rahvusvahelist noortepäeva? Just nii see on ning sel puhul lööme ka Tartus peo püsti! 🎉 \nSeekordne Noortepäev tuleb eriti maagiline\, sest sündmus on alguseks noorte festivalile mis toimub 12-17 august. See noortefestival võtab endasse kõik võimalikud kunstiliigid\, sülitades need publikule ette näitamiseks. Fookuses on just noored ja nende seotus kunstis. \nSul on võimalik…\n🔮 Tutvuda erinevate kunstidega\n🔮 leida sündmusi salapärastest kohtadest\n🔮 Kogeda erinevate riikide kultuuri \nTule sina ka!\nÜritust korraldavad Tartu 2024 Extended noored.\nSündmust toetab Tartu Noorsootöö keskus. \nKui soovid kehakinnitust või vajad öömaja\, vaata Tartu 2024 külalislahkuse võrgustiku liikmete pakkumisi: https://tartu2024.ee/soovitused-tartulinn
URL:https://www.teeviit.ee/sundmus/tartu-noortepaevad/
CATEGORIES:Festival
ORGANIZER;CN="Tartu 2024 Extended":MAILTO:angela.ader@tartu2024.ee
END:VEVENT
BEGIN:VEVENT
DTSTART;TZID=Europe/Tallinn:20240812T120000
DTEND;TZID=Europe/Tallinn:20240812T210000
DTSTAMP:20260423T094003
CREATED:20240805T103858Z
LAST-MODIFIED:20240805T104428Z
UID:40646-1723464000-1723496400@www.teeviit.ee
SUMMARY:Noortefestival "ARVAMUS AVAB UKSI"
DESCRIPTION:Noortefestival “ARVAMUS AVAB UKSI” tähistab 12.augustil rahvusvahelist noortepäeva suurejoonelisemalt kui seda on varasemalt tehtud. \nViiratsis ootab SIND Perepargis mitmekülgne programm\, kus saad tegevustes osaleda kell 12.0-18.00:\n⚽️sportlikest tegevustest (sumo\, parkour\, pamperpallid\, inimkabe\, hiiglaslik jenga)\n📚elavast raamatukogust\, kust saad laenutada PÄRIS inimesi\, raamaturiiulist võib leida näiteks vallavanema\, Viljandi vallavolikogu esimehe Mait Allase\, Sekspositiivi\, rahatarkur Miljonineiu ja mitmeid teisi üllatavaid elavaid raamatuid!\n🙏vaimse tervise alal saate mõtteid rahustada mandala töötoas ning kirjutada kõik südamelt ära “Südamekirjade” aktsioonis\n🌮toiduala kostitab hea ja paremaga – saab nii pannkooke\, jäätist\, sushit kui ka tänavatoitu\, võta kaasa taskuraha (sobib nii sularaha kui kaardimakse)\nViiratsi Laululaval algab programm kell 18.00:\n🤓kell 18.00 toimub noorte ja otsustajate vaheline arutelu “Kas ka täiskasvanuid on võimalik õpetada noori päriselt kuulama?”. Arutlema tulevad Viljandi valla ja Viljandi linna noortevolikogude noored ja volikogude esimehed.\n🎤kell 19.00-21.00 paneb festivalile punkti INGER & BÄND. \nKui soovid festivalile tulla stiilselt\, kasuta selleks festivalirongi\, mis sõidab nii Viljandist Viiratsisse kui viib sind ka hiljem festivalilt koju. Festivalile pääsed Viljandist Uku keskuse bussipeatusest. Tagasi koju saad Viiratsi koolimaja eest\, astu lihtsalt tasuta ratastel rongile.\nNii festivalipääse kui rongipilet on täiesti tasuta! \nKui soovid festivalile saabudes kogeda eriti sooja vastuvõttu\, soeta endale Fienta keskkonnast varajase tärkaja tasuta pilet\, mis tagab sulle festivalile saabudes üllatuse ja osaled loosis\, mis toimub õhtuse kontserdi vahepausi ajal. \nPS! Festivalipäeval kohapeal loosipileteid soetada ei saa.\nStay tuned! Jooksvat informatsiooni lisandub kuni festivali alguseni. \nNoortefestival “Arvamus avab uksi” on osa Erasmus+ ja Euroopa Solidaarsuskorpuse osalusprojektist\, mis on kaasrahastatud Euroopa Liidu poolt. Septebris kohtume festivalijärgselt maailmakohvikutes Viljandi valla koolides! \nFestivali korraldavad Viljandi valla noortekeskus\, Viljandi valla noortevolikogu ja Viljandi valla noored.\nKontakt: Liis Särg (Viljandi valla noortekeskuse juht) 5330 6363
URL:https://www.teeviit.ee/sundmus/noortefestival-arvamus-avab-uksi/
LOCATION:Viiratsi Perepark
CATEGORIES:Festival
ATTACH;FMTTYPE=image/png:https://www.teeviit.ee/wp-content/uploads/2024/08/festivali-plakat-a3-2.png
END:VEVENT
BEGIN:VEVENT
DTSTART;TZID=Europe/Tallinn:20240812T150000
DTEND;TZID=Europe/Tallinn:20240812T220000
DTSTAMP:20260423T094003
CREATED:20240730T130402Z
LAST-MODIFIED:20240730T130402Z
UID:40611-1723474800-1723500000@www.teeviit.ee
SUMMARY:Põlva valla noortepäev
DESCRIPTION:Põlva valla noortepäeva 12. augustil 2024. \nRohkem infot saad oma piirkonna (Põlva valla) noorsootöötajalt.
URL:https://www.teeviit.ee/sundmus/polva-valla-noortepaev/
LOCATION:Vastse-Kuuste Noortekeskus
CATEGORIES:Festival
ATTACH;FMTTYPE=image/jpeg:https://www.teeviit.ee/wp-content/uploads/2024/07/polva-valla.jpg
END:VEVENT
BEGIN:VEVENT
DTSTART;VALUE=DATE:20240822
DTEND;VALUE=DATE:20240825
DTSTAMP:20260423T094003
CREATED:20240726T041607Z
LAST-MODIFIED:20240726T041607Z
UID:40577-1724284800-1724543999@www.teeviit.ee
SUMMARY:SUVEKOOL: meediakirjaoskus ja kogukonna vastupanuvõime
DESCRIPTION:Suvekooli peamine eesmärk on suurendada teadmisi ja oskusi meediapädevuse\, digitaalse aktivismi ja vastupanuvõime kohta ning edendada arutelu teemal kuidas sotsiaalmeedia ja tehisintellektuaalsus mõjutavad õpetajaid\, noori ja õppeprotsessi.\n\nSuvekooli oodatakse: õpetajad\, vabaühenduste liikmed\, kogukonna liidrid\, ametnikud ja noored (peamiselt Ida-Virumaalt ja Harjumaalt\, kuid avatud osalemiseks ka teistest piirkondadest). Registreeruda saab kuni 20. august 2024 kell 23.59. Osalustasu: 25 eur täiskavanud\, 15 eur (noored ja pensionärid).\n\nLisainfo ja registreerumine: \n\nSuvekooli programm\nPraktiline info\nRegistreerumisvorm\n\nSuvekooli põhiteemad: \n• Desinformatsioon\, propaganda\, eraelu puutumatus\, infoturve ja meediakultuur\n• Meediakriitika (kriitiline mõtlemine\, allikate analüüs\, allikad\, meedia ja teabe analüüs.\n• Meediatootmine (blogi kirjutamine\, artikli\, video\, digivahendi loomine\n• Meediakäitumise harjumused (võime tuvastada ja parandada sõltuvust tekitava käitumise mustreid)\n• Demokraatlikud väärtused (osalemine ja sõnavabadus\n• Tehisintellekt ja kommunikatsioon\nKorralduslik informatsioon ja registreerimine\n• Küsimused ja lisainfo: Vassili Golikov\, tel. 55602993 / 55550303/info@sscw.ee \n 
URL:https://www.teeviit.ee/sundmus/suvekool-meediakirjaoskus-ja-kogukonna-vastupanuvoime/
LOCATION:Ranna 12\, Toila\, 41702 Ida-Viru maakond\, Ranna 12\, Toila\, Ida-Viru maakond\, 41702\, Eesti
CATEGORIES:Suvekool
ATTACH;FMTTYPE=image/jpeg:https://www.teeviit.ee/wp-content/uploads/2024/07/meedia-summer-school-official-2-vers-scaled-1.jpg
ORGANIZER;CN="SSCWI%2C Kogukonna Arengu %C3%9Ching%2C Eesti NATO %C3%9Ching%2C MT%C3%9C Tuleviku Meedia":MAILTO:info@sscw.ee
END:VEVENT
BEGIN:VEVENT
DTSTART;TZID=Europe/Tallinn:20240823T130000
DTEND;TZID=Europe/Tallinn:20240823T190000
DTSTAMP:20260423T094003
CREATED:20240730T131610Z
LAST-MODIFIED:20240730T132411Z
UID:40617-1724418000-1724439600@www.teeviit.ee
SUMMARY:Tartu valla Noortepäev
DESCRIPTION: Tule tähistama Tartu Valla Noortepäeva! \n23. augustil kell 13.00\n\n Lähte kooli väikese maja taga\nKutsume kõiki noori ja nende peresid osa saama meeleolukast päevast\, mis on täis lõbusaid tegevusi\, huvitavaid töötubasid ja mõnusat seltskonda! Tule ja naudi toredat päeva koos sõprade ning uute tuttavatega. Meie programm pakub midagi igale maitsele – alates koogisöömisest ja teatevõistlustest kuni töötubade ja õhtuse kontserdini välja. Kasuta võimalust osaleda ja võid võita põnevaid auhindu loosimises!\n\n\nPäevakava:\n13.00 – Avamine ja kõne vallavanemalt  ja registreerimine loosimisele 13.15 – Koogisöömine 13.30 – 14.30 – Teatevõistlus 13.50 – 15.30 – Töötoad 15.00 – Meelelahutus 16.00 – Lõuna (noortele tasuta) 16.30 – 17.30 – Paneeldiskussioon 18.00 – Kontsert Terve päev – Laat \n\n\nTöötoad:\nPäeva jooksul toimuvad mitmed põnevad töötoad\, kus noored saavad osaleda erinevates tegevustes:\n– Kunst – loominguline töötuba\, kus saab proovida erinevaid kunstitehnikaid ja luua omanäolisi teoseid. – Löökpillid – muusikaline töötuba\, kus saab õppida erinevaid löökpille mängima ja rütme tundma. – Sokkide disainimine – võimalus disainida omale unikaalsed sokid kasutades tekstiilmarkereid. \n\nNeli töötuba jäävad üllatuseks\, nii et tule ja avasta ise\, mis põnevat meid ootab! \nEnne paneeldiskussiooni toimub lõbus bingo mäng\, kus on võimalus võita põnevaid auhindu. \n\n\nPaneeldiskussioon:\nTeema: “Vaimse tervise teenused ja tugivõimalused”Osalejad: Tartu Ülikooli psühholoogia instituudi tudengid ja psühholoogid.Diskussioonis käsitletakse vaimse tervise teenuste ja tugivõimaluste olulisust ning jagatakse praktilisi nõuandeid ja kogemusi. \nKasuta võimalust osa saada sellest toredast päevast! Tule ja veeda üks unustamatu päev koos meiega!
URL:https://www.teeviit.ee/sundmus/tartu-valla-noortepaev/
LOCATION:Lähte kooli väikese maja taga
CATEGORIES:Festival
ATTACH;FMTTYPE=image/jpeg:https://www.teeviit.ee/wp-content/uploads/2024/07/lahte.jpg
END:VEVENT
BEGIN:VEVENT
DTSTART;TZID=Europe/Tallinn:20240831T120000
DTEND;TZID=Europe/Tallinn:20240831T160000
DTSTAMP:20260423T094003
CREATED:20240506T143902Z
LAST-MODIFIED:20240506T143902Z
UID:37694-1725105600-1725120000@www.teeviit.ee
SUMMARY:Suur huviringide päev Mustamäe keskuses
DESCRIPTION:Oled rõõmuga oodatud SUURELE HUVIRINGIDE PÄEVALE Mustamäe Keskusesse 31. august kell 12-16 \n\nTegu on lastele ja noortele suunatud huvitegevusi tutvustava sündmusega\, kus kohapeal saab tutvuda huvikoolide ja 2024/2025. õppeaastal toimuvate ringide ning treeningutega.\nLisaks saab osaleda erinevates näidistundides ja harjutada kätt loovtegevustes.Kasuta head võimalust ise järele proovida ning põnevate aladega tutvust teha! Lisaks ootavad lapsi põnevad üllatused ja esinemised.\n\n Kui oled huviringi esindaja ja soovid saada rohkem infot osalemise kohta\, siis palun kirjuta: huviring@domino.ee või helista 529 2635. Huviringile osalemine on tasuta!Registreerumiseks mine: https://forms.gle/s91zcvXuxoWsFeKY7
URL:https://www.teeviit.ee/sundmus/suur-huviringide-paev-mustamae-keskuses/
LOCATION:Mustamäe keskus\, A. H. Tammsaare tee 104A\, 12918 Tallinn\, Eesti
CATEGORIES:Mess
ATTACH;FMTTYPE=image/jpeg:https://www.teeviit.ee/wp-content/uploads/2024/05/huviringide-paev-31.08.-mustamaekeskus.jpg
END:VEVENT
END:VCALENDAR