BEGIN:VCALENDAR
VERSION:2.0
PRODID:-//Teeviit - ECPv6.15.4//NONSGML v1.0//EN
CALSCALE:GREGORIAN
METHOD:PUBLISH
X-WR-CALNAME:Teeviit
X-ORIGINAL-URL:https://www.teeviit.ee
X-WR-CALDESC:Events for Teeviit
REFRESH-INTERVAL;VALUE=DURATION:PT1H
X-Robots-Tag:noindex
X-PUBLISHED-TTL:PT1H
BEGIN:VTIMEZONE
TZID:Europe/Tallinn
BEGIN:DAYLIGHT
TZOFFSETFROM:+0200
TZOFFSETTO:+0300
TZNAME:EEST
DTSTART:20230326T010000
END:DAYLIGHT
BEGIN:STANDARD
TZOFFSETFROM:+0300
TZOFFSETTO:+0200
TZNAME:EET
DTSTART:20231029T010000
END:STANDARD
BEGIN:DAYLIGHT
TZOFFSETFROM:+0200
TZOFFSETTO:+0300
TZNAME:EEST
DTSTART:20240331T010000
END:DAYLIGHT
BEGIN:STANDARD
TZOFFSETFROM:+0300
TZOFFSETTO:+0200
TZNAME:EET
DTSTART:20241027T010000
END:STANDARD
END:VTIMEZONE
BEGIN:VTIMEZONE
TZID:Europe/Helsinki
BEGIN:DAYLIGHT
TZOFFSETFROM:+0200
TZOFFSETTO:+0300
TZNAME:EEST
DTSTART:20240331T010000
END:DAYLIGHT
BEGIN:STANDARD
TZOFFSETFROM:+0300
TZOFFSETTO:+0200
TZNAME:EET
DTSTART:20241027T010000
END:STANDARD
END:VTIMEZONE
BEGIN:VEVENT
DTSTART;VALUE=DATE:20231228
DTEND;VALUE=DATE:20240212
DTSTAMP:20260423T174755
CREATED:20240128T164645Z
LAST-MODIFIED:20240128T164645Z
UID:34417-1703721600-1707695999@www.teeviit.ee
SUMMARY:Videokonkurss „Huviharidus trendide maailmas“
DESCRIPTION:Eesti Huvikoolide Liit kutsub 7-19aastaseid huvikooli õpilasi osalema noorte videokonkursil “Huviharidus trendide maailmas”. Kasuta suurepärast võimalust loominguliselt näidata maailmale\, nii noorele kui vanale\, mida Sina mõtled. \n\n\n\n\nNendele küsimustele otsimegi just noorte endi abiga vastuseid:\n\n\n\n\n\nKas huviharidus saab trendide maailmas hästi hakkama?\nKas huviharidus peaks rohkem käima kaasas uuendustega või hoidma just stabiilset joont?\nKuidas saaks trende kasutada huvihariduse edendamiseks ning milliseid ohte peidavad endas kiired uuendused haridusmaastikul?\nKuidas mõjutab internet ja sotsiaalmeedia huviharidust?\nTrendid vs. traditsioonid?\n\n\n\n\n\n* TREND tähendab mingisugust suunda\, kallakut\, suunitlust või moodi. Seda iseloomustab lühiajalisus\, pidev muutumine ning populaarsus. Erinevaid trende võib kohata moes\, sotsiaalmeedias\, majanduses ja kultuuris. \n\n\n\n\nKuidas osaleda?\n\n\n\n\n1. Loo lühivideo:\nTee video\, milles vastad küsimustele\, kuidas saab hakkama huviharidus pidevalt muutuvas maailmas või mis on selle eelised ja/või puudused. Kasuta või näita videos midagi\, mis sind inspireerib või milles oled kirglik. \n2. Laadi video üles:\nJaga oma videot meiega hiljemalt 11. veebruariks 2024 \n3. Jälgi tulemusi:\nParimad videod valitakse välja rahvahääletuse teel ning võitjad kuulutatakse välja 25. veebruaril 2024. Ootame põnevusega Sinu loomingut! \n\n\n\n\nKonkurssi puudutavate küsimuste või rõõmude korral võta ühendust Noorteaktiivi eestvedaja Janetiga janet@huvikoolideliit.ee. \nRohkem infot ja registreerimine: https://huvikoolideliit.ee/noor-osale-videokonkursil-huviharidus-trendide-maailmas/ 
URL:https://www.teeviit.ee/sundmus/videokonkurss-huviharidus-trendide-maailmas/
CATEGORIES:Konkurss
ATTACH;FMTTYPE=image/webp:https://www.teeviit.ee/wp-content/uploads/2024/01/videokonkurss-huviharidus-trendide-maailmas.webp
END:VEVENT
BEGIN:VEVENT
DTSTART;VALUE=DATE:20240128
DTEND;VALUE=DATE:20240316
DTSTAMP:20260423T174755
CREATED:20240128T170956Z
LAST-MODIFIED:20240128T170956Z
UID:34427-1706400000-1710547199@www.teeviit.ee
SUMMARY:Küsitlus “YouthInfoQuest” uurib noorte infovajaduste ja eelistuste kohta
DESCRIPTION:Noorteinfoportaal Teeviit kutsub kuni 30. aastaseid noori üles vastama küsitlusele noorteinfo teemalisele “YouthInfoQuest”. Küsitlusele on võimalik vastata noortel üle Euroopa ja see on kättesaadav 19 eri keeles.  \n\n\n\n\nKüsitluse eesmärk on kaardistada noortele huvipakkuvad teemad\, noortele atraktiivsed infokanalid ja lemmik sotsiaalmeedia ning veebipõhised infoallikad. Samuti uuritakse noorte käest nende arvamust usaldusväärsete infoallikate\, info leidmisega seotud väljakutsete ja infost arusaadavuse kohta. \nKüsitlusele vastama asudes tuleb valida vastamiseks eesti keel. \n\n\n\n\nVasta küsitlusele SIIN\n\n\n\n\nKüsitlus on avatud 14.11.2023-15.03.2024. \nInfoks: \n\n\n\nKüsitlust viib läbi ERYICA (European Youth Information and Counselling Agency) ja küsitlust levitavad riikides ERYICA liikmed (sh Haridus- ja Noorteamet).\nKüsitluse ettevalmistamisel ja tulemuste hindamisel on koostööpartneriks Abo Akademi Ülikooliga Soomest.\nKüsitlus toimub Typeform platvormil.\n\nKüsitluse pikk link: v7obax5m3y0.typeform.com/to/vEvXbcDv .\n\n\n\nLisainfo:\nKadri Koort  \nValdkonnajuht\nNoorteosakond\nHaridus- ja Noorteamet\nmob 5695 5279\nkadri.koort@harno.ee\nwww.harno.ee
URL:https://www.teeviit.ee/sundmus/kusitlus-youthinfoquest-uurib-noorte-infovajaduste-ja-eelistuste-kohta/
LOCATION:Veebis
CATEGORIES:küsitlus
ATTACH;FMTTYPE=image/png:https://www.teeviit.ee/wp-content/uploads/2024/01/yiminds-fookusgrupp.png
END:VEVENT
BEGIN:VEVENT
DTSTART;VALUE=DATE:20240202
DTEND;VALUE=DATE:20240216
DTSTAMP:20260423T174755
CREATED:20240205T083126Z
LAST-MODIFIED:20240205T083225Z
UID:34609-1706832000-1708041599@www.teeviit.ee
SUMMARY:Konkurss vabadele õppekohtadele noorsootöö õppekaval
DESCRIPTION:Tartu Ülikooli Narva Kolledž avas konkurssi vabadele õppekohtadele noorsootöö õppekaval \nKuni 15.02.2024 on võimalus kandideerida noorsootöö õppekava vabadele kohtadele: \n\nõppekava vahetust taotlevad üliõpilased\,\nõppevormi vahetust taotlevad üliõpilased\,\nõppetöö asukoha vahetust taotlevad üliõpilased\,\nreimmatrikuleerimise taotlejad\,\nteistest kõrgkoolidest ületulijad\,\neksternid ja Tartu Ülikooli täiendusõppijana vastava õppekava aineid läbinud isikud\,\nisikud\, kes on õppinud Tartu Ülikoolis mõne muu õppekava alusel ja selle õppest eksmatrikuleeritud.\n\nVabale õppekohale kandideerimisel peab olema sooritatud nõutud õppeained\, mis sobivad noorsootöö õppekavasse\, järgmise semestri alguseks nõutud mahus:\n1. õppeaasta – sügissemester -; kevadsemester 23 EAP.\n2. õppeaasta – sügissemester 45 EAP; kevadsemester 68 EAP. \nAvaldus: Natalia Kravtšenko natalia.kravtsenko@ut.ee.\nLisainfo: Birgit Villum birgit.villum@ut.ee ja Tartu Ülikooli veebist.
URL:https://www.teeviit.ee/sundmus/konkurss-vabadele-oppekohtadele-noorsootoo-oppekaval/
CATEGORIES:Konkurss
ATTACH;FMTTYPE=image/png:https://www.teeviit.ee/wp-content/uploads/2024/02/narva-kolledz_est_sinine.png
END:VEVENT
BEGIN:VEVENT
DTSTART;TZID=Europe/Tallinn:20240209T000000
DTEND;TZID=Europe/Tallinn:20240226T233000
DTSTAMP:20260423T174755
CREATED:20240222T060024Z
LAST-MODIFIED:20240222T060024Z
UID:35095-1707436800-1708990200@www.teeviit.ee
SUMMARY:Kandideeri: Erasmus+ ja ESK noorte töögrupp
DESCRIPTION:Erasmus+ ja Euroopa solidaarsuskorpuse agentuur kutsuvad 15-19 aastaseid noori liituma töögrupiga\, mille eesmärk noorte ideede ja mõtete koondamine rahvusvaheliste noortevõimaluste teemal. Kohtumine toimub juba 9.-10. märtsil ja osalemise soovist tuleb teada anda hiljemalt 26. veebruariks.   \n\n\n\n\nTöögruppi oodatakse noori\, kes pole varem üheski Erasmus+ ega Euroopa Solidaarsuskorpuse projektis osalenud ja võib-olla pole neist isegi mitte kuulnud. Tegemist on kahepäevase üritusega\, mis koosneb kahest osast: \n\nühelt poolt uuritakse noorte huvide\, vajaduste ja takistuste kohta\, mis mõjutavad Erasmus+ või Euroopa Solidaarsuskorpuse programmis (mitte) osalemist\,\nteiselt poolt viiaksenoored kokku päris projektitegijatega\, et teada saada\, milliseid võimalusi programmid noortele pakuvad.\n\n\n\n\n\nTöögrupp toob kokku 15-20 noort erinevatest Eesti piirkondadest ja esimese asjana saame omavahel tuttavaks ja loome mugava õhkkonna. Kahe päeva jooksul toimuvad grupiarutelud\, juhtumianalüüsid\, avatud intervjuud ja muud huvitavat. Teisel päeval saame muuhulgas kokku noortega\, kel on erinevates projektides osalemise kogemus ja kes soovivad oma lugusid jagada. \n\n\n\nVeel olulist: \n\nTöögrupp toimub eesti keeles.\nLaupäeval koguneme alates 10.30 ja pühapäeval lõpetame hiljemalt kell 16.00.\nTegevus toimub Tallinnas Studio Mindz ruumides Telliskivis. Majutus on korraldatud seal samas lähedal neile\, kellel vaja.\nOsalejatele on kaetud majutus-\, toitlustus- ja transpordikulud. Majutus on korraldatud 2-kohalistes tubades.\nTöögruppi modereerib Mikhail Mogutov\, kes on Narvas tegutsev koolitaja\, õppenõustaja ja noorsootöötaja. Ta on õppinud psühholoogiat ja hiljuti lõpetas teadusmagistri hariduse valdkonnas Hollandis.\n\nTöögrupis osaledes aitad E+ ja ESK agentuuril paremini oma tööd teha\, saad tuttavaks teiste noortega ja õpid uusi asju\, mida varem ei teadnud. Kui oled huvitatud\, siis pane oma ankeet teele hiljemalt 26. veebruaril.  \n\n\n\n\nREGISTREERUMINE\n\n\n\n\nAllikas: Erasmus+ veebileht \nLisaküsimuste korral pöördu Karin Ööveli poole karin.oovel@harno.ee või 55919229.
URL:https://www.teeviit.ee/sundmus/kandideeri-erasmus-ja-esk-noorte-toogrupp/
LOCATION:Tallinn
CATEGORIES:Töögrupp
ATTACH;FMTTYPE=image/jpeg:https://www.teeviit.ee/wp-content/uploads/2024/02/417465636_799864158848315_7857926586986018262_n.jpg
END:VEVENT
BEGIN:VEVENT
DTSTART;TZID=Europe/Tallinn:20240221T180000
DTEND;TZID=Europe/Tallinn:20240221T193000
DTSTAMP:20260423T174755
CREATED:20240128T164507Z
LAST-MODIFIED:20240128T164507Z
UID:34415-1708538400-1708543800@www.teeviit.ee
SUMMARY:21.02 online-fookusgrupp: vaimse tervise kirjaoskuse podcast
DESCRIPTION:Kutsume 18-30aastaseid noori osalema fookusgrupi kohtumisel Teamsis. Kohtumise fookuses on vaimse tervise kirjaoskuse teemalise podcasti sisu ja saatekülaliste leidmine. Kohtumine toimub inglise keeles ja on ERYICA “YIMinds” projekti tegevus. \n\n\n\n\n\n\nVeebikohtumise eesmärk on koguda sisendit podcastide episoodisesse (4 tk) ja leida potentsiaalseid külalisi (4 noort). Osalema oodatakse noori\, kel on positiivsed kogemused seoses vaimse tervise info ja abi saamise osas noorsootöö\, noorteinfo või vaimse tervise teenuste kaudu. \n\n\n\n\n\n\nOotused osalejale: \n\nVõtta osa veebikohtumiselt ning jagada oma kogemusi seoses vaimse tervise info\, abi ja toe kättesaamisega.\nHea inglise keele oskus.\nErialane taust on seotud noorsootööga\, noorteinfotööga või vaimse tervise valdkonnaga.\n\n\n\n\n\nVõimalused osalejatele: \n\nAidata kaasa YiMindsi projekti õnnestumisele.\nOsaleda  podcastide episoodide lõplikus sisukujunduses.\nVõtta osa külalisena podcastis ja jagada oma kogemusi.\nOsaleda aprillis toimuval rahvusvahelisel õppevisiidil (Tallinn\, Eesti)*.\n\n\n\n*Planeeritud kuupäevad on 9. ja 10. aprill 2024. Kokku kutsutakse kohtumisele ja podcasti 4 noort. Kaetakse majutus- ja reisikulud. Tegevust korraldab Haridus- ja Noorteamet. \n\n\n\n\n\n\nKuidas osaleda? \n\nKuupäev: 21.02.2024 kell 18.00-19.30\nKui oled huvitatud\, registreeru siin enne 15.02.2024.\n\n\n\n\n\n\n\nLoe ERYICA “YIMinds” projektist lähemalt siit.  \n\n\n\n\n\nLisainfo:\nKadri Koort  \nValdkonnajuht\nNoorteosakond\nHaridus- ja Noorteamet\nmob 5695 5279\nkadri.koort@harno.ee\nwww.harno.ee
URL:https://www.teeviit.ee/sundmus/21-02-online-fookusgrupp-vaimse-tervise-kirjaoskuse-podcast/
LOCATION:Veebis
CATEGORIES:veebikohtumine
ATTACH;FMTTYPE=image/png:https://www.teeviit.ee/wp-content/uploads/2024/01/nimetu-kujundus-10.png
END:VEVENT
BEGIN:VEVENT
DTSTART;TZID=Europe/Tallinn:20240222T120000
DTEND;TZID=Europe/Tallinn:20240222T130000
DTSTAMP:20260423T174755
CREATED:20240209T051925Z
LAST-MODIFIED:20240209T051925Z
UID:34770-1708603200-1708606800@www.teeviit.ee
SUMMARY:E-tund "AI: inimkonna hukatus või usaldusväärne abimees?"
DESCRIPTION:Tartu Ülikooli meediapädevuse nooremteadur Maia Klaassen räägib gümnasistidele loengus “AI: inimkonna hukatus või usaldusväärne abimees?” tehisintellekti tulevikuväljavaadetest. \nArutletakse\, kuidas AI võib kujundada meie elu positiivselt ja millised ohud sellega kaasnevad. \n‘Rohkem infot leiate peagi aadressilt: https://etunnid.tagasikooli.ee/tulekul-e-tunnid/ 
URL:https://www.teeviit.ee/sundmus/e-tund-ai-inimkonna-hukatus-voi-usaldusvaarne-abimees/
CATEGORIES:Infotund
END:VEVENT
BEGIN:VEVENT
DTSTART;VALUE=DATE:20240227
DTEND;VALUE=DATE:20240229
DTSTAMP:20260423T174755
CREATED:20240220T062830Z
LAST-MODIFIED:20240223T125359Z
UID:34995-1708992000-1709164799@www.teeviit.ee
SUMMARY:Tallinna Tehnikaülikooli Avatud uste päev
DESCRIPTION:Avame oma uksed esmakordselt tervelt kaheks päevaks\, et Sul oleks võimalus tutvuda TalTechiga Sulle sobival päeval ja piisavalt põhjalikult. Tule kasvõi mõlemal päeval\, sest programm võib olla mõnevõrra erinev! \nKahe päeva vältel saad: \n\nKoguda Tudengimajas toimuval erialade messil infot meie kõikide teaduskondade\, erialade ja sisseastumistingimuste kohta.\nOsaleda peahoone aulas Eestis täiesti ainulaadsel Labürindijooksul\, mille 15 parimat abiturienti saavad tuleval suvel automaatselt õppekoha Tallinna Tehnikaülikooli vabalt valitud õppekaval (v.a arhitektuur).\nKülastada meie õppejõudude ja teadlaste põnevaid loenguid.\nHarjutada kätt praktilistes töötubades.\nTutvuda Eesti kõige ägedama tudengieluga.\nOsaleda ringkäikudel ja tutvuda Põhjamaade ainsa nii suure linnakuga (õppehooned\, laborid\, ühiselamud\, spordihoone).\nKülastada ülikoolilinnaku mugavaimat õpikeskkonda – tule raamatukokku!\nNautida disaini ja insenerikunsti Tehnikaülikooli muuseumi uuel näitusel “Ain Toim. Insenerikunst”.\n\nLisainfo ja registreerimine TalTechi  kodulehelt.
URL:https://www.teeviit.ee/sundmus/ttu-avatud-uste-paev/
LOCATION:Tallinna Tehnikaülikool\, Ehitajate tee 5\, Tallinn\, 12618\, Estonia
CATEGORIES:Avatud uste päev
ATTACH;FMTTYPE=image/jpeg:https://www.teeviit.ee/wp-content/uploads/2024/02/taltech.jpg
END:VEVENT
BEGIN:VEVENT
DTSTART;TZID=Europe/Tallinn:20240227T100000
DTEND;TZID=Europe/Tallinn:20240227T150000
DTSTAMP:20260423T174755
CREATED:20240220T065618Z
LAST-MODIFIED:20240220T065618Z
UID:35029-1709028000-1709046000@www.teeviit.ee
SUMMARY:Tartu Tervishoiu Kõrgkooli avatud uste päev
DESCRIPTION:Tule saa osa Tartu Tervishoiu Kõrgkooli avatud uste päevast\, mis toimub 27. veebruaril kõrgkoolis! \nAvame oma uksed kõigile huvilistele\, kes soovivad ennast siduda tervishoiu- ja sotsiaalvaldkonnaga. Päeva alustame põneva konverentsiga\, kus saad kuulda sellest\, kuidas valida endale õige eriala ning millised on olnud meie õppurite kogemused. Samuti saad teada\, miks astuda just Tartu Tervishoiu Kõrgkooli ja milliseid põnevaid tegevusi saad teha õppetöö kõrvalt. Samuti anname ülevaate meie vilistlaste kogemustest pärast kõrgkooli lõpetamist. Konverentsiosast teeme ka otseülekande veebi. Konverentsi juhib mitmekülgne Viktor Tund\, kes tegeleb nii ettevõtlusega\, aga hoolitseb ka selle eest\, et tudengisport oleks tasemel! \nKonverentsi päevakava\n10:00-10:15 Avasõnad ning kõrgkooli rektori Ulla Preedeni tervitus\n10:15-10:30 “Kõrgkooli kandideerimise ABC” – räägime üle kõige olulisemad kuupäevad ning tingimused kõrgkooli kandideerimisel.\n10:30-10:50 “Üliõpilaselu kõrgkoolis” – üliõpilasesindus ning spordiesindus räägivad oma tegemistest ning teevad sissevaate tudengiellu\n10:50-11:10 “Minu teekond kõrgkooli” – meie praegused tudengid arutlevad kõrgkoolis õppimise ja karjäärivalikute teemadel\n11:10-11:30 “Elu pärast kõrgkooli” – kõrgkooli lõpetanud vilistlased räägivad\, kuidas neil läinud on ning mida nad oma õpingutest kaasa on võtnud \nPärast konverentsi toimub lühike vaheaeg\, mille jooksul on võimalik: \n\nNautida meie sponsorite üllatusi\nSuhelda üliõpilasesindusega\nKüsida vastuvõtuga seotud küsimusi\nPanna proovile oma teadmised ja oskused verevõtmisest või suhkrust\nMõõta kätes olevat jõudu\nEinestada kõrgkooli kohvikus\nVaadata iseseisvalt ringi kõrgkooli peal\n\nAlates kell 12.15 on võimalik osa võtta põnevatest töötubadest ning osaleda majatuuridel. \nLisainfo ja registreeerimine Tartu Tervishoiu Kõrgkooli kodulehelt. 
URL:https://www.teeviit.ee/sundmus/tartu-tervishoiu-korgkooli-avatud-uste-paev/
LOCATION:Tartu Tervishoiu Kõrgkool\, Nooruse 5\, Tartu\, Eesti
CATEGORIES:Avatud uste päev
ATTACH;FMTTYPE=image/png:https://www.teeviit.ee/wp-content/uploads/2024/02/noorus.png
END:VEVENT
BEGIN:VEVENT
DTSTART;TZID=Europe/Tallinn:20240228T100000
DTEND;TZID=Europe/Tallinn:20240228T150000
DTSTAMP:20260423T174755
CREATED:20240220T121451Z
LAST-MODIFIED:20240223T125445Z
UID:35061-1709114400-1709132400@www.teeviit.ee
SUMMARY:Sisekaitseakadeemia avatud uste päev
DESCRIPTION:Sisekaitseakadeemia avab oma Tallinna õppekeskuse uksed 28.02.2024 \nTule meile külla! \nPäev algab info jagamisega erinevate kolledžite\, erialade ning sisseastumistingimuste kohta. Päeva jooksul saad ülevaate nii õppimisvõimalustest kui ka vaba aja veetmise\, sportimisvõimaluste\, elamis- ja olmetingimuste kohta. Õppurite tegemistest annab ülevaate üliõpilasesindus. \nSul on võimalus piiluda sisse põnevatesse õpperuumidesse\, saada osa õppeprotsessidest ja jalutada ringi majas\, mis avalikuks külastamiseks on tavapäraselt piiratud. \nLisainfo ja registreerumine Sisekaitseakadeemia kodulehel. 
URL:https://www.teeviit.ee/sundmus/sisekaiitseakadeemia-avatud-uste-paev/
LOCATION:Sisekaitseakadeemia Tallinna õppekeskus\, Kase 61\, Tallinn\, Eesti
CATEGORIES:Avatud uste päev
ATTACH;FMTTYPE=image/jpeg:https://www.teeviit.ee/wp-content/uploads/2024/02/ska.jpg
ORGANIZER;CN="Sisekaitseakadeemia":MAILTO:kristi.kirikal@sisekaitse.ee
END:VEVENT
BEGIN:VEVENT
DTSTART;TZID=Europe/Tallinn:20240228T100000
DTEND;TZID=Europe/Tallinn:20240228T153000
DTSTAMP:20260423T174755
CREATED:20240220T145038Z
LAST-MODIFIED:20240220T145038Z
UID:35068-1709114400-1709134200@www.teeviit.ee
SUMMARY:Eesti Lennuakadeemia Lahtiste uste päev
DESCRIPTION:Eesti Lennuakadeemia avab oma uksed kõikidele lennundushuvilistele 28. veebruaril kell 10.00-15.30. \nPäeva jooksul saab osaleda erinevates loengutes ja töötubades\, tunda ennast piloodina lennusimulaatoris ja tulevase lennundusinsenerina meie õppeangaaris. \nLahtiste uste päeval osalemiseks tuleb eelnevalt registreeruda. Selleks tee oma valikud ajakavas ja jälgi\, et soovitud tegevuste ajad ei kattuks. \nLisainfo ja registreerimine Eesti Lennuakadeemia kodulehel. 
URL:https://www.teeviit.ee/sundmus/eesti-lennuakadeemia-lahtiste-uste-paev/
LOCATION:Eesti Lennuakadeemia\, Lennu 40\, Reola küla\, Kambja vald\, 61707\, Eesti
CATEGORIES:Avatud uste päev
ATTACH;FMTTYPE=image/jpeg:https://www.teeviit.ee/wp-content/uploads/2024/02/lennu.jpg
END:VEVENT
BEGIN:VEVENT
DTSTART;TZID=Europe/Tallinn:20240228T100000
DTEND;TZID=Europe/Tallinn:20240228T160000
DTSTAMP:20260423T174755
CREATED:20240220T063128Z
LAST-MODIFIED:20240220T063246Z
UID:35001-1709114400-1709136000@www.teeviit.ee
SUMMARY:Tallinna Ülikooli Avatud uste päev
DESCRIPTION:Sel aastal avanevad Tallinna Ülikooli linnaku uksed kõigile huvilistele 28.02.2024 kell 10.00-16.00. \nSind ootavad traditsioonilised infotunnid\, karjäärinõustajad\, instituudid\, üliõpilaskond ja loomekollektiive tutvustav laada-ala\, et saaksid tutvuda õppekavadega\, inimestega ja linnakuga. \n28.02.2024 infotunnid toimuvad Tallinna Ülikooli ruumis A-002 (Maximum) – Narva mnt 29. \n  \nRegistreerimine ja lisainfo Tallinna Ülikooli kodulehel.
URL:https://www.teeviit.ee/sundmus/tallinna-ulikooli-avatud-uste-paev/
LOCATION:Tallinna Ülikool
CATEGORIES:Avatud uste päev
ATTACH;FMTTYPE=image/jpeg:https://www.teeviit.ee/wp-content/uploads/2024/02/tlu-scaled.jpg
END:VEVENT
BEGIN:VEVENT
DTSTART;TZID=Europe/Tallinn:20240228T110000
DTEND;TZID=Europe/Tallinn:20240228T150000
DTSTAMP:20260423T174755
CREATED:20240220T070752Z
LAST-MODIFIED:20240220T070752Z
UID:35034-1709118000-1709132400@www.teeviit.ee
SUMMARY:Tartu Kõrgema Kunstikooli Pallase lahtiste uste päev
DESCRIPTION:Pallas kutsub külla ja õppekavadega tutvuma kolmapäeval\, 28. veebruaril kell 11-15. Üritused\, töötoad\, avatud loengud toimuvad kõikides osakondades ning ka ringkäik viib üliõpilasesinduse juhatusel kõikidesse õppehoonetesse (Tähe 38b\, Toltsoi ja Eha). Juhised kohale tulekuks leiate siit. \nLahtiste uste päev Pallases (täpsem kava allpool):\nkl 11-12 tegevused osakondades\nkl 12-14 ringkäik kõikidesse osakondadesse\nkl 14-15 tegevused osakondades \nLisainfo ja registreerimine Pallase kodulehel. 
URL:https://www.teeviit.ee/sundmus/tartu-korgema-kunstikooli-pallase-lahtiste-uste-paev/
LOCATION:Tartu Kõrgem Kunstikool Pallas\, Tähe 38b\, Tartu\, Eesti
CATEGORIES:Avatud uste päev
ATTACH;FMTTYPE=image/png:https://www.teeviit.ee/wp-content/uploads/2024/02/pallas.png
END:VEVENT
BEGIN:VEVENT
DTSTART;TZID=Europe/Helsinki:20240228T110000
DTEND;TZID=Europe/Helsinki:20240228T160000
DTSTAMP:20260423T174755
CREATED:20231207T122229Z
LAST-MODIFIED:20231207T122229Z
UID:32925-1709118000-1709136000@www.teeviit.ee
SUMMARY:Delta karjääripäev 2024
DESCRIPTION:Delta karjääripäev toob ühe katuse alla Eesti mainekamad ettevõtted ja asutused ning karjäärivõimalustest huvitatud üliõpilased! Tänavune karjäärimess toimub kuuendat korda 28. veebruaril Tartu Ülikooli akadeemilises spordiklubis.\nSel päeval muutub ülikooli spordiklubi põnevaks kohtumispaigaks\, kus ettevõtted ja asutused IT\, matemaatika\, statistika\, robootika\, elektroonika\, arvutitehnika ja majanduse vallast on kohal\, et tutvustada oma praktika- ja karjäärivõimalusi Tartu Ülikooli üliõpilastele. Samuti on üles seatud otsestuudio\, kus toimuvaid vestlusi kantakse üle ka veebis ja üliõpilased on oodatud osalema ka messimängus.\n\nEttevõtted ja asutused on oodatud üritusele registreeruma kuni 29. jaanuarini.\nRohkem teavet leiad karjääripäeva kodulehelt: https://ut.ee/et/sisu/delta-karjaaripaev-2024\nKüsimuste korral kirjuta aadressile: deltakarjaaripaev@ut.ee\n\nDelta karjääripäeva korraldavad Tartu Ülikooli arvutiteaduse instituut\, majandusteaduskond\, matemaatika ja statistika instituut ning tehnoloogiainstituut.
URL:https://www.teeviit.ee/sundmus/delta-karjaaripaev-2024/
LOCATION:Tartu
CATEGORIES:Mess
ATTACH;FMTTYPE=image/jpeg:https://www.teeviit.ee/wp-content/uploads/2023/12/407891541_870188898446314_6304918873672441630_n.jpg
END:VEVENT
BEGIN:VEVENT
DTSTART;TZID=Europe/Tallinn:20240228T120000
DTEND;TZID=Europe/Tallinn:20240228T170000
DTSTAMP:20260423T174755
CREATED:20240220T064837Z
LAST-MODIFIED:20240220T065217Z
UID:35024-1709121600-1709139600@www.teeviit.ee
SUMMARY:Eesti Maaülikooli Avatud uste päev
DESCRIPTION:28. veebruaril 2024 kell 12 Tehnikamajas (F. R. Kreutzwaldi 56\, Tartu) \nTule ja saa teada\, mida maaülikoolil on Sulle pakkuda! Õppimisvõimalused\, tudengielu\, sisseastumine ja tulevik. Kohtuda saab meie tegusate tudengiseltsidega. \nÜliõpilased räägivad oma erialavalikust ning sellest\, millele tasub õpingute käigus tähelepanu pöörata. Kavas on põnevad töötoad\, ekskursioonid ning ka mõned üllatused. Osalejate vahel loosime välja maaülikooli auhindu! \nLisainfo ja registreerumine Eesti Maaülikooli kodulehel.
URL:https://www.teeviit.ee/sundmus/eesti-maaulikooli-avatud-uste-paev/
LOCATION:Eesti Maaülikooli Metsamaja\, Kreutzwaldi 5\, Tartu\, Eesti
ATTACH;FMTTYPE=image/png:https://www.teeviit.ee/wp-content/uploads/2024/02/emu.png
END:VEVENT
BEGIN:VEVENT
DTSTART;TZID=Europe/Tallinn:20240229T100000
DTEND;TZID=Europe/Tallinn:20240229T160000
DTSTAMP:20260423T174755
CREATED:20240220T062226Z
LAST-MODIFIED:20240220T062445Z
UID:34988-1709200800-1709222400@www.teeviit.ee
SUMMARY:EKA avatud uste päev
DESCRIPTION:Kui tähekombinatsioon E\, K ja A paneb sind pead pöörama ja kõrvu kikitama\, siis võta kätte punane pliiats ja tõmba kalendrisse 29. veebruari ümber üks rasvane ring. Sest just siis teeme me lahti Kunstiakadeemia uksed ja aknad ning kutsume sisse kõik huvilised! \nAvatud uste päeval on võimalik tutvuda EKA erialadega\, kohtuda tudengite ja õppejõududega\, vaadata ringi EKA auhinnatud hoones ning saada väärtuslikku infot ettevalmistuskursuste\, sisseastumise\, õppimise ja tudengielu kohta. \nToimuvad teaduskondade ja erialade tutvustused\, töötoad\, välkloengud\, majatuurid\, portfoolio konsultatsioonid jpm. Terve päeva vältel on avatud infopunkt\, mõnus olelemisala\, tudengikohvik ning väljapanekud majas sees ja majast väljas. Tule kohtu oma tulevikuga – olgu selleks arhitektuur\, disain\, kunst või teadus! \nLoe täpsemalt: EKA kodulehelt
URL:https://www.teeviit.ee/sundmus/eka-avatud-uste-paev/
LOCATION:Eesti Kunstiakadeemia\, Põhja puiestee 7\, Tallinn\, 10412\, Eesti
CATEGORIES:Avatud uste päev
ATTACH;FMTTYPE=image/png:https://www.teeviit.ee/wp-content/uploads/2024/02/eka.png
END:VEVENT
BEGIN:VEVENT
DTSTART;TZID=Europe/Tallinn:20240229T100000
DTEND;TZID=Europe/Tallinn:20240229T160000
DTSTAMP:20260423T174755
CREATED:20240220T064421Z
LAST-MODIFIED:20240220T064500Z
UID:35018-1709200800-1709222400@www.teeviit.ee
SUMMARY:Tartu Ülikooli lahtiste uste päev
DESCRIPTION:29. veebruaril toimub Tartu Ülikooli raamatukogus ja üle terve linna lahtiste uste päev\, kuhu oodatakse kõiki\, kes tunnevad huvi Tartu Ülikoolis õppimise vastu.\nHuvilised saavad kuulata konverentsi\, mille raames räägitakse\, kuidas saada üliõpilaseks ja jõuda vilistlase staatuseni. Samuti arutletakse selle üle\, mis toimub ülikooli ajal ja pärast seda. Messialal saab tutvuda erialadega ja ülikooli rohkete võimalustega. Töötubades üle linna on võimalik katsetada erialade sobivust ja avastada uusi erialasid. Muu hulgas on võimalik käia tasuta ülikooli muuseumides ning tutvuda Tartu Ülikooli põneva peahoone ja ühiselamutega.\n\nLisainfo ja registreerimine Tartu Ülikooli kodulehel. 
URL:https://www.teeviit.ee/sundmus/tartu-ulikooli-lahtiste-uste-paev/
LOCATION:Tartu Ülikooli Raamatukogu\, W. Struve 1\, Tartu\, 50091\, Eesti
CATEGORIES:Avatud uste päev
ATTACH;FMTTYPE=image/jpeg:https://www.teeviit.ee/wp-content/uploads/2024/02/ut.jpg
END:VEVENT
END:VCALENDAR