BEGIN:VCALENDAR
VERSION:2.0
PRODID:-//Teeviit - ECPv6.15.4//NONSGML v1.0//EN
CALSCALE:GREGORIAN
METHOD:PUBLISH
X-WR-CALNAME:Teeviit
X-ORIGINAL-URL:https://www.teeviit.ee
X-WR-CALDESC:Events for Teeviit
REFRESH-INTERVAL;VALUE=DURATION:PT1H
X-Robots-Tag:noindex
X-PUBLISHED-TTL:PT1H
BEGIN:VTIMEZONE
TZID:Europe/Helsinki
BEGIN:DAYLIGHT
TZOFFSETFROM:+0200
TZOFFSETTO:+0300
TZNAME:EEST
DTSTART:20230326T010000
END:DAYLIGHT
BEGIN:STANDARD
TZOFFSETFROM:+0300
TZOFFSETTO:+0200
TZNAME:EET
DTSTART:20231029T010000
END:STANDARD
BEGIN:DAYLIGHT
TZOFFSETFROM:+0200
TZOFFSETTO:+0300
TZNAME:EEST
DTSTART:20240331T010000
END:DAYLIGHT
BEGIN:STANDARD
TZOFFSETFROM:+0300
TZOFFSETTO:+0200
TZNAME:EET
DTSTART:20241027T010000
END:STANDARD
END:VTIMEZONE
BEGIN:VTIMEZONE
TZID:Europe/Tallinn
BEGIN:DAYLIGHT
TZOFFSETFROM:+0200
TZOFFSETTO:+0300
TZNAME:EEST
DTSTART:20230326T010000
END:DAYLIGHT
BEGIN:STANDARD
TZOFFSETFROM:+0300
TZOFFSETTO:+0200
TZNAME:EET
DTSTART:20231029T010000
END:STANDARD
BEGIN:DAYLIGHT
TZOFFSETFROM:+0200
TZOFFSETTO:+0300
TZNAME:EEST
DTSTART:20240331T010000
END:DAYLIGHT
BEGIN:STANDARD
TZOFFSETFROM:+0300
TZOFFSETTO:+0200
TZNAME:EET
DTSTART:20241027T010000
END:STANDARD
END:VTIMEZONE
BEGIN:VEVENT
DTSTART;VALUE=DATE:20231213
DTEND;VALUE=DATE:20240116
DTSTAMP:20260423T192904
CREATED:20240103T145030Z
LAST-MODIFIED:20240103T145048Z
UID:33552-1702425600-1705363199@www.teeviit.ee
SUMMARY:Kandideeri EuroPeers võrgustiku liikmeks
DESCRIPTION:Erasmus+ ja Euroopa Solidaarsuskorpuse Agentuur otsib uusi noori liitumaks EuroPeers võrgustikuga! Kandideeri kui oled vanuses 13-30\, oled osalenud Erasmus+ või Euroopa Solidaarsuskorpuse projektis ja Sul on võimalus panustada võrgustikku! \n\n\n\n\n\n\n\n\n\n\n\n\nKandideeri kui sa oled:  \n\nnoor vanuses 13-30;\nsul on kasvõi ühe Erasmus+ ja/või Euroopa Solidaarsuskorpuse projekti kogemus;\nseiklushimuline\, motiveeritud\, hea tiimimängija\, ajaplaneerija ning algatusvõimeline;\nvalmis osalema võrgustikukohtumistel ja vahekohtumistel veebis;\npanustama võrgustiku tegevustesse aktiivselt 2024. aasta lõpuni;\nvalmis läbi viima iseseisvalt infotegevusi.\n\n\n\n\n\nValituks osutunutele on ette valmistatud: \n\naasta pikkune arenguprogramm. Programmi raames arendatakse noores avaliku esinemise ja oma loo vestmise oskust\, ürituskorralduse ja meeskonnatöö kompetentse*;\nvõimalused osaleda nii eestisisestel kui rahvusvahelistel koolitustel;\ntööriistad\, kuidas Erasmus+ ja Euroopa Solidaarsuskorpuse programmide maailmas toimetada;\nvõrgustikutöös osalemine ning tegevused selle raames on osalejatele kaetud;\nnoortelt oodatakse aktiivset panustamist võrgustikutöösse ning omaalgatuslikke ja agentuuri kutsel infotegevuste läbiviimist.\n\n\n\n\n\nVõrgustikku kandideerimiseks täida ära see vorm ning pane teele hiljemalt 15.01.2024. \nVõrgustikku valitakse ankeedi alusel 15 noort ning otsusest informeeritakse valituid hiljemalt 31.01.2024. \nLoe lisa siit. \n\n\n\n\nLisainfo: Laura Kiviselg\, laura.kiviselg@harno.ee.
URL:https://www.teeviit.ee/sundmus/kandideeri-europeers-vorgustiku-liikmeks/
CATEGORIES:Konkurss
ATTACH;FMTTYPE=image/png:https://www.teeviit.ee/wp-content/uploads/2024/01/microsoftteams-image-39.png
END:VEVENT
BEGIN:VEVENT
DTSTART;VALUE=DATE:20231228
DTEND;VALUE=DATE:20240212
DTSTAMP:20260423T192904
CREATED:20240128T164645Z
LAST-MODIFIED:20240128T164645Z
UID:34417-1703721600-1707695999@www.teeviit.ee
SUMMARY:Videokonkurss „Huviharidus trendide maailmas“
DESCRIPTION:Eesti Huvikoolide Liit kutsub 7-19aastaseid huvikooli õpilasi osalema noorte videokonkursil “Huviharidus trendide maailmas”. Kasuta suurepärast võimalust loominguliselt näidata maailmale\, nii noorele kui vanale\, mida Sina mõtled. \n\n\n\n\nNendele küsimustele otsimegi just noorte endi abiga vastuseid:\n\n\n\n\n\nKas huviharidus saab trendide maailmas hästi hakkama?\nKas huviharidus peaks rohkem käima kaasas uuendustega või hoidma just stabiilset joont?\nKuidas saaks trende kasutada huvihariduse edendamiseks ning milliseid ohte peidavad endas kiired uuendused haridusmaastikul?\nKuidas mõjutab internet ja sotsiaalmeedia huviharidust?\nTrendid vs. traditsioonid?\n\n\n\n\n\n* TREND tähendab mingisugust suunda\, kallakut\, suunitlust või moodi. Seda iseloomustab lühiajalisus\, pidev muutumine ning populaarsus. Erinevaid trende võib kohata moes\, sotsiaalmeedias\, majanduses ja kultuuris. \n\n\n\n\nKuidas osaleda?\n\n\n\n\n1. Loo lühivideo:\nTee video\, milles vastad küsimustele\, kuidas saab hakkama huviharidus pidevalt muutuvas maailmas või mis on selle eelised ja/või puudused. Kasuta või näita videos midagi\, mis sind inspireerib või milles oled kirglik. \n2. Laadi video üles:\nJaga oma videot meiega hiljemalt 11. veebruariks 2024 \n3. Jälgi tulemusi:\nParimad videod valitakse välja rahvahääletuse teel ning võitjad kuulutatakse välja 25. veebruaril 2024. Ootame põnevusega Sinu loomingut! \n\n\n\n\nKonkurssi puudutavate küsimuste või rõõmude korral võta ühendust Noorteaktiivi eestvedaja Janetiga janet@huvikoolideliit.ee. \nRohkem infot ja registreerimine: https://huvikoolideliit.ee/noor-osale-videokonkursil-huviharidus-trendide-maailmas/ 
URL:https://www.teeviit.ee/sundmus/videokonkurss-huviharidus-trendide-maailmas/
CATEGORIES:Konkurss
ATTACH;FMTTYPE=image/webp:https://www.teeviit.ee/wp-content/uploads/2024/01/videokonkurss-huviharidus-trendide-maailmas.webp
END:VEVENT
BEGIN:VEVENT
DTSTART;TZID=Europe/Helsinki:20231228T080000
DTEND;TZID=Europe/Helsinki:20240103T235900
DTSTAMP:20260423T192904
CREATED:20231228T133608Z
LAST-MODIFIED:20231229T084122Z
UID:33399-1703750400-1704326340@www.teeviit.ee
SUMMARY:Kandideeri: projektikirjutamise laager 13-30a noortele
DESCRIPTION:Projektikirjutamise laager on mõeldud 13-30 aastastele noortele\, kes tahavad kirjutada mõnda projekti\, plaanivad esitada projekti Erasmus+ või Euroopa Solidaarsuskorpuse taotlusvooru (kas 20.02.2024 või 07.05.2024) ja vajavad projekti kirjutamiseks professionaalset nõu ja tuge. \n\n\n\n\n\n\n\n\n\n\n\n\nProjektikirjutamise laager annab osalejatele võimaluse: \n\narendada oma ideest kvaliteetse Erasmus+ või Euroopa Solidaarsuskorpuse programmi taotluse\,\nsaada nõu ja tuge agentuuri ekspertidelt\,\nvõtta aeg maha ja keskenduda oma tiimis projekti planeerimisele.\n\n\n\n\n\nLaagris osalevad 2-5 liikmelised tiimid. Kaasa võib võtta ka juhendaja (noorsootöötaja\, õpetaja\, mentori). Kui kõigi grupiliikmete vanus on alla 18\, siis on juhendaja kaasamine kohustuslik. \nOotame\, et kirjeldaksite oma esialgset ideed ja laagris osalemise motivatsiooni kandideerimisvormis. Kandideerimise tähtaeg on 3.01.2024. \n\n\n\n\nUuri ettevalmistuseks lisa taotlusvoorude sisu ja tähtaegade kohta: \n\nErasmus+ noortevahetus (rahvusvaheline)\nErasmus+ osalusprojekt (kohalik või rahvusvaheline)\nEuroopa Solidaarsuskorpuse solidaarsusprojekt (kohalik)\n\n\nLaager toimub 19.-21. jaanuaril Tallinnas. Selleks\, et projektiidee jõuaks piisavalt küpseda\, on vaja kõigil kolmel päeval kohal olla. Laager algab reede pärastlõunal (kogunemine kell 15.30) ja lõpeb pühapäeva lõunal (kell 14.30). \nLaagris on kaks töökeelt: eesti ja vene keel. Vajadusel saab personaalset nõustamist ka inglise keeles. \nLaagris osalemine on tasuta. Tallinnast väljastpoolt tulijatele organiseerime majutuse ja samuti katame transpordikulud. \nTäpsema info laagris osalemise kohta saadame hiljemalt 4.01.2024. \n\n\n\n\n\n\nTäpsem info:\nKarin Öövel (karin.oovel@harno.ee\, +372 55919229) \nErasmus+ ja Euroopa Solidaarsuskorpuse agentuuri noorteprogrammide keskus\nHaridus- ja Noorteamet\nTõnismägi 11\n10119 Tallinn
URL:https://www.teeviit.ee/sundmus/projektikirjutamise-laager-13-30aastastele-noortele/
CATEGORIES:Koolitus
END:VEVENT
BEGIN:VEVENT
DTSTART;TZID=Europe/Helsinki:20240108T120000
DTEND;TZID=Europe/Helsinki:20240108T133000
DTSTAMP:20260423T192904
CREATED:20231228T134118Z
LAST-MODIFIED:20231228T134321Z
UID:33404-1704715200-1704720600@www.teeviit.ee
SUMMARY:Noorsootööprojektide infotund
DESCRIPTION:Infotunnis saab ülevaate projektitüüpide olemusest ning tutvustatakse taotlustingimusi ja vastatakse küsimustele.\n\nKava:\n12.00-12.45 noorsootöötajate õpiränne\n12.45-13.30 suuremahulised koostööprojektid ja väikeprojektidRegistreerimine on avatud kuni 7.01.2024. Registreerunud osalejatele saadetakse seminari toimumise link 8. jaanuari hommikul. NB! Infotundi ei salvestata! \n\n\n\nNoorsootööprojektide alla kuulub kolm projektitüüpi:\n\n\n\n1) noorsootöötajate õpiränne\, millega rahastatakse noortega töötavate inimeste rahvusvahelisi õppevisiite\, töövarjutamisi\, seminare ja koolitusi;\n2) suuremahuline koostööprojekt uuenduslike tavade arendamiseks ja jagamiseks ning noortevaldkonnas tehtava töö kvaliteedi tõstmiseks;\n3) väikeprojekt: sarnane nagu eelmine\, kuid tegevused toimuvad väiksemas mahus ja lühema aja vältel\, suunatud esmataotlejatele. \n\nJärgmised taotlustähtajad on veebruaris (noorsootöötajate õpiränne) ja märtsis (rahvusvahelised koostööprojektid) 2024. Soovijatel on võimalik saada eelnevalt individuaalset nõustamist või saata oma projekti mustand üle vaatamiseks ja kommenteerimiseks. Täpsem info nõustamise kohta: noustamine@harno.ee\n\nKui infotunni kohta on küsimusi\, siis palume pöörduda Erasmus+ noortevaldkonna õpirände koordinaatori Maarja Tamm’e poole (maarja.tamm@harno.ee\, 69 79 217).
URL:https://www.teeviit.ee/sundmus/noorsootooprojektide-infotund/
LOCATION:Veebis
CATEGORIES:Infotund
END:VEVENT
BEGIN:VEVENT
DTSTART;TZID=Europe/Helsinki:20240115T150000
DTEND;TZID=Europe/Helsinki:20240115T163000
DTSTAMP:20260423T192904
CREATED:20231228T134655Z
LAST-MODIFIED:20231228T134655Z
UID:33410-1705330800-1705336200@www.teeviit.ee
SUMMARY:Noorteprojektide infotund
DESCRIPTION:Nii Erasmus+ kui ka Euroopa Solidaarsuskorpus ootavad taotlejaid osa võtma selle aasta esimestest taotlusvoorudest\, mis toimuvad 20. veebruaril kell 13:00. Infotund annab helikopter-ülevaate kolmest tegevusvõimalusest: \n\nErasmus+ noortevahetus (rahvusvaheline tegevus)\nErasmus+ osalusprojekt (kohalik või rahvusvaheline tegevus)\nEuroopa Solidaarsuskorpuse solidaarsusprojekt (kohalik tegevus)\n\nInfotund toimub 15.01.2024 kell 15:00-16:30 veebikeskkonnas Zoom: \n\nTutvustame projektide üldist olemust ja kvaliteedinõudmisi\nSelgitame projektide tingimusi ja eelarvet\nToome näiteid tehtud projektidest\nVastame kõikidele küsimustele\n\nTule infotundi ja saad teada\, millised võimalused 2024. aastal noortele avanevad. \nRegistreerimine on avatud kuni 10. jaanuarini ja Zoomi lingi saadame kõigile registreerunutele 11. jaanuaril. \nRegistreeri osalejaks siin! \nTäpsem info:\nKarin Öövel (karin.oovel@harno.ee\, +372 55919229)
URL:https://www.teeviit.ee/sundmus/noorteprojektide-infotund/
LOCATION:Veebis
CATEGORIES:Infotund
END:VEVENT
BEGIN:VEVENT
DTSTART;TZID=Europe/Helsinki:20240122T160000
DTEND;TZID=Europe/Helsinki:20240122T170000
DTSTAMP:20260423T192904
CREATED:20240104T095112Z
LAST-MODIFIED:20240104T095112Z
UID:33574-1705939200-1705942800@www.teeviit.ee
SUMMARY:Infotund: Discover EU kaasatuse projektid
DESCRIPTION:DiscoverEU on Erasmus+ programmi tegevus\, mis annab 18-aastastele Euroopa noortele võimaluse rongiga reisides Euroopat avastada. Tegevuse käigus õpitakse tundma erinevaid kultuure\, saadakse uusi tutvusi ning harjutatakse võõrkeeli. \nDiscoverEU kaasatuse projektide eesmärgiks on võimaldada vähemate võimalustega noortel osaleda DiscoverEU-s võrdväärselt eakaaslastega. \nDiscoverEU kaasatuse projektide raames saavad reisitoetust taotleda organisatsioonid ja mitteformaalsed noorterühmad ainult vähemate võimalustega noortele. Ühel reisil saab korraga osaleda 1–5 noort. \nInfotund toimub Zoomis ja seal saab ülevaate:  \n\ntaotlustingimustest\nrahastusskeemist\ntaotlemisprotsessist\n\nRegistreerumine siin. \nLink saadetakse registreerunutele paar päeva enne ürituse toimumist. \nTutvu DiscoverEU kaasatusega juba nüüd SIIT. \nLisainfo:\nKaasatus ja mitmekesisus Mirjam Kodi\, mirjam.kodi@harno.ee\nDiscoverEU Lisete Tammeveski\, lisete.tammeveski@harno.ee \nAllikas: https://euroopanoored.eu/uudised/disovereu-kaasatuse-projektide-infotunnid-toimuvad-22-ja-29-jaanuar/
URL:https://www.teeviit.ee/sundmus/infotund-discover-eu-kaasatuse-projektid/
LOCATION:Zoom
CATEGORIES:Infotund
END:VEVENT
BEGIN:VEVENT
DTSTART;VALUE=DATE:20240128
DTEND;VALUE=DATE:20240316
DTSTAMP:20260423T192904
CREATED:20240128T170956Z
LAST-MODIFIED:20240128T170956Z
UID:34427-1706400000-1710547199@www.teeviit.ee
SUMMARY:Küsitlus “YouthInfoQuest” uurib noorte infovajaduste ja eelistuste kohta
DESCRIPTION:Noorteinfoportaal Teeviit kutsub kuni 30. aastaseid noori üles vastama küsitlusele noorteinfo teemalisele “YouthInfoQuest”. Küsitlusele on võimalik vastata noortel üle Euroopa ja see on kättesaadav 19 eri keeles.  \n\n\n\n\nKüsitluse eesmärk on kaardistada noortele huvipakkuvad teemad\, noortele atraktiivsed infokanalid ja lemmik sotsiaalmeedia ning veebipõhised infoallikad. Samuti uuritakse noorte käest nende arvamust usaldusväärsete infoallikate\, info leidmisega seotud väljakutsete ja infost arusaadavuse kohta. \nKüsitlusele vastama asudes tuleb valida vastamiseks eesti keel. \n\n\n\n\nVasta küsitlusele SIIN\n\n\n\n\nKüsitlus on avatud 14.11.2023-15.03.2024. \nInfoks: \n\n\n\nKüsitlust viib läbi ERYICA (European Youth Information and Counselling Agency) ja küsitlust levitavad riikides ERYICA liikmed (sh Haridus- ja Noorteamet).\nKüsitluse ettevalmistamisel ja tulemuste hindamisel on koostööpartneriks Abo Akademi Ülikooliga Soomest.\nKüsitlus toimub Typeform platvormil.\n\nKüsitluse pikk link: v7obax5m3y0.typeform.com/to/vEvXbcDv .\n\n\n\nLisainfo:\nKadri Koort  \nValdkonnajuht\nNoorteosakond\nHaridus- ja Noorteamet\nmob 5695 5279\nkadri.koort@harno.ee\nwww.harno.ee
URL:https://www.teeviit.ee/sundmus/kusitlus-youthinfoquest-uurib-noorte-infovajaduste-ja-eelistuste-kohta/
LOCATION:Veebis
CATEGORIES:küsitlus
ATTACH;FMTTYPE=image/png:https://www.teeviit.ee/wp-content/uploads/2024/01/yiminds-fookusgrupp.png
END:VEVENT
BEGIN:VEVENT
DTSTART;VALUE=DATE:20240129
DTEND;VALUE=DATE:20240130
DTSTAMP:20260423T192904
CREATED:20240123T112231Z
LAST-MODIFIED:20240123T112231Z
UID:34104-1706486400-1706572799@www.teeviit.ee
SUMMARY:Kandideeri LevelUP! 2024 koolitusele Belgias
DESCRIPTION:LevelUp! 2024 toimub 12.-13. aprillil Euroopa Parlamendis Brüsselis. \nLevelUP on kahepäevane koolitus tugevdamaks demokraatlikke väärtusi ning edendamaks aktiivset osalemist Euroopa Parlamendi valimistel. Ürituse raames on võimalik suhelda noortega üle Euroopa\, politikakujundajate\, ekspertide ja teistega. \nKandideerida saavad 16.-35. aastased noored ning kokku otsitakse8 noort! Kaetud on transpordi- ja majutuskulud. \nEsita enda kandidatuur Eesti Noorteühenduste Liidule siin. Kandideerimine kestab kuni 29. jaanuarini 2024.\n \nAllikas: Eesti Noorteühenduste Liidu uudiskiri
URL:https://www.teeviit.ee/sundmus/kandideeri-levelup-2024-koolitusele-belgias/
LOCATION:Brüssel
CATEGORIES:Konkurss
ATTACH;FMTTYPE=image/png:https://www.teeviit.ee/wp-content/uploads/2024/01/levelup_2024.png
END:VEVENT
BEGIN:VEVENT
DTSTART;TZID=Europe/Helsinki:20240129T130000
DTEND;TZID=Europe/Helsinki:20240129T140000
DTSTAMP:20260423T192904
CREATED:20240104T095325Z
LAST-MODIFIED:20240104T095335Z
UID:33577-1706533200-1706536800@www.teeviit.ee
SUMMARY:Infotund: Discover EU kaasatuse projektid
DESCRIPTION:DiscoverEU on Erasmus+ programmi tegevus\, mis annab 18-aastastele Euroopa noortele võimaluse rongiga reisides Euroopat avastada. Tegevuse käigus õpitakse tundma erinevaid kultuure\, saadakse uusi tutvusi ning harjutatakse võõrkeeli. \nDiscoverEU kaasatuse projektide eesmärgiks on võimaldada vähemate võimalustega noortel osaleda DiscoverEU-s võrdväärselt eakaaslastega. \nDiscoverEU kaasatuse projektide raames saavad reisitoetust taotleda organisatsioonid ja mitteformaalsed noorterühmad ainult vähemate võimalustega noortele. Ühel reisil saab korraga osaleda 1–5 noort. \n29.01.2024 kl 13-14 infotund toimub Zoomis ja seal saab ülevaate:  \n\ntaotlustingimustest\nrahastusskeemist\ntaotlemisprotsessist\n\nRegistreerumine siin. \nLink saadetakse registreerunutele paar päeva enne ürituse toimumist. \nTutvu DiscoverEU kaasatusega juba nüüd SIIT. \nLisainfo:\nKaasatus ja mitmekesisus Mirjam Kodi\, mirjam.kodi@harno.ee\nDiscoverEU Lisete Tammeveski\, lisete.tammeveski@harno.ee \nAllikas: https://euroopanoored.eu/uudised/disovereu-kaasatuse-projektide-infotunnid-toimuvad-22-ja-29-jaanuar/
URL:https://www.teeviit.ee/sundmus/infotund-discover-eu-kaasatuse-projektid-2/
LOCATION:Zoom
CATEGORIES:Infotund
END:VEVENT
END:VCALENDAR