BEGIN:VCALENDAR
VERSION:2.0
PRODID:-//Teeviit - ECPv6.15.4//NONSGML v1.0//EN
CALSCALE:GREGORIAN
METHOD:PUBLISH
X-WR-CALNAME:Teeviit
X-ORIGINAL-URL:https://www.teeviit.ee
X-WR-CALDESC:Events for Teeviit
REFRESH-INTERVAL;VALUE=DURATION:PT1H
X-Robots-Tag:noindex
X-PUBLISHED-TTL:PT1H
BEGIN:VTIMEZONE
TZID:Europe/Helsinki
BEGIN:DAYLIGHT
TZOFFSETFROM:+0200
TZOFFSETTO:+0300
TZNAME:EEST
DTSTART:20230326T010000
END:DAYLIGHT
BEGIN:STANDARD
TZOFFSETFROM:+0300
TZOFFSETTO:+0200
TZNAME:EET
DTSTART:20231029T010000
END:STANDARD
END:VTIMEZONE
BEGIN:VTIMEZONE
TZID:Europe/Helsinki
BEGIN:DAYLIGHT
TZOFFSETFROM:+0200
TZOFFSETTO:+0300
TZNAME:EEST
DTSTART:20230326T010000
END:DAYLIGHT
BEGIN:STANDARD
TZOFFSETFROM:+0300
TZOFFSETTO:+0200
TZNAME:EET
DTSTART:20231029T010000
END:STANDARD
END:VTIMEZONE
BEGIN:VEVENT
DTSTART;VALUE=DATE:20231104
DTEND;VALUE=DATE:20231105
DTSTAMP:20260423T222542
CREATED:20230830T104825Z
LAST-MODIFIED:20230830T105009Z
UID:29284-1699056000-1699142399@www.teeviit.ee
SUMMARY:AHHAA Robolahing
DESCRIPTION:AHHAA Robolahing toimub 4.11.23 Tartu Kammivabrikus! \nRobolahing on Baltikumis ja Põhjamaades ainulaadne puldiga juhitavatele või autonoomsetele lahingurobotitele mõeldud võistlus\, kus masinad püüavad üksteist spetsiaalselt võitluseks ehitatud areenil kahjutuks teha. \nLoe lisa: https://robolahing.ee/. \n\n 
URL:https://www.teeviit.ee/sundmus/ahhaa-robilahing/
LOCATION:Tartu
CATEGORIES:Konkurss
ATTACH;FMTTYPE=image/jpeg:https://www.teeviit.ee/wp-content/uploads/2023/08/robo001.jpg
END:VEVENT
BEGIN:VEVENT
DTSTART;TZID=Europe/Helsinki:20231111T000000
DTEND;TZID=Europe/Helsinki:20231111T000000
DTSTAMP:20260423T222542
CREATED:20230508T081823Z
LAST-MODIFIED:20231024T110137Z
UID:21110-1699660800-1699660800@www.teeviit.ee
SUMMARY:Telia Cyber Battle of Nordic-Baltics 2023
DESCRIPTION:Telia Cyber Battle of Nordic-Baltics 2023 toimub 11. novembril. \nTegu on suurima Põhja-Balti regiooni parimate eetiliste häkkerite üritusega\, mille eesmärk on tõsta noorte ja õppeasutuste teadlikkust küberturvalisusest.  Eesmärk on õpetada küberturvalisuse põhialuseid praktilisel\, realistlikul ja eetilisel iisil\, et parandada kogukonna küberturvalisuse oskuseid ning muuta seeläbi ühiskonda stabiilsemaks ja turvalisemaks.
URL:https://www.teeviit.ee/sundmus/cyber-battle-of-nordic-baltics-2023/
LOCATION:Tartu
CATEGORIES:Konkurss
ATTACH;FMTTYPE=image/jpeg:https://www.teeviit.ee/wp-content/uploads/2023/05/teeviit_pais-e1698390225754.jpeg
END:VEVENT
BEGIN:VEVENT
DTSTART;VALUE=DATE:20231113
DTEND;VALUE=DATE:20231120
DTSTAMP:20260423T222542
CREATED:20230524T103856Z
LAST-MODIFIED:20230830T105150Z
UID:25220-1699833600-1700438399@www.teeviit.ee
SUMMARY:Üle-eestiline noorsootöö nädal
DESCRIPTION:Noorsootöö nädala fookusesse on sel aastal võetud noorte keskkonnateadlikkuse edendamine. \nKeskendutakse keskkonnasõbralikule eluviisile\, kliimamuutuste leevendamise võimalustele\, jätkusuutlike lahenduste tutvustamisele ning sellele kuidas noorte- ja haridusvaldkonnas toetada kestlikku arengut. Nädala tähistamine toimub sel aastal 13. korda ja leiab aset 13.- 19. novembril 2023. \nNoorteinfoportaal Teeviit ja Haridus- ja Noorteamet kutsuvad noori\, noorte- ja haridusvaldkonna töötajaid ning -asutusi\, partnereid\, otsustajaid ning teisi osapooli fookusteemadel arutlema ning temaatilisi tegevusi korraldama.
URL:https://www.teeviit.ee/sundmus/ule-eestiline-noorsootoo-nadal/
LOCATION:Üle-eestiline
CATEGORIES:teemanädal
ATTACH;FMTTYPE=image/png:https://www.teeviit.ee/wp-content/uploads/2023/05/teeviit-postkaart-mai-2023.png
END:VEVENT
BEGIN:VEVENT
DTSTART;VALUE=DATE:20231119
DTEND;VALUE=DATE:20231120
DTSTAMP:20260423T222542
CREATED:20231031T083811Z
LAST-MODIFIED:20231031T083811Z
UID:31945-1700352000-1700438399@www.teeviit.ee
SUMMARY:Mini Negavatt: Toitu raiskav maailm
DESCRIPTION:Oodatakse I-IV klasside noorte lennukaid lahendusi toiduraiskamise probleemile. Filmi üles oma idee üles ning saada video hiljemalt 19.november mini Negavatt konkrusile! \nPeaauhinnaks on vabal valikul klassireis 700 euro ulatuses ning hariduslikud eriauhinnad meie partneritelt! \nLoe rohkem Negavatt veebist.
URL:https://www.teeviit.ee/sundmus/mini-negavatt-toitu-raiskav-maailm/
LOCATION:Veebis
CATEGORIES:Konkurss
ATTACH;FMTTYPE=image/jpeg:https://www.teeviit.ee/wp-content/uploads/2023/10/negavatt.jpg
END:VEVENT
BEGIN:VEVENT
DTSTART;TZID=Europe/Helsinki:20231121T110000
DTEND;TZID=Europe/Helsinki:20231121T120000
DTSTAMP:20260423T222542
CREATED:20231117T105229Z
LAST-MODIFIED:20231117T105517Z
UID:32594-1700564400-1700568000@www.teeviit.ee
SUMMARY:EU valimiste projekti #walkthetalk tutvustus
DESCRIPTION:Hea noor!\n\nLähed 2024.a kevadel esimest korda elus valima? Või osaled esimest korda Euroopa Parlamendi valimistel? Kui jah\, siis see veebiseminar on just Sulle!\n\n\n\n#WalkTheTalk on noortele suunatud kampaania\, mille eesmärk on tutvustada kõikidele Euroopa noortele osaluse ja kaasatuse võimalusi\, kaasarääkimise võimalusi Euroopa Liidu tasandi poliitikate kujundamise\, valimiste olulisust ja vajalikkust ning Euroopa Parlamendi valimisi. \n\n\n21. november toimub veebiseminar\, kus tutvustatakse #WalkTheTalk kampaaniat. Veebiseminar on inglise keeles. Eesti aja järgi on algusaeg kell 11.00\, Euroopa aja järgi kell 10.00.\n\n Liitu: https://bit.ly/3u4hHGu.\n\n\n\nVaata ka:\n\nwww.walkthetalkeu.com (vali eesti keel menüüst)\nwww.instagram.com/walkthetalk_eu/\nwww.instagram.com/valimiskast/ \n\n\n\n\n\nLoe lisa: https://www.eryica.org/project/eu-inform.\n\nKampaania toimub projekti „EU inFORM” raames\, mida korraldab Eryica – European Youth Information and Counselling Agency ning tegevustest võtab osa Haridus- ja Noorteamet ja Teeviit.
URL:https://www.teeviit.ee/sundmus/eu-valimiste-projekti-walkthetalk-tutvustus/
LOCATION:Veebis
CATEGORIES:veebinar
END:VEVENT
BEGIN:VEVENT
DTSTART;VALUE=DATE:20231130
DTEND;VALUE=DATE:20231201
DTSTAMP:20260423T222542
CREATED:20230923T100507Z
LAST-MODIFIED:20230923T100507Z
UID:29967-1701302400-1701388799@www.teeviit.ee
SUMMARY:Arvustusvõistlus Kapsas
DESCRIPTION:Maailmas on väga palju raamatuid. Kuidas valida\, mida lugema hakata? Üks võimalus on lugeda raamatuarvustust ja teha selle põhjal otsus. Et jaguks häid arvustusi ja arvustajaid\, kuulutavad Eesti Lastekirjanduse Keskus\, ajakiri Hea Laps ja Õpetajate Leht välja raamatuarvustuste kirjutamise võistluse Kapsas. \n  \nLoe pikemalt Eesti Lastekirjanduse Keskuse veebist.
URL:https://www.teeviit.ee/sundmus/arvustusvoistlus-kapsas/
LOCATION:Veebis
CATEGORIES:Konkurss
ATTACH;FMTTYPE=image/jpeg:https://www.teeviit.ee/wp-content/uploads/2023/09/arvustusvoistlus.jpg
END:VEVENT
END:VCALENDAR